{"text_format":"1","workbook":"xlsx","n_sheets":19,"sheets":["Установка","СписокСудей","Общий список","Регистрация ОТ","Лист регистрации ОТ","Лист ожидания","ОЖ","ПодгОТ","ОТ32","ОТ24","ОТ16","ПодгДТ32","ДТ32","ПодгДТ24","ДТ24","ПодгДТ16","ДТ16","Алфавитный список","Неявки"],"not_rendered":{"charts":0,"images":24,"macros":1,"external_links":0,"defined_names":56,"comments":0,"pivot_tables":0},"unopened":[],"bounds":{"document_bytes":16777216,"sheet_cells":100000,"rows_first":2000,"rows_last":500,"rows_between":2000,"halvings":0,"cell_chars":16384,"cell_head_chars":4096},"cells_cut":0,"cells_raw":0,"read":"whole","date_system":"1900"}

{"sheet":"Установка","index":0,"n_rows":100,"n_cols":20,"rows_kept":100,"cut":false,"hidden":false,"merged":[[14,2,14,5],[9,2,9,5],[10,2,10,5],[11,2,11,5],[57,1,57,2],[58,1,58,2],[55,1,55,2],[56,1,56,2],[15,2,15,5],[54,1,54,2],[50,1,50,2],[51,1,51,2],[52,1,52,2],[53,1,53,2],[3,11,6,13],[5,2,5,5],[13,2,13,5],[0,2,0,5],[2,2,2,5],[3,2,3,5],[4,2,4,5],[8,2,8,5],[6,2,6,5]]}
[null,null,"ОДИНОЧНЫЙ РАЗРЯД\nолимпийская система\nбез отборочного этапа",null,null,null,null,null,null,null,null,null,null,null,null,null,null,null,null,"Турнир РТТ, версия 2016"]
[]
[null,"Название турнира","Первенство Республики Татарстан"]
[null,"Возрастная группа",{"$f":"IF(A26=0,\"\",INDEX(B26:B32,A26))","v":"9-10 лет"},null,null,null,null,null,null,null,null,"C:\\Users\\user5a10\\Desktop\\Шаблоны"]
[null,"Пол игроков",{"$f":"IF(A34=0,\"\",INDEX(C34:C35,A34))","v":"Девушки"}]
[null,"Место проведения","Казань"]
[null,"Сроки проведения","18-24.11.2017."]
[null,"Категория, класс",{"$f":"CONCATENATE(D8,E8)","v":"IVБ"},{"$f":"IF(A37=0,\"\",INDEX(B37:B43,A37))","v":"IV"},{"$f":"IF(A45=0,\"\",INDEX($B$45:$B$49,$A$45))","v":"Б"}]
[null,"DeadLine","06.11.2017."]
[null,"Дата классификации","06.11.2017."]
[null,"Главный судья","Ситников Д.В."]
[null,"Главный секретарь"]
[]
[null,"Взнос в ОТ"]
[null,"Формат таблицы"]
[null,"Количество СК"]
[]
[]
[]
[null,"признак проведения жеребьевки квала"]
[{"$f":"IF(OR(ОТ32!C8>3,ОТ24!C8>3,ОТ16!C8>3),1,0)","v":1},"признак проведения жеребьевки основы"]
[null,"признак проведения жеребьевки пар"]
[{"$f":"SUM(A20:A22)","v":1},"признак проведения одной из жеребьевок"]
[]
[null,{"$f":"IF(A34=0,\"\",IF(A34=1,IF(A26<6,\"Ю\",\"М\"),IF(A26<6,\"Д\",\"Ж\")))","v":"Д"},{"$f":"IF(A26=0,\"\",INDEX(C26:C32,A26))","v":"10"},{"$f":"CONCATENATE(B25,C25)","v":"Д10"},{"$f":"IF(A34=0,\"\",UPPER(INDEX(C34:C36,A34)))","v":"ДЕВУШКИ"},{"$f":"IF(A26=0,\"\",UPPER(INDEX(E26:E32,A26)))","v":"9-10 ЛЕТ"},{"$f":"CONCATENATE(E25,\" \",F25)","v":"ДЕВУШКИ 9-10 ЛЕТ"}]
[1,"9-10 лет","10",true,{"$f":"B26","v":"9-10 лет"}]
[null,{"$f":"IF(D26,\"до 13 лет\",\"12 лет и моложе\")","v":"до 13 лет"},"13",null,{"$f":"B27","v":"до 13 лет"}]
[null,{"$f":"IF(D26,\"до 15 лет\",\"14 лет и моложе\")","v":"до 15 лет"},"15",null,{"$f":"B28","v":"до 15 лет"}]
[null,{"$f":"IF(D26,\"до 17 лет\",\"16 лет и моложе\")","v":"до 17 лет"},"17",null,{"$f":"B29","v":"до 17 лет"}]
[null,{"$f":"IF(D26,\"до 19 лет\",\"18 лет и моложе\")","v":"до 19 лет"},"19",null,{"$f":"B30","v":"до 19 лет"}]
[null,"Взрослые"," "]
[null,"Ветераны"," "]
[]
[2,"Мужской",{"$f":"IF(A26>5,\"Мужчины\",IF(A26=5,\"Юниоры\",\"Юноши\"))","v":"Юноши"}]
[null,"Женский",{"$f":"IF(A26>5,\"Женщины\",IF(A26=5,\"Юниорки\",\"Девушки\"))","v":"Девушки"}]
[]
[5,"ФТ",null,"Формат таблицы",null,null,null,"Количество СК"]
[null,"I",1,"32 игрока",32,null,7,0]
[null,"II",null,"24 игрока",24,null,null,1]
[null,"III",null,"16 игроков",16,null,null,2]
[null,"IV",null,null,null,null,null,3]
[null,"V",null,null,null,null,null,4]
[null,"VI",null,null,null,null,null,5]
[null,null,null,null,null,null,null,6]
[2,"А",null,null,null,null,null,7]
[null,"Б",null,null,null,null,null,8]
[null,"В"]
[null,"Г"]
[null,"-"]
[null,null,"рабочая таблица"]
[null,"ОТ",null,{"$f":"INDEX(E38:E40,C38)","v":32}]
[null,"Основные ОТ",null,{"$f":"D51-D53","v":26}]
[null,"Количество СК",null,{"$f":"INDEX(H38:H46,G38)","v":6}]
[null,"Имя таблицы ОТ",null,{"$f":"CONCATENATE(\"ОТ\",D51)","v":"ОТ32"}]
[null,"Наличие ОЭ",null,false]
[null,"Имя таблицы ДТ",null,{"$f":"CONCATENATE(\"ДТ\",D51)","v":"ДТ32"}]
[null,"Имя таблицы подготовки ДТ",null,{"$f":"CONCATENATE(\"ПодгДТ\",D51)","v":"ПодгДТ32"}]
[null,"Система проведения",null,"олимпийская"]
[null,"Разряд",null,"одиночный"]
[]
[]
[]
[]
[]
[]
[]
[]
[]
[]
[]
[]
[]
[]
[]
[]
[]
[]
[]
[]
[]
[]
[]
[]
[]
[]
[]
[]
[]
[]
[]
[]
[]
[]
[]
[]
[]
[]
[]
[null,"Печать для РТТ"]
[null,true]

{"sheet":"СписокСудей","index":1,"n_rows":219,"n_cols":20,"rows_kept":219,"cut":false,"hidden":false,"merged":[[0,1,0,7],[2,3,2,5],[1,1,1,7]]}
[null,"СУДЬИ НА ВЫШКЕ\nТУРНИРА РТТ\n(список используется при назначениях судей)"]
[null,{"$f":"UPPER(Установка!C3)","v":"ПЕРВЕНСТВО РЕСПУБЛИКИ ТАТАРСТАН"}]
[]
[]
[null,null,null,1,null,null,null,null,null,null,{"$f":"LEN(E5)","v":0},{"$f":"IF((K5)=0,0,FIND(\" \",E5))","v":0},{"$f":"IF(OR(ISERR(L5),K5=0),\"\",CONCATENATE(UPPER(MID(E5,L5+1,1)),\".\"))","v":""},{"$f":"IF(LEN(E5)=0,0,FIND(\" \",E5,L5+1))","v":0},{"$f":"IF(OR(K5=0,ISERR(N5)),\"\",CONCATENATE(MID(E5,N5+1,1),\".\"))","v":""},{"$f":"IF(E5=\"\",\"\",IF(ISERR(L5),E5,MID(E5,1,L5-1)))","v":""},{"$f":"CONCATENATE(M5,O5)","v":""},{"$f":"IF(E5=\"\",\"\",IF(ISERR(L5),\"\",IF(ISERR(N5),MID(E5,L5,K5-L5+1),MID(E5,L5,N5-L5))))","v":""},{"$f":"IF(P5=\"\",0,COUNTIF($P$5:$P$35,P5))","v":0},{"$f":"IF(S5>1,CONCATENATE(P5,R5),P5)","v":""}]
[null,null,null,{"$f":"D5+1","v":2},null,null,null,null,null,null,0,0,"",0,"",{"$f":"IF(E6=\"\",\"\",IF(ISERR(L6),E6,MID(E6,1,L6-1)))","v":""},"",{"$f":"IF(E6=\"\",\"\",IF(ISERR(L6),\"\",IF(ISERR(N6),MID(E6,L6,K6-L6+1),MID(E6,L6,N6-L6))))","v":""},{"$f":"IF(P6=\"\",0,COUNTIF($P$5:$P$35,P6))","v":0},""]
[null,null,null,{"$f":"D6+1","v":3},null,null,null,null,null,null,0,0,"",0,"","","","",0,""]
[null,null,null,4,null,null,null,null,null,null,0,0,"",0,"","","","",0,""]
[null,null,null,5,null,null,null,null,null,null,0,0,"",0,"","","","",0,""]
[null,null,null,6,null,null,null,null,null,null,0,0,"",0,"","","","",0,""]
[null,null,null,7,null,null,null,null,null,null,{"$f":"LEN(E11)","v":0},{"$f":"IF((K11)=0,0,FIND(\" \",E11))","v":0},{"$f":"IF(OR(ISERR(L11),K11=0),\"\",CONCATENATE(UPPER(MID(E11,L11+1,1)),\".\"))","v":""},{"$f":"IF(LEN(E11)=0,0,FIND(\" \",E11,L11+1))","v":0},{"$f":"IF(OR(K11=0,ISERR(N11)),\"\",CONCATENATE(MID(E11,N11+1,1),\".\"))","v":""},{"$f":"IF(E11=\"\",\"\",IF(ISERR(L11),E11,MID(E11,1,L11-1)))","v":""},{"$f":"CONCATENATE(M11,O11)","v":""},{"$f":"IF(E11=\"\",\"\",IF(ISERR(L11),\"\",IF(ISERR(N11),MID(E11,L11,K11-L11+1),MID(E11,L11,N11-L11))))","v":""},{"$f":"IF(P11=\"\",0,COUNTIF($P$5:$P$35,P11))","v":0},{"$f":"IF(S11>1,CONCATENATE(P11,R11),P11)","v":""}]
[null,null,null,8,null,null,null,null,null,null,0,0,"",0,"","","","",0,""]
[null,null,null,9,null,null,null,null,null,null,0,0,"",0,"","","","",0,""]
[null,null,null,10,null,null,null,null,null,null,0,0,"",0,"","","","",0,""]
[null,null,null,11,null,null,null,null,null,null,0,0,"",0,"","","","",0,""]
[null,null,null,12,null,null,null,null,null,null,0,0,"",0,"","","","",0,""]
[null,null,null,13,null,null,null,null,null,null,0,0,"",0,"","","","",0,""]
[null,null,null,14,null,null,null,null,null,null,0,0,"",0,"","","","",0,""]
[null,null,null,15,null,null,null,null,null,null,0,0,"",0,"","","","",0,""]
[null,null,null,16,null,null,null,null,null,null,0,0,"",0,"","","","",0,""]
[null,null,null,17,null,null,null,null,null,null,0,0,"",0,"","","","",0,""]
[null,null,null,18,null,null,null,null,null,null,0,0,"",0,"","","","",0,""]
[null,null,null,19,null,null,null,null,null,null,0,0,"",0,"","","","",0,""]
[null,null,null,20,null,null,null,null,null,null,0,0,"",0,"","","","",0,""]
[null,null,null,21,null,null,null,null,null,null,0,0,"",0,"","","","",0,""]
[null,null,null,22,null,null,null,null,null,null,0,0,"",0,"","","","",0,""]
[null,null,null,23,null,null,null,null,null,null,0,0,"",0,"","","","",0,""]
[null,null,null,24,null,null,null,null,null,null,0,0,"",0,"","","","",0,""]
[null,null,null,25,null,null,null,null,null,null,0,0,"",0,"","","","",0,""]
[null,null,null,26,null,null,null,null,null,null,0,0,"",0,"","","","",0,""]
[null,null,null,27,null,null,null,null,null,null,0,0,"",0,"","","","",0,""]
[null,null,null,28,null,null,null,null,null,null,0,0,"",0,"","","","",0,""]
[null,null,null,29,null,null,null,null,null,null,0,0,"",0,"","","","",0,""]
[null,null,null,30,null,null,null,null,null,null,0,0,"",0,"","","","",0,""]
[]
[]
[]
[]
[]
[]
[]
[]
[]
[]
[]
[]
[]
[]
[]
[]
[]
[]
[]
[]
[]
[]
[]
[]
[]
[]
[]
[]
[]
[]
[]
[]
[]
[]
[]
[]
[]
[]
[]
[]
[]
[]
[]
[]
[]
[]
[]
[]
[]
[]
[]
[]
[]
[]
[]
[]
[]
[]
[]
[]
[]
[]
[]
[]
[]
[]
[]
[]
[]
[]
[]
[]
[]
[]
[]
[]
[]
[]
[]
[]
[]
[]
[]
[]
[]
[]
[]
[]
[]
[]
[]
[]
[]
[]
[]
[]
[]
[]
[]
[]
[]
[]
[]
[]
[]
[]
[]
[]
[]
[]
[]
[]
[]
[]
[]
[]
[]
[]
[]
[]
[]
[]
[]
[]
[]
[]
[]
[]
[]
[]
[]
[]
[]
[]
[]
[]
[]
[]
[]
[]
[]
[]
[]
[]
[]
[]
[]
[]
[]
[]
[]
[]
[]
[]
[]
[]
[]
[]
[]
[]
[]
[]
[]
[]
[]
[]
[]
[]
[]
[]
[]
[]
[]
[]
[]
[]
[]
[null,null,null,"ВК"]
[null,null,null,"ВсК"]
[null,null,null,"РК"]
[null,null,null,"1К"]
[null,null,null,"2К"]
[null,null,null,"3К"]
[null,null,null,"ЮС"]
[null,null,null,"б/к"]

{"sheet":"Общий список","index":2,"n_rows":170,"n_cols":21,"rows_kept":170,"cut":false,"hidden":false,"merged":[[158,0,158,1],[3,3,3,5],[0,0,0,9],[1,0,1,9],[2,0,2,9]]}
["ФОРМИРОВАНИЕ СПИСКА ИГРОКОВ ТУРНИРА РТТ"]
[{"$f":"UPPER(Установка!C3)","v":"ПЕРВЕНСТВО РЕСПУБЛИКИ ТАТАРСТАН"}]
["(название турнира)"]
[null,null,"в возрастной группе",{"$f":"UPPER(Установка!C4)","v":"9-10 ЛЕТ"},null,null,null,{"$f":"IF(Установка!C5=\"\",\"Ю/Д/М/Ж\",UPPER(Установка!C5))","v":"ДЕВУШКИ"}]
[null,null,null,null,null,null,null,null,null,null,null,{"$f":"IF(K5=0,\"\",INDEX(C8:C107,K5))","v":""},{"$f":"IF(K5=0,0,INDEX(B8:B107,K5))","v":0}]
[null,null,{"$f":"COUNTA(C8:C157)","v":0},null,null,null,null,{"$f":"COUNTA(H8:H157)","v":0},{"$f":"COUNTIF(I8:I157,\"СК\")","v":0},{"$f":"COUNTIF(J8:J157,\"СК\")","v":0},null,{"$f":"COUNTIF(L8:L157,1)","v":0},{"$f":"COUNTIF(M8:M157,1)","v":0}]
["№","Рейтинг","Фамилия, И.О. игрока","РНИ","Дата рожд.","Город","Оплата","Поздняя заявка (если имеется, указать дату)","Свободная карта в ОТ (если имеется, указать СК)","Свободная карта в ОЭ (если имеется, указать СК)","Признак поздней заявки","СК-основа","СК-квал"]
[{"$f":"ROW()-7","v":1},null,null,null,null,null,null,null,null,null,{"$f":"IF(ISBLANK(C8),2,IF(ISBLANK(H8),0,1))","v":2},{"$f":"IF(I8=\"СК\",1,0)","v":0},{"$f":"IF(J8=\"СК\",1,0)*(1-L8)","v":0},null,{"$f":"LEN(C8)","v":0},{"$f":"IF((O8)=0,0,FIND(\" \",C8))","v":0},{"$f":"IF(OR(ISERR(P8),O8=0),\"\",CONCATENATE(MID(C8,P8+1,1),\".\"))","v":""},{"$f":"IF(LEN(C8)=0,0,FIND(\" \",C8,P8+1))","v":0},{"$f":"IF(OR(O8=0,ISERR(R8)),\"\",CONCATENATE(MID(C8,R8+1,1),\".\"))","v":""},{"$f":"IF(C8=\"\",\"\",IF(ISERR(P8),UPPER(C8),UPPER(MID(C8,1,P8-1))))","v":""},{"$f":"CONCATENATE(Q8,S8)","v":""}]
[2,null,null,null,null,null,null,null,null,null,2,0,0,null,0,0,"",0,"","",""]
[3,null,null,null,null,null,null,null,null,null,2,0,0,null,0,0,"",0,"","",""]
[4,null,null,null,null,null,null,null,null,null,2,0,0,null,0,0,"",0,"","",""]
[5,null,null,null,null,null,null,null,null,null,2,0,0,null,0,0,"",0,"","",""]
[6,null,null,null,null,null,null,null,null,null,2,0,0,null,0,0,"",0,"","",""]
[7,null,null,null,null,null,null,null,null,null,2,0,0,null,0,0,"",0,"","",""]
[8,null,null,null,null,null,null,null,null,null,2,0,0,null,0,0,"",0,"","",""]
[9,null,null,null,null,null,null,null,null,null,2,0,0,null,0,0,"",0,"","",""]
[10,null,null,null,null,null,null,null,null,null,2,0,0,null,0,0,"",0,"","",""]
[11,null,null,null,null,null,null,null,null,null,2,0,0,null,0,0,"",0,"","",""]
[12,null,null,null,null,null,null,null,null,null,2,0,0,null,0,0,"",0,"","",""]
[13,null,null,null,null,null,null,null,null,null,2,0,0,null,0,0,"",0,"","",""]
[14,null,null,null,null,null,null,null,null,null,2,0,0,null,0,0,"",0,"","",""]
[15,null,null,null,null,null,null,null,null,null,2,0,0,null,0,0,"",0,"","",""]
[16,null,null,null,null,null,null,null,null,null,2,0,0,null,0,0,"",0,"","",""]
[17,null,null,null,null,null,null,null,null,null,2,0,0,null,0,0,"",0,"","",""]
[18,null,null,null,null,null,null,null,null,null,2,0,0,null,0,0,"",0,"","",""]
[19,null,null,null,null,null,null,null,null,null,2,0,0,null,0,0,"",0,"","",""]
[20,null,null,null,null,null,null,null,null,null,2,0,0,null,0,0,"",0,"","",""]
[21,null,null,null,null,null,null,null,null,null,2,0,0,null,0,0,"",0,"","",""]
[22,null,null,null,null,null,null,null,null,null,2,0,0,null,0,0,"",0,"","",""]
[23,null,null,null,null,null,null,null,null,null,2,0,0,null,0,0,"",0,"","",""]
[24,null,null,null,null,null,null,null,null,null,2,0,0,null,0,0,"",0,"","",""]
[25,null,null,null,null,null,null,null,null,null,2,0,0,null,0,0,"",0,"","",""]
[26,null,null,null,null,null,null,null,null,null,2,0,0,null,0,0,"",0,"","",""]
[27,null,null,null,null,null,null,null,null,null,2,0,0,null,0,0,"",0,"","",""]
[28,null,null,null,null,null,null,null,null,null,2,0,0,null,0,0,"",0,"","",""]
[29,null,null,null,null,null,null,null,null,null,2,0,0,null,0,0,"",0,"","",""]
[30,null,null,null,null,null,null,null,null,null,2,0,0,null,0,0,"",0,"","",""]
[31,null,null,null,null,null,null,null,null,null,2,0,0,null,0,0,"",0,"","",""]
[{"$f":"ROW()-7","v":32},null,null,null,null,null,null,null,null,null,2,0,0,null,0,0,"",0,"","",""]
[33,null,null,null,null,null,null,null,null,null,{"$f":"IF(ISBLANK(C40),2,IF(ISBLANK(H40),0,1))","v":2},{"$f":"IF(I40=\"СК\",1,0)","v":0},{"$f":"IF(J40=\"СК\",1,0)*(1-L40)","v":0},null,{"$f":"LEN(C40)","v":0},{"$f":"IF((O40)=0,0,FIND(\" \",C40))","v":0},{"$f":"IF(OR(ISERR(P40),O40=0),\"\",CONCATENATE(MID(C40,P40+1,1),\".\"))","v":""},{"$f":"IF(LEN(C40)=0,0,FIND(\" \",C40,P40+1))","v":0},{"$f":"IF(OR(O40=0,ISERR(R40)),\"\",CONCATENATE(MID(C40,R40+1,1),\".\"))","v":""},{"$f":"IF(C40=\"\",\"\",IF(ISERR(P40),UPPER(C40),UPPER(MID(C40,1,P40-1))))","v":""},{"$f":"CONCATENATE(Q40,S40)","v":""}]
[34,null,null,null,null,null,null,null,null,null,2,0,0,null,0,0,"",0,"","",""]
[35,null,null,null,null,null,null,null,null,null,2,0,0,null,0,0,"",0,"","",""]
[36,null,null,null,null,null,null,null,null,null,2,0,0,null,0,0,"",0,"","",""]
[37,null,null,null,null,null,null,null,null,null,2,0,0,null,0,0,"",0,"","",""]
[38,null,null,null,null,null,null,null,null,null,2,0,0,null,0,0,"",0,"","",""]
[39,null,null,null,null,null,null,null,null,null,2,0,0,null,0,0,"",0,"","",""]
[40,null,null,null,null,null,null,null,null,null,2,0,0,null,0,0,"",0,"","",""]
[41,null,null,null,null,null,null,null,null,null,2,0,0,null,0,0,"",0,"","",""]
[42,null,null,null,null,null,null,null,null,null,2,0,0,null,0,0,"",0,"","",""]
[43,null,null,null,null,null,null,null,null,null,2,0,0,null,0,0,"",0,"","",""]
[44,null,null,null,null,null,null,null,null,null,2,0,0,null,0,0,"",0,"","",""]
[45,null,null,null,null,null,null,null,null,null,2,0,0,null,0,0,"",0,"","",""]
[46,null,null,null,null,null,null,null,null,null,2,0,0,null,0,0,"",0,"","",""]
[47,null,null,null,null,null,null,null,null,null,2,0,0,null,0,0,"",0,"","",""]
[48,null,null,null,null,null,null,null,null,null,2,0,0,null,0,0,"",0,"","",""]
[49,null,null,null,null,null,null,null,null,null,2,0,0,null,0,0,"",0,"","",""]
[50,null,null,null,null,null,null,null,null,null,2,0,0,null,0,0,"",0,"","",""]
[51,null,null,null,null,null,null,null,null,null,2,0,0,null,0,0,"",0,"","",""]
[52,null,null,null,null,null,null,null,null,null,2,0,0,null,0,0,"",0,"","",""]
[53,null,null,null,null,null,null,null,null,null,2,0,0,null,0,0,"",0,"","",""]
[54,null,null,null,null,null,null,null,null,null,2,0,0,null,0,0,"",0,"","",""]
[55,null,null,null,null,null,null,null,null,null,2,0,0,null,0,0,"",0,"","",""]
[56,null,null,null,null,null,null,null,null,null,2,0,0,null,0,0,"",0,"","",""]
[57,null,null,null,null,null,null,null,null,null,2,0,0,null,0,0,"",0,"","",""]
[58,null,null,null,null,null,null,null,null,null,2,0,0,null,0,0,"",0,"","",""]
[59,null,null,null,null,null,null,null,null,null,2,0,0,null,0,0,"",0,"","",""]
[60,null,null,null,null,null,null,null,null,null,2,0,0,null,0,0,"",0,"","",""]
[61,null,null,null,null,null,null,null,null,null,2,0,0,null,0,0,"",0,"","",""]
[62,null,null,null,null,null,null,null,null,null,2,0,0,null,0,0,"",0,"","",""]
[63,null,null,null,null,null,null,null,null,null,2,0,0,null,0,0,"",0,"","",""]
[{"$f":"ROW()-7","v":64},null,null,null,null,null,null,null,null,null,2,0,0,null,0,0,"",0,"","",""]
[65,null,null,null,null,null,null,null,null,null,{"$f":"IF(ISBLANK(C72),2,IF(ISBLANK(H72),0,1))","v":2},{"$f":"IF(I72=\"СК\",1,0)","v":0},{"$f":"IF(J72=\"СК\",1,0)*(1-L72)","v":0},null,{"$f":"LEN(C72)","v":0},{"$f":"IF((O72)=0,0,FIND(\" \",C72))","v":0},{"$f":"IF(OR(ISERR(P72),O72=0),\"\",CONCATENATE(MID(C72,P72+1,1),\".\"))","v":""},{"$f":"IF(LEN(C72)=0,0,FIND(\" \",C72,P72+1))","v":0},{"$f":"IF(OR(O72=0,ISERR(R72)),\"\",CONCATENATE(MID(C72,R72+1,1),\".\"))","v":""},{"$f":"IF(C72=\"\",\"\",IF(ISERR(P72),UPPER(C72),UPPER(MID(C72,1,P72-1))))","v":""},{"$f":"CONCATENATE(Q72,S72)","v":""}]
[66,null,null,null,null,null,null,null,null,null,2,0,0,null,0,0,"",0,"","",""]
[67,null,null,null,null,null,null,null,null,null,2,0,0,null,0,0,"",0,"","",""]
[68,null,null,null,null,null,null,null,null,null,2,0,0,null,0,0,"",0,"","",""]
[69,null,null,null,null,null,null,null,null,null,2,0,0,null,0,0,"",0,"","",""]
[70,null,null,null,null,null,null,null,null,null,2,0,0,null,0,0,"",0,"","",""]
[71,null,null,null,null,null,null,null,null,null,2,0,0,null,0,0,"",0,"","",""]
[72,null,null,null,null,null,null,null,null,null,2,0,0,null,0,0,"",0,"","",""]
[73,null,null,null,null,null,null,null,null,null,2,0,0,null,0,0,"",0,"","",""]
[74,null,null,null,null,null,null,null,null,null,2,0,0,null,0,0,"",0,"","",""]
[75,null,null,null,null,null,null,null,null,null,2,0,0,null,0,0,"",0,"","",""]
[76,null,null,null,null,null,null,null,null,null,2,0,0,null,0,0,"",0,"","",""]
[77,null,null,null,null,null,null,null,null,null,2,0,0,null,0,0,"",0,"","",""]
[78,null,null,null,null,null,null,null,null,null,2,0,0,null,0,0,"",0,"","",""]
[79,null,null,null,null,null,null,null,null,null,2,0,0,null,0,0,"",0,"","",""]
[80,null,null,null,null,null,null,null,null,null,2,0,0,null,0,0,"",0,"","",""]
[81,null,null,null,null,null,null,null,null,null,2,0,0,null,0,0,"",0,"","",""]
[82,null,null,null,null,null,null,null,null,null,2,0,0,null,0,0,"",0,"","",""]
[83,null,null,null,null,null,null,null,null,null,2,0,0,null,0,0,"",0,"","",""]
[84,null,null,null,null,null,null,null,null,null,2,0,0,null,0,0,"",0,"","",""]
[85,null,null,null,null,null,null,null,null,null,2,0,0,null,0,0,"",0,"","",""]
[86,null,null,null,null,null,null,null,null,null,2,0,0,null,0,0,"",0,"","",""]
[87,null,null,null,null,null,null,null,null,null,2,0,0,null,0,0,"",0,"","",""]
[88,null,null,null,null,null,null,null,null,null,2,0,0,null,0,0,"",0,"","",""]
[89,null,null,null,null,null,null,null,null,null,2,0,0,null,0,0,"",0,"","",""]
[90,null,null,null,null,null,null,null,null,null,2,0,0,null,0,0,"",0,"","",""]
[91,null,null,null,null,null,null,null,null,null,2,0,0,null,0,0,"",0,"","",""]
[92,null,null,null,null,null,null,null,null,null,2,0,0,null,0,0,"",0,"","",""]
[93,null,null,null,null,null,null,null,null,null,2,0,0,null,0,0,"",0,"","",""]
[94,null,null,null,null,null,null,null,null,null,2,0,0,null,0,0,"",0,"","",""]
[95,null,null,null,null,null,null,null,null,null,2,0,0,null,0,0,"",0,"","",""]
[96,null,null,null,null,null,null,null,null,null,2,0,0,null,0,0,"",0,"","",""]
[97,null,null,null,null,null,null,null,null,null,{"$f":"IF(ISBLANK(C104),2,IF(ISBLANK(H104),0,1))","v":2},{"$f":"IF(I104=\"СК\",1,0)","v":0},{"$f":"IF(J104=\"СК\",1,0)*(1-L104)","v":0},null,{"$f":"LEN(C104)","v":0},{"$f":"IF((O104)=0,0,FIND(\" \",C104))","v":0},{"$f":"IF(OR(ISERR(P104),O104=0),\"\",CONCATENATE(MID(C104,P104+1,1),\".\"))","v":""},{"$f":"IF(LEN(C104)=0,0,FIND(\" \",C104,P104+1))","v":0},{"$f":"IF(OR(O104=0,ISERR(R104)),\"\",CONCATENATE(MID(C104,R104+1,1),\".\"))","v":""},{"$f":"IF(C104=\"\",\"\",IF(ISERR(P104),UPPER(C104),UPPER(MID(C104,1,P104-1))))","v":""},{"$f":"CONCATENATE(Q104,S104)","v":""}]
[98,null,null,null,null,null,null,null,null,null,2,0,0,null,0,0,"",0,"","",""]
[99,null,null,null,null,null,null,null,null,null,2,0,0,null,0,0,"",0,"","",""]
[100,null,null,null,null,null,null,null,null,null,2,0,0,null,0,0,"",0,"","",""]
[101,null,null,null,null,null,null,null,null,null,2,0,0,null,0,0,"",0,"","",""]
[102,null,null,null,null,null,null,null,null,null,2,0,0,null,0,0,"",0,"","",""]
[103,null,null,null,null,null,null,null,null,null,2,0,0,null,0,0,"",0,"","",""]
[104,null,null,null,null,null,null,null,null,null,2,0,0,null,0,0,"",0,"","",""]
[105,null,null,null,null,null,null,null,null,null,2,0,0,null,0,0,"",0,"","",""]
[106,null,null,null,null,null,null,null,null,null,2,0,0,null,0,0,"",0,"","",""]
[107,null,null,null,null,null,null,null,null,null,2,0,0,null,0,0,"",0,"","",""]
[108,null,null,null,null,null,null,null,null,null,2,0,0,null,0,0,"",0,"","",""]
[109,null,null,null,null,null,null,null,null,null,2,0,0,null,0,0,"",0,"","",""]
[110,null,null,null,null,null,null,null,null,null,2,0,0,null,0,0,"",0,"","",""]
[111,null,null,null,null,null,null,null,null,null,2,0,0,null,0,0,"",0,"","",""]
[112,null,null,null,null,null,null,null,null,null,2,0,0,null,0,0,"",0,"","",""]
[113,null,null,null,null,null,null,null,null,null,2,0,0,null,0,0,"",0,"","",""]
[114,null,null,null,null,null,null,null,null,null,2,0,0,null,0,0,"",0,"","",""]
[115,null,null,null,null,null,null,null,null,null,2,0,0,null,0,0,"",0,"","",""]
[116,null,null,null,null,null,null,null,null,null,2,0,0,null,0,0,"",0,"","",""]
[117,null,null,null,null,null,null,null,null,null,2,0,0,null,0,0,"",0,"","",""]
[118,null,null,null,null,null,null,null,null,null,2,0,0,null,0,0,"",0,"","",""]
[119,null,null,null,null,null,null,null,null,null,2,0,0,null,0,0,"",0,"","",""]
[120,null,null,null,null,null,null,null,null,null,2,0,0,null,0,0,"",0,"","",""]
[121,null,null,null,null,null,null,null,null,null,2,0,0,null,0,0,"",0,"","",""]
[122,null,null,null,null,null,null,null,null,null,2,0,0,null,0,0,"",0,"","",""]
[123,null,null,null,null,null,null,null,null,null,2,0,0,null,0,0,"",0,"","",""]
[124,null,null,null,null,null,null,null,null,null,2,0,0,null,0,0,"",0,"","",""]
[125,null,null,null,null,null,null,null,null,null,2,0,0,null,0,0,"",0,"","",""]
[126,null,null,null,null,null,null,null,null,null,2,0,0,null,0,0,"",0,"","",""]
[127,null,null,null,null,null,null,null,null,null,2,0,0,null,0,0,"",0,"","",""]
[{"$f":"ROW()-7","v":128},null,null,null,null,null,null,null,null,null,2,0,0,null,0,0,"",0,"","",""]
[129,null,null,null,null,null,null,null,null,null,{"$f":"IF(ISBLANK(C136),2,IF(ISBLANK(H136),0,1))","v":2},{"$f":"IF(I136=\"СК\",1,0)","v":0},{"$f":"IF(J136=\"СК\",1,0)*(1-L136)","v":0},null,{"$f":"LEN(C136)","v":0},{"$f":"IF((O136)=0,0,FIND(\" \",C136))","v":0},{"$f":"IF(OR(ISERR(P136),O136=0),\"\",CONCATENATE(MID(C136,P136+1,1),\".\"))","v":""},{"$f":"IF(LEN(C136)=0,0,FIND(\" \",C136,P136+1))","v":0},{"$f":"IF(OR(O136=0,ISERR(R136)),\"\",CONCATENATE(MID(C136,R136+1,1),\".\"))","v":""},{"$f":"IF(C136=\"\",\"\",IF(ISERR(P136),UPPER(C136),UPPER(MID(C136,1,P136-1))))","v":""},{"$f":"CONCATENATE(Q136,S136)","v":""}]
[130,null,null,null,null,null,null,null,null,null,2,0,0,null,0,0,"",0,"","",""]
[131,null,null,null,null,null,null,null,null,null,2,0,0,null,0,0,"",0,"","",""]
[132,null,null,null,null,null,null,null,null,null,2,0,0,null,0,0,"",0,"","",""]
[133,null,null,null,null,null,null,null,null,null,2,0,0,null,0,0,"",0,"","",""]
[134,null,null,null,null,null,null,null,null,null,2,0,0,null,0,0,"",0,"","",""]
[135,null,null,null,null,null,null,null,null,null,2,0,0,null,0,0,"",0,"","",""]
[136,null,null,null,null,null,null,null,null,null,2,0,0,null,0,0,"",0,"","",""]
[137,null,null,null,null,null,null,null,null,null,2,0,0,null,0,0,"",0,"","",""]
[138,null,null,null,null,null,null,null,null,null,2,0,0,null,0,0,"",0,"","",""]
[139,null,null,null,null,null,null,null,null,null,2,0,0,null,0,0,"",0,"","",""]
[140,null,null,null,null,null,null,null,null,null,2,0,0,null,0,0,"",0,"","",""]
[141,null,null,null,null,null,null,null,null,null,2,0,0,null,0,0,"",0,"","",""]
[142,null,null,null,null,null,null,null,null,null,2,0,0,null,0,0,"",0,"","",""]
[143,null,null,null,null,null,null,null,null,null,2,0,0,null,0,0,"",0,"","",""]
[144,null,null,null,null,null,null,null,null,null,2,0,0,null,0,0,"",0,"","",""]
[145,null,null,null,null,null,null,null,null,null,2,0,0,null,0,0,"",0,"","",""]
[146,null,null,null,null,null,null,null,null,null,2,0,0,null,0,0,"",0,"","",""]
[147,null,null,null,null,null,null,null,null,null,2,0,0,null,0,0,"",0,"","",""]
[148,null,null,null,null,null,null,null,null,null,2,0,0,null,0,0,"",0,"","",""]
[149,null,null,null,null,null,null,null,null,null,2,0,0,null,0,0,"",0,"","",""]
[150,null,null,null,null,null,null,null,null,null,2,0,0,null,0,0,"",0,"","",""]
[]
[]
[]
[]
[]
[]
[]
[]
[]
[]
[]
[]
[null,null,{"$f":"COUNTA(C8:C157)","v":0},null,null,null,null,{"$f":"COUNTA(H8:H157)","v":0}]

{"sheet":"Регистрация ОТ","index":3,"n_rows":62,"n_cols":25,"rows_kept":62,"cut":false,"hidden":false,"merged":[[0,0,0,3],[1,0,1,3],[2,0,2,3],[3,0,3,3],[11,24,50,28],[8,0,8,11],[7,0,7,3],[9,0,9,11],[4,0,4,3],[5,0,5,3],[6,0,6,3]]}
["Название турнира:",null,null,null,{"$f":"UPPER(Установка!C3)","v":"ПЕРВЕНСТВО РЕСПУБЛИКИ ТАТАРСТАН"}]
["Сроки проведения:",null,null,null,{"$f":"IF(Установка!C7=\"\",\"\",TEXT(Установка!C7,\"ДД,ММ,ГГГГ\"))","v":"18-24.11.2017."}]
["Место проведения:",null,null,null,{"$f":"UPPER(Установка!C6)","v":"КАЗАНЬ"}]
["Категория:",null,null,null,{"$f":"UPPER(Установка!C8)","v":"IVБ"}]
["Возрастная группа",null,null,null,{"$f":"UPPER(Установка!C4)","v":"9-10 ЛЕТ"}]
["Пол игроков:",null,null,null,{"$f":"UPPER(Установка!C5)","v":"ДЕВУШКИ"}]
["DeadLine:",null,null,null,{"$f":"IF(Установка!C9=\"\",\"\",Установка!C9)","v":"06.11.2017."}]
["Классификация на:",null,null,null,{"$f":"IF(Установка!C10=\"\",\"\",Установка!C10)","v":"06.11.2017."}]
["Регистрация участников основного турнира личного турнира РТТ"]
[null,null,null,null,null,null,null,null,null,3]
[null,"№","Заявочный рейтинг","Рейтинг рассеивания","ФИО игрока","РНИ","Дата рождения","Город","Оплата","Поздняя заявка (дата)","Свободные карты","Отметка о регистрации (х)","Признак поздней заявки"]
[null,{"$f":"ROW()-11","v":1},228,228,"Кратюк Полина Антоновна",35254,"2007-06-09","Казань","оплачено",null,null,"х",{"$f":"IF(ISBLANK(E12),2,IF(ISBLANK(J12),0,1))","v":0},{"$f":"LEN(E12)","v":23},{"$f":"IF((N12)=0,0,FIND(\" \",E12))","v":7},{"$f":"IF(OR(ISERR(O12),N12=0),\"\",CONCATENATE(MID(E12,O12+1,1),\".\"))","v":"П."},{"$f":"IF(LEN(E12)=0,0,FIND(\" \",E12,O12+1))","v":14},{"$f":"IF(OR(N12=0,ISERR(Q12)),\"\",CONCATENATE(MID(E12,Q12+1,1),\".\"))","v":"А."},{"$f":"IF(E12=\"\",\"\",IF(ISERR(O12),UPPER(E12),UPPER(MID(E12,1,O12-1))))","v":"КРАТЮК"},{"$f":"CONCATENATE(P12,R12)","v":"П.А."},{"$f":"IF(E12=\"\",\"\",IF(ISERR(O12),\"\",IF(ISERR(Q12),UPPER(MID(E12,O12,N12-O12+1)),UPPER(MID(E12,O12,Q12-O12)))))","v":" ПОЛИНА"},{"$f":"IF(S12=\"\",0,COUNTIF($S$12:$S$51,S12))","v":1},{"$f":"IF(V12>1,CONCATENATE(S12,U12),S12)","v":"КРАТЮК"},null,"Для корректной работы\n\nпосле вывода на печать\n\nлиста регистрации\n\nдаты поздних заявок\n\nнеобходимо удалить.\n\n\n\n\n\n\nИгрокам, пришедшим\n \nна регистрацию\n\nбез предварительной заявки \n\nв поле \"Поздняя заявка\" необходимо\n\n проставить текущую дату."]
[null,2,112,112,"Смирнова Стефания Алексеевна",35475,"2007-03-27","Казань","оплачено",null,null,"х",0,{"$f":"LEN(E13)","v":28},{"$f":"IF((N13)=0,0,FIND(\" \",E13))","v":9},{"$f":"IF(OR(ISERR(O13),N13=0),\"\",CONCATENATE(MID(E13,O13+1,1),\".\"))","v":"С."},{"$f":"IF(LEN(E13)=0,0,FIND(\" \",E13,O13+1))","v":18},{"$f":"IF(OR(N13=0,ISERR(Q13)),\"\",CONCATENATE(MID(E13,Q13+1,1),\".\"))","v":"А."},{"$f":"IF(E13=\"\",\"\",IF(ISERR(O13),UPPER(E13),UPPER(MID(E13,1,O13-1))))","v":"СМИРНОВА"},{"$f":"CONCATENATE(P13,R13)","v":"С.А."},{"$f":"IF(E13=\"\",\"\",IF(ISERR(O13),\"\",IF(ISERR(Q13),UPPER(MID(E13,O13,N13-O13+1)),UPPER(MID(E13,O13,Q13-O13)))))","v":" СТЕФАНИЯ"},{"$f":"IF(S13=\"\",0,COUNTIF($S$12:$S$51,S13))","v":1},{"$f":"IF(V13>1,CONCATENATE(S13,U13),S13)","v":"СМИРНОВА"}]
[null,3,109,109,"Шафигуллина Камиля Айдаровна",35474,"2007-04-17","Казань","оплачено",null,null,"х",0,28,12,"К.",19,"А.","ШАФИГУЛЛИНА","К.А."," КАМИЛЯ",1,"ШАФИГУЛЛИНА"]
[null,4,107,107,"Седова Виктория Денисовна",37788,"2008-03-15","Высокая Гора","оплачено",null,null,"х",0,25,7,"В.",16,"Д.","СЕДОВА","В.Д."," ВИКТОРИЯ",1,"СЕДОВА"]
[null,5,96,96,"Гаврилова Мария Андреевна",36120,"2007-02-07","Саратов","оплачено",null,null,"х",0,25,10,"М.",16,"А.","ГАВРИЛОВА","М.А."," МАРИЯ",1,"ГАВРИЛОВА"]
[null,6,79,79,"Лизунова Анастасия Алексеевна",37861,"2008-11-18","Казань","оплачено",null,null,"х",0,29,9,"А.",19,"А.","ЛИЗУНОВА","А.А."," АНАСТАСИЯ",1,"ЛИЗУНОВА"]
[null,7,75,75,"Раевская Анастасия Артемовна",35448,"2007-12-07","Казань","оплачено",null,null,"х",0,28,9,"А.",19,"А.","РАЕВСКАЯ","А.А."," АНАСТАСИЯ",1,"РАЕВСКАЯ"]
[null,8,74,74,"Ахметова Лейла Ильдаровна",35481,"2007-11-15","Казань","оплачено",null,null,"х",0,25,9,"Л.",15,"И.","АХМЕТОВА","Л.И."," ЛЕЙЛА",1,"АХМЕТОВА"]
[null,9,66,66,"Макарова Марта-Мария Львовна",38201,"2008-01-25","Киров","оплачено",null,null,"х",0,28,9,"М.",21,"Л.","МАКАРОВА","М.Л."," МАРТА-МАРИЯ",1,"МАКАРОВА"]
[null,10,64,64,"Кац Эмилия Вадимовна",38531,"2008-12-07","Нижний Новгород","оплачено",null,null,"х",0,20,4,"Э.",11,"В.","КАЦ","Э.В."," ЭМИЛИЯ",1,"КАЦ"]
[null,11,53,53,"Гатина Анжелина Айратовна",35699,"2007-04-18","Казань","оплачено",null,null,"х",0,25,7,"А.",16,"А.","ГАТИНА","А.А."," АНЖЕЛИНА",1,"ГАТИНА"]
[null,12,47,47,"Агеева Тея Артуровна",35866,"2007-08-31","Казань","оплачено",null,null,"х",0,20,7,"Т.",11,"А.","АГЕЕВА","Т.А."," ТЕЯ",1,"АГЕЕВА"]
[null,13,47,47,"Мутрюкова Агния Игоревна",35479,"2007-01-03","Казань","оплачено",null,null,"х",0,24,10,"А.",16,"И.","МУТРЮКОВА","А.И."," АГНИЯ",1,"МУТРЮКОВА"]
[null,14,42,42,"Гафурова Камелия Марсельевна",35478,"2007-12-06","Казань","оплачено",null,null,"х",0,28,9,"К.",17,"М.","ГАФУРОВА","К.М."," КАМЕЛИЯ",1,"ГАФУРОВА"]
[null,15,40,40,"Егорова Таисия Андреевна",36167,"2007-10-25","Казань","оплачено",null,null,"х",0,24,8,"Т.",15,"А.","ЕГОРОВА","Т.А."," ТАИСИЯ",2,"ЕГОРОВА ТАИСИЯ"]
[null,16,40,40,"Харламова Софья Алексеевна",39019,"2007-07-27","Казань","оплачено",null,null,"х",0,26,10,"С.",16,"А.","ХАРЛАМОВА","С.А."," СОФЬЯ",1,"ХАРЛАМОВА"]
[null,17,38,38,"Нигмедзянова Камилла Ильдаровна",38291,"2008-08-04","Казань","оплачено",null,null,"х",0,31,13,"К.",21,"И.","НИГМЕДЗЯНОВА","К.И."," КАМИЛЛА",1,"НИГМЕДЗЯНОВА"]
[null,18,37,37,"Ермолаева Лейла Владимировна",37817,"2008-08-31","Тольятти","оплачено",null,null,"х",0,28,10,"Л.",16,"В.","ЕРМОЛАЕВА","Л.В."," ЛЕЙЛА",1,"ЕРМОЛАЕВА"]
[null,19,33,33,"Гурылева Влада Владиславовна",37974,"2008-06-27","Казань","оплачено",null,null,"х",0,28,9,"В.",15,"В.","ГУРЫЛЕВА","В.В."," ВЛАДА",1,"ГУРЫЛЕВА"]
[null,20,30,30,"Баранова Ксения Викторовна",35679,"2007-07-01","Казань","оплачено",null,null,"х",0,26,9,"К.",16,"В.","БАРАНОВА","К.В."," КСЕНИЯ",1,"БАРАНОВА"]
[null,21,96,96,"Егорова Алина Андреевна",35477,"2007-01-26","Казань","оплачено",null,null,"х",0,23,8,"А.",14,"А.","ЕГОРОВА","А.А."," АЛИНА",2,"ЕГОРОВА АЛИНА"]
[null,22,20,20,"Давлеева Элина Оскаровна",36341,"2007-10-04","Казань","оплачено",null,null,"х",0,24,9,"Э.",15,"О.","ДАВЛЕЕВА","Э.О."," ЭЛИНА",1,"ДАВЛЕЕВА"]
[null,23,null,null,null,null,null,null,null,null,null,null,2,0,0,"",0,"","","","",0,""]
[null,24,null,null,null,null,null,null,null,null,null,null,2,0,0,"",0,"","","","",0,""]
[null,25,null,null,null,null,null,null,null,null,null,null,2,{"$f":"LEN(E36)","v":0},{"$f":"IF((N36)=0,0,FIND(\" \",E36))","v":0},{"$f":"IF(OR(ISERR(O36),N36=0),\"\",CONCATENATE(MID(E36,O36+1,1),\".\"))","v":""},{"$f":"IF(LEN(E36)=0,0,FIND(\" \",E36,O36+1))","v":0},{"$f":"IF(OR(N36=0,ISERR(Q36)),\"\",CONCATENATE(MID(E36,Q36+1,1),\".\"))","v":""},{"$f":"IF(E36=\"\",\"\",IF(ISERR(O36),UPPER(E36),UPPER(MID(E36,1,O36-1))))","v":""},{"$f":"CONCATENATE(P36,R36)","v":""},{"$f":"IF(E36=\"\",\"\",IF(ISERR(O36),\"\",IF(ISERR(Q36),UPPER(MID(E36,O36,N36-O36+1)),UPPER(MID(E36,O36,Q36-O36)))))","v":""},{"$f":"IF(S36=\"\",0,COUNTIF($S$12:$S$51,S36))","v":0},{"$f":"IF(V36>1,CONCATENATE(S36,U36),S36)","v":""}]
[null,26,null,null,null,null,null,null,null,null,null,null,2,0,0,"",0,"","","","",0,""]
[null,27,null,null,null,null,null,null,null,null,null,null,2,0,0,"",0,"","","","",0,""]
[null,28,null,null,null,null,null,null,null,null,null,null,2,0,0,"",0,"","","","",0,""]
[null,29,null,null,null,null,null,null,null,null,null,null,2,0,0,"",0,"","","","",0,""]
[null,30,null,null,null,null,null,null,null,null,null,null,2,0,0,"",0,"","","","",0,""]
[null,31,null,null,null,null,null,null,null,null,null,null,2,0,0,"",0,"","","","",0,""]
[null,32,null,null,null,null,null,null,null,null,null,null,2,0,0,"",0,"","","","",0,""]
["СК1",{"$f":"Установка!$D$51-Установка!$D$53+1","v":27},19,19,"Закирова Аделя Нуриевна",35639,"2007-06-24","Казань","оплачено",null,"СК","х",0,23,9,"А.",15,"Н.","ЗАКИРОВА","А.Н."," АДЕЛЯ",1,"ЗАКИРОВА"]
["СК2",{"$f":"B44+1","v":28},11,11,"Варданян Ванесса Аркадьевна",38200,"2008-04-28","Киров","оплачено",null,"СК","х",0,27,9,"В.",17,"А.","ВАРДАНЯН","В.А."," ВАНЕССА",1,"ВАРДАНЯН"]
["СК3",{"$f":"B45+1","v":29},0,0,"Леонова Элина Константиновна",38589,"2007-04-03","Елабуга","оплачено",null,"СК","х",0,28,8,"Э.",14,"К.","ЛЕОНОВА","Э.К."," ЭЛИНА",1,"ЛЕОНОВА"]
["СК4",30,3,3,"Зверева София Михайловна",39463,"2007-03-13","Киров","оплачено",null,"СК","х",0,24,8,"С.",14,"М.","ЗВЕРЕВА","С.М."," СОФИЯ",1,"ЗВЕРЕВА"]
["СК5",31,0,0,"Тарасова Софья Сергеевна",39542,"2008-09-16","Самара","оплачено",null,"СК","х",0,24,9,"С.",15,"С.","ТАРАСОВА","С.С."," СОФЬЯ",1,"ТАРАСОВА"]
["СК6",32,null,null,null,null,null,null,null,null,null,null,2,0,0,"",0,"","","","",0,""]
["СК7",33,null,null,null,null,null,null,null,null,null,null,2,0,0,"",0,"","","","",0,""]
["СК8",34,null,null,null,null,null,null,null,null,null,null,2,0,0,"",0,"","","","",0,""]
[]
[]
[]
[]
[]
[]
[]
[]
["Количество игроков в основной части ОТ",null,null,null,{"$f":"COUNTA(E12:E43)","v":22},null,null,null,null,{"$f":"COUNTA(J12:J43)","v":0},{"$f":"COUNTIF(K12:K51,\"СК\")","v":5},{"$f":"COUNTA(L12:L43)","v":22}]
["Количество свободных карт в ОТ",null,null,null,{"$f":"COUNTA(E44:E51)","v":5},null,null,null,null,null,null,{"$f":"COUNTA(L44:L51)","v":5}]
["Всего игроков в ОТ",null,null,null,{"$f":"COUNTA(E12:E51)","v":27},null,null,null,null,null,null,{"$f":"COUNTA(L12:L51)","v":27}]

{"sheet":"Лист регистрации ОТ","index":4,"n_rows":308,"n_cols":27,"rows_kept":308,"cut":false,"hidden":false,"merged":[[150,1,150,3],[150,10,150,11],[147,1,147,3],[147,10,147,11],[148,1,148,3],[148,10,148,11],[37,10,37,11],[38,1,38,3],[38,10,38,11],[39,1,39,3],[39,10,39,11],[149,1,149,3],[149,10,149,11],[145,1,145,3],[145,10,145,11],[146,1,146,3],[40,10,40,11],[43,1,43,3],[43,10,43,11],[44,1,44,3],[44,10,44,11],[42,1,42,3],[139,1,139,3],[139,10,139,11],[146,10,146,11],[143,1,143,3],[143,10,143,11],[144,1,144,3],[144,10,144,11],[141,1,141,3],[141,10,141,11],[142,1,142,3],[142,10,142,11],[135,1,135,3],[135,10,135,11],[136,1,136,3],[136,10,136,11],[133,1,133,3],[133,10,133,11],[134,1,134,3],[134,10,134,11],[140,1,140,3],[140,10,140,11],[137,1,137,3],[137,10,137,11],[138,1,138,3],[138,10,138,11],[128,1,128,3],[128,10,128,11],[125,1,125,3],[125,10,125,11],[126,1,126,3],[126,10,126,11],[131,1,131,3],[131,10,131,11],[132,1,132,3],[132,10,132,11],[129,1,129,3],[129,10,129,11],[130,1,130,3],[130,10,130,11],[123,1,123,3],[123,10,123,11],[124,1,124,3],[124,10,124,11],[121,1,121,3],[121,10,121,11],[122,1,122,3],[122,10,122,11],[127,1,127,3],[127,10,127,11],[116,1,116,3],[116,10,116,11],[113,1,113,3],[113,10,113,11],[114,1,114,3],[114,10,114,11],[119,1,119,3],[119,10,119,11],[120,1,120,3],[120,10,120,11],[117,1,117,3],[117,10,117,11],[118,1,118,3],[118,10,118,11],[111,1,111,3],[111,10,111,11],[112,1,112,3],[112,10,112,11],[109,1,109,3],[109,10,109,11],[110,1,110,3],[110,10,110,11],[115,1,115,3],[115,10,115,11],[75,1,75,3],[75,10,75,11],[72,1,72,3],[72,10,72,11],[73,1,73,3],[73,10,73,11],[78,1,78,3],[78,10,78,11],[76,1,76,3],[76,10,76,11],[77,1,77,3],[77,10,77,11],[70,1,70,3],[70,10,70,11],[71,1,71,3],[71,10,71,11],[68,1,68,3],[68,10,68,11],[69,1,69,3],[69,10,69,11],[74,1,74,3],[74,10,74,11],[86,10,86,11],[87,1,87,3],[87,10,87,11],[88,1,88,3],[88,10,88,11],[83,10,83,11],[84,1,84,3],[84,10,84,11],[85,1,85,3],[85,10,85,11],[63,1,63,3],[63,10,63,11],[64,1,64,3],[64,10,64,11],[53,1,53,3],[50,1,50,3],[81,1,81,3],[81,10,81,11],[82,1,82,3],[82,10,82,11],[79,1,79,3],[79,10,79,11],[80,1,80,3],[60,10,60,11],[53,10,53,11],[54,1,54,3],[54,10,54,11],[55,1,55,3],[55,10,55,11],[59,1,59,3],[66,1,66,3],[66,10,66,11],[67,1,67,3],[67,10,67,11],[50,10,50,11],[57,1,57,3],[57,10,57,11],[58,1,58,3],[58,10,58,11],[51,1,51,3],[51,10,51,11],[52,1,52,3],[62,1,62,3],[62,10,62,11],[56,1,56,3],[56,10,56,11],[61,1,61,3],[61,10,61,11],[59,10,59,11],[60,1,60,3],[34,10,34,11],[41,1,41,3],[41,10,41,11],[35,1,35,3],[35,10,35,11],[36,1,36,3],[155,7,155,9],[97,1,97,3],[98,1,98,3],[98,10,98,11],[100,1,100,3],[100,10,100,11],[153,7,154,9],[99,1,99,3],[99,10,99,11],[97,10,97,11],[103,1,103,3],[103,10,103,11],[104,1,104,3],[104,10,104,11],[101,1,101,3],[101,10,101,11],[65,1,65,3],[65,10,65,11],[102,1,102,3],[102,10,102,11],[107,1,107,3],[107,10,107,11],[108,1,108,3],[108,10,108,11],[105,1,105,3],[105,10,105,11],[89,1,89,3],[96,1,96,3],[94,1,94,3],[94,10,94,11],[92,1,92,3],[92,10,92,11],[93,1,93,3],[93,10,93,11],[89,10,89,11],[90,1,90,3],[90,10,90,11],[91,1,91,3],[91,10,91,11],[106,1,106,3],[106,10,106,11],[28,1,28,3],[52,10,52,11],[20,1,20,3],[13,1,13,3],[17,1,17,3],[18,1,18,3],[19,1,19,3],[14,1,14,3],[48,1,48,3],[49,1,49,3],[33,1,33,3],[34,1,34,3],[40,1,40,3],[45,1,45,3],[47,1,47,3],[46,1,46,3],[23,1,23,3],[24,1,24,3],[27,1,27,3],[25,1,25,3],[26,1,26,3],[37,1,37,3],[32,10,32,11],[33,10,33,11],[153,10,154,11],[152,5,152,9],[153,5,154,6],[19,10,19,11],[12,10,12,11],[13,10,13,11],[16,10,16,11],[80,10,80,11],[1,0,1,13],[4,0,4,13],[9,1,9,3],[8,10,8,11],[3,0,3,13],[8,1,8,3],[5,5,5,7],[83,1,83,3],[86,1,86,3],[24,10,24,11],[23,10,23,11],[25,10,25,11],[26,10,26,11],[27,10,27,11],[36,10,36,11],[28,10,28,11],[5,3,5,4],[6,3,6,4],[11,1,11,3],[12,1,12,3],[9,10,9,11],[32,1,32,3],[49,10,49,11],[15,1,15,3],[21,1,21,3],[22,1,22,3],[11,10,11,11],[14,10,14,11],[47,10,47,11],[48,10,48,11],[45,10,45,11],[6,5,6,7],[6,8,6,10],[5,8,5,10],[29,10,29,11],[30,10,30,11],[31,10,31,11],[29,1,29,3],[30,1,30,3],[31,1,31,3],[155,5,155,6],[2,0,2,13],[153,12,154,13],[155,10,155,11],[155,12,155,13],[5,11,5,12],[6,11,6,12],[152,10,152,13],[10,10,10,11],[10,1,10,3],[17,10,17,11],[15,10,15,11],[95,10,95,11],[96,10,96,11],[20,10,20,11],[21,10,21,11],[22,10,22,11],[46,10,46,11],[42,10,42,11],[95,1,95,3],[16,1,16,3],[18,10,18,11],[5,0,5,2],[6,0,6,2]]}
[null,null,null,null,null,null,null,null,null,null,null,null,null,null,null,null,null,null,null,null,null,null,null,null,null,null,{"$f":"'Лист ожидания'!E115","v":0}]
["ЛИСТ РЕГИСТРАЦИИ УЧАСТНИКОВ \nОСНОВНОГО ТУРНИРА ЛИЧНОГО ТУРНИРА РТТ В ОДИНОЧНОМ РАЗРЯДЕ"]
["Название турнира"]
[{"$f":"UPPER(Установка!C3)","v":"ПЕРВЕНСТВО РЕСПУБЛИКИ ТАТАРСТАН"}]
[]
["Место проведения",null,null,"Сроки проведения",null,"Возрастная группа",null,null,"Пол игроков",null,null,"Категория",null,"Класс"]
[{"$f":"UPPER(Установка!C6)","v":"КАЗАНЬ"},null,null,{"$f":"IF(Установка!C7=\"\",\"\",TEXT(Установка!C7,\"ДД,ММ,ГГГГ\"))","v":"18-24.11.2017."},null,{"$f":"UPPER(Установка!C4)","v":"9-10 ЛЕТ"},null,null,{"$f":"IF(Установка!$C$5=\"\",\"\",UPPER(Установка!$C$5))","v":"ДЕВУШКИ"},null,null,{"$f":"UPPER(Установка!D8)","v":"IV"},null,{"$f":"UPPER(Установка!E8)","v":"Б"}]
[]
["№\nп/п","Фамилия, Имя, Отчество",null,null,"РНИ","Дата рождения","Город","Оплата взноса в РТТ","Классификационные очки РТТ","Статус игрока в турнире","Контактный телефон на время турнира",null,"Вступительный взнос (руб,)","Подпись игрока"]
[1,{"$f":"IF('Регистрация ОТ'!E12=0,\"\",'Регистрация ОТ'!E12)","v":"Кратюк Полина Антоновна"},null,null,{"$f":"IF(B10=\"\",\"\",'Регистрация ОТ'!F12)","v":35254},{"$f":"IF(B10=\"\",\"\",'Регистрация ОТ'!G12)","v":"2007-06-09"},{"$f":"IF(B10=\"\",\"\",'Регистрация ОТ'!H12)","v":"Казань"},{"$f":"IF(B10=\"\",\"\",'Регистрация ОТ'!I12)","v":"оплачено"},{"$f":"IF(B10=\"\",\"\",'Регистрация ОТ'!D12)","v":228},{"$f":"IF(B10=\"\",\"\",CONCATENATE(\"ОТ \",'Регистрация ОТ'!K12))","v":"ОТ "},null,null,{"$f":"IF(B10=\"\",\"\",Установка!$C$14)","v":0}]
[{"$f":"A10+1","v":2},{"$f":"IF('Регистрация ОТ'!E13=0,\"\",'Регистрация ОТ'!E13)","v":"Смирнова Стефания Алексеевна"},null,null,{"$f":"IF(B11=\"\",\"\",'Регистрация ОТ'!F13)","v":35475},{"$f":"IF(B11=\"\",\"\",'Регистрация ОТ'!G13)","v":"2007-03-27"},{"$f":"IF(B11=\"\",\"\",'Регистрация ОТ'!H13)","v":"Казань"},{"$f":"IF(B11=\"\",\"\",'Регистрация ОТ'!I13)","v":"оплачено"},{"$f":"IF(B11=\"\",\"\",'Регистрация ОТ'!D13)","v":112},{"$f":"IF(B11=\"\",\"\",CONCATENATE(\"ОТ \",'Регистрация ОТ'!K13))","v":"ОТ "},null,null,{"$f":"IF(B11=\"\",\"\",Установка!$C$14)","v":0}]
[{"$f":"A11+1","v":3},{"$f":"IF('Регистрация ОТ'!E14=0,\"\",'Регистрация ОТ'!E14)","v":"Шафигуллина Камиля Айдаровна"},null,null,{"$f":"IF(B12=\"\",\"\",'Регистрация ОТ'!F14)","v":35474},{"$f":"IF(B12=\"\",\"\",'Регистрация ОТ'!G14)","v":"2007-04-17"},{"$f":"IF(B12=\"\",\"\",'Регистрация ОТ'!H14)","v":"Казань"},{"$f":"IF(B12=\"\",\"\",'Регистрация ОТ'!I14)","v":"оплачено"},{"$f":"IF(B12=\"\",\"\",'Регистрация ОТ'!D14)","v":109},{"$f":"IF(B12=\"\",\"\",CONCATENATE(\"ОТ \",'Регистрация ОТ'!K14))","v":"ОТ "},null,null,{"$f":"IF(B12=\"\",\"\",Установка!$C$14)","v":0}]
[4,{"$f":"IF('Регистрация ОТ'!E15=0,\"\",'Регистрация ОТ'!E15)","v":"Седова Виктория Денисовна"},null,null,{"$f":"IF(B13=\"\",\"\",'Регистрация ОТ'!F15)","v":37788},{"$f":"IF(B13=\"\",\"\",'Регистрация ОТ'!G15)","v":"2008-03-15"},{"$f":"IF(B13=\"\",\"\",'Регистрация ОТ'!H15)","v":"Высокая Гора"},{"$f":"IF(B13=\"\",\"\",'Регистрация ОТ'!I15)","v":"оплачено"},{"$f":"IF(B13=\"\",\"\",'Регистрация ОТ'!D15)","v":107},{"$f":"IF(B13=\"\",\"\",CONCATENATE(\"ОТ \",'Регистрация ОТ'!K15))","v":"ОТ "},null,null,{"$f":"IF(B13=\"\",\"\",Установка!$C$14)","v":0}]
[5,{"$f":"IF('Регистрация ОТ'!E16=0,\"\",'Регистрация ОТ'!E16)","v":"Гаврилова Мария Андреевна"},null,null,{"$f":"IF(B14=\"\",\"\",'Регистрация ОТ'!F16)","v":36120},{"$f":"IF(B14=\"\",\"\",'Регистрация ОТ'!G16)","v":"2007-02-07"},{"$f":"IF(B14=\"\",\"\",'Регистрация ОТ'!H16)","v":"Саратов"},{"$f":"IF(B14=\"\",\"\",'Регистрация ОТ'!I16)","v":"оплачено"},{"$f":"IF(B14=\"\",\"\",'Регистрация ОТ'!D16)","v":96},{"$f":"IF(B14=\"\",\"\",CONCATENATE(\"ОТ \",'Регистрация ОТ'!K16))","v":"ОТ "},null,null,{"$f":"IF(B14=\"\",\"\",Установка!$C$14)","v":0}]
[6,{"$f":"IF('Регистрация ОТ'!E17=0,\"\",'Регистрация ОТ'!E17)","v":"Лизунова Анастасия Алексеевна"},null,null,{"$f":"IF(B15=\"\",\"\",'Регистрация ОТ'!F17)","v":37861},{"$f":"IF(B15=\"\",\"\",'Регистрация ОТ'!G17)","v":"2008-11-18"},{"$f":"IF(B15=\"\",\"\",'Регистрация ОТ'!H17)","v":"Казань"},{"$f":"IF(B15=\"\",\"\",'Регистрация ОТ'!I17)","v":"оплачено"},{"$f":"IF(B15=\"\",\"\",'Регистрация ОТ'!D17)","v":79},{"$f":"IF(B15=\"\",\"\",CONCATENATE(\"ОТ \",'Регистрация ОТ'!K17))","v":"ОТ "},null,null,{"$f":"IF(B15=\"\",\"\",Установка!$C$14)","v":0}]
[7,{"$f":"IF('Регистрация ОТ'!E18=0,\"\",'Регистрация ОТ'!E18)","v":"Раевская Анастасия Артемовна"},null,null,{"$f":"IF(B16=\"\",\"\",'Регистрация ОТ'!F18)","v":35448},{"$f":"IF(B16=\"\",\"\",'Регистрация ОТ'!G18)","v":"2007-12-07"},{"$f":"IF(B16=\"\",\"\",'Регистрация ОТ'!H18)","v":"Казань"},{"$f":"IF(B16=\"\",\"\",'Регистрация ОТ'!I18)","v":"оплачено"},{"$f":"IF(B16=\"\",\"\",'Регистрация ОТ'!D18)","v":75},{"$f":"IF(B16=\"\",\"\",CONCATENATE(\"ОТ \",'Регистрация ОТ'!K18))","v":"ОТ "},null,null,{"$f":"IF(B16=\"\",\"\",Установка!$C$14)","v":0}]
[8,{"$f":"IF('Регистрация ОТ'!E19=0,\"\",'Регистрация ОТ'!E19)","v":"Ахметова Лейла Ильдаровна"},null,null,{"$f":"IF(B17=\"\",\"\",'Регистрация ОТ'!F19)","v":35481},{"$f":"IF(B17=\"\",\"\",'Регистрация ОТ'!G19)","v":"2007-11-15"},{"$f":"IF(B17=\"\",\"\",'Регистрация ОТ'!H19)","v":"Казань"},{"$f":"IF(B17=\"\",\"\",'Регистрация ОТ'!I19)","v":"оплачено"},{"$f":"IF(B17=\"\",\"\",'Регистрация ОТ'!D19)","v":74},{"$f":"IF(B17=\"\",\"\",CONCATENATE(\"ОТ \",'Регистрация ОТ'!K19))","v":"ОТ "},null,null,{"$f":"IF(B17=\"\",\"\",Установка!$C$14)","v":0}]
[9,{"$f":"IF('Регистрация ОТ'!E20=0,\"\",'Регистрация ОТ'!E20)","v":"Макарова Марта-Мария Львовна"},null,null,{"$f":"IF(B18=\"\",\"\",'Регистрация ОТ'!F20)","v":38201},{"$f":"IF(B18=\"\",\"\",'Регистрация ОТ'!G20)","v":"2008-01-25"},{"$f":"IF(B18=\"\",\"\",'Регистрация ОТ'!H20)","v":"Киров"},{"$f":"IF(B18=\"\",\"\",'Регистрация ОТ'!I20)","v":"оплачено"},{"$f":"IF(B18=\"\",\"\",'Регистрация ОТ'!D20)","v":66},{"$f":"IF(B18=\"\",\"\",CONCATENATE(\"ОТ \",'Регистрация ОТ'!K20))","v":"ОТ "},null,null,{"$f":"IF(B18=\"\",\"\",Установка!$C$14)","v":0}]
[10,{"$f":"IF('Регистрация ОТ'!E21=0,\"\",'Регистрация ОТ'!E21)","v":"Кац Эмилия Вадимовна"},null,null,{"$f":"IF(B19=\"\",\"\",'Регистрация ОТ'!F21)","v":38531},{"$f":"IF(B19=\"\",\"\",'Регистрация ОТ'!G21)","v":"2008-12-07"},{"$f":"IF(B19=\"\",\"\",'Регистрация ОТ'!H21)","v":"Нижний Новгород"},{"$f":"IF(B19=\"\",\"\",'Регистрация ОТ'!I21)","v":"оплачено"},{"$f":"IF(B19=\"\",\"\",'Регистрация ОТ'!D21)","v":64},{"$f":"IF(B19=\"\",\"\",CONCATENATE(\"ОТ \",'Регистрация ОТ'!K21))","v":"ОТ "},null,null,{"$f":"IF(B19=\"\",\"\",Установка!$C$14)","v":0}]
[11,{"$f":"IF('Регистрация ОТ'!E22=0,\"\",'Регистрация ОТ'!E22)","v":"Гатина Анжелина Айратовна"},null,null,{"$f":"IF(B20=\"\",\"\",'Регистрация ОТ'!F22)","v":35699},{"$f":"IF(B20=\"\",\"\",'Регистрация ОТ'!G22)","v":"2007-04-18"},{"$f":"IF(B20=\"\",\"\",'Регистрация ОТ'!H22)","v":"Казань"},{"$f":"IF(B20=\"\",\"\",'Регистрация ОТ'!I22)","v":"оплачено"},{"$f":"IF(B20=\"\",\"\",'Регистрация ОТ'!D22)","v":53},{"$f":"IF(B20=\"\",\"\",CONCATENATE(\"ОТ \",'Регистрация ОТ'!K22))","v":"ОТ "},null,null,{"$f":"IF(B20=\"\",\"\",Установка!$C$14)","v":0}]
[12,{"$f":"IF('Регистрация ОТ'!E23=0,\"\",'Регистрация ОТ'!E23)","v":"Агеева Тея Артуровна"},null,null,{"$f":"IF(B21=\"\",\"\",'Регистрация ОТ'!F23)","v":35866},{"$f":"IF(B21=\"\",\"\",'Регистрация ОТ'!G23)","v":"2007-08-31"},{"$f":"IF(B21=\"\",\"\",'Регистрация ОТ'!H23)","v":"Казань"},{"$f":"IF(B21=\"\",\"\",'Регистрация ОТ'!I23)","v":"оплачено"},{"$f":"IF(B21=\"\",\"\",'Регистрация ОТ'!D23)","v":47},{"$f":"IF(B21=\"\",\"\",CONCATENATE(\"ОТ \",'Регистрация ОТ'!K23))","v":"ОТ "},null,null,{"$f":"IF(B21=\"\",\"\",Установка!$C$14)","v":0}]
[13,{"$f":"IF('Регистрация ОТ'!E24=0,\"\",'Регистрация ОТ'!E24)","v":"Мутрюкова Агния Игоревна"},null,null,{"$f":"IF(B22=\"\",\"\",'Регистрация ОТ'!F24)","v":35479},{"$f":"IF(B22=\"\",\"\",'Регистрация ОТ'!G24)","v":"2007-01-03"},{"$f":"IF(B22=\"\",\"\",'Регистрация ОТ'!H24)","v":"Казань"},{"$f":"IF(B22=\"\",\"\",'Регистрация ОТ'!I24)","v":"оплачено"},{"$f":"IF(B22=\"\",\"\",'Регистрация ОТ'!D24)","v":47},{"$f":"IF(B22=\"\",\"\",CONCATENATE(\"ОТ \",'Регистрация ОТ'!K24))","v":"ОТ "},null,null,{"$f":"IF(B22=\"\",\"\",Установка!$C$14)","v":0}]
[14,{"$f":"IF('Регистрация ОТ'!E25=0,\"\",'Регистрация ОТ'!E25)","v":"Гафурова Камелия Марсельевна"},null,null,{"$f":"IF(B23=\"\",\"\",'Регистрация ОТ'!F25)","v":35478},{"$f":"IF(B23=\"\",\"\",'Регистрация ОТ'!G25)","v":"2007-12-06"},{"$f":"IF(B23=\"\",\"\",'Регистрация ОТ'!H25)","v":"Казань"},{"$f":"IF(B23=\"\",\"\",'Регистрация ОТ'!I25)","v":"оплачено"},{"$f":"IF(B23=\"\",\"\",'Регистрация ОТ'!D25)","v":42},{"$f":"IF(B23=\"\",\"\",CONCATENATE(\"ОТ \",'Регистрация ОТ'!K25))","v":"ОТ "},null,null,{"$f":"IF(B23=\"\",\"\",Установка!$C$14)","v":0}]
[15,{"$f":"IF('Регистрация ОТ'!E26=0,\"\",'Регистрация ОТ'!E26)","v":"Егорова Таисия Андреевна"},null,null,{"$f":"IF(B24=\"\",\"\",'Регистрация ОТ'!F26)","v":36167},{"$f":"IF(B24=\"\",\"\",'Регистрация ОТ'!G26)","v":"2007-10-25"},{"$f":"IF(B24=\"\",\"\",'Регистрация ОТ'!H26)","v":"Казань"},{"$f":"IF(B24=\"\",\"\",'Регистрация ОТ'!I26)","v":"оплачено"},{"$f":"IF(B24=\"\",\"\",'Регистрация ОТ'!D26)","v":40},{"$f":"IF(B24=\"\",\"\",CONCATENATE(\"ОТ \",'Регистрация ОТ'!K26))","v":"ОТ "},null,null,{"$f":"IF(B24=\"\",\"\",Установка!$C$14)","v":0}]
[16,{"$f":"IF('Регистрация ОТ'!E27=0,\"\",'Регистрация ОТ'!E27)","v":"Харламова Софья Алексеевна"},null,null,{"$f":"IF(B25=\"\",\"\",'Регистрация ОТ'!F27)","v":39019},{"$f":"IF(B25=\"\",\"\",'Регистрация ОТ'!G27)","v":"2007-07-27"},{"$f":"IF(B25=\"\",\"\",'Регистрация ОТ'!H27)","v":"Казань"},{"$f":"IF(B25=\"\",\"\",'Регистрация ОТ'!I27)","v":"оплачено"},{"$f":"IF(B25=\"\",\"\",'Регистрация ОТ'!D27)","v":40},{"$f":"IF(B25=\"\",\"\",CONCATENATE(\"ОТ \",'Регистрация ОТ'!K27))","v":"ОТ "},null,null,{"$f":"IF(B25=\"\",\"\",Установка!$C$14)","v":0}]
[17,{"$f":"IF('Регистрация ОТ'!E28=0,\"\",'Регистрация ОТ'!E28)","v":"Нигмедзянова Камилла Ильдаровна"},null,null,{"$f":"IF(B26=\"\",\"\",'Регистрация ОТ'!F28)","v":38291},{"$f":"IF(B26=\"\",\"\",'Регистрация ОТ'!G28)","v":"2008-08-04"},{"$f":"IF(B26=\"\",\"\",'Регистрация ОТ'!H28)","v":"Казань"},{"$f":"IF(B26=\"\",\"\",'Регистрация ОТ'!I28)","v":"оплачено"},{"$f":"IF(B26=\"\",\"\",'Регистрация ОТ'!D28)","v":38},{"$f":"IF(B26=\"\",\"\",CONCATENATE(\"ОТ \",'Регистрация ОТ'!K28))","v":"ОТ "},null,null,{"$f":"IF(B26=\"\",\"\",Установка!$C$14)","v":0}]
[18,{"$f":"IF('Регистрация ОТ'!E29=0,\"\",'Регистрация ОТ'!E29)","v":"Ермолаева Лейла Владимировна"},null,null,{"$f":"IF(B27=\"\",\"\",'Регистрация ОТ'!F29)","v":37817},{"$f":"IF(B27=\"\",\"\",'Регистрация ОТ'!G29)","v":"2008-08-31"},{"$f":"IF(B27=\"\",\"\",'Регистрация ОТ'!H29)","v":"Тольятти"},{"$f":"IF(B27=\"\",\"\",'Регистрация ОТ'!I29)","v":"оплачено"},{"$f":"IF(B27=\"\",\"\",'Регистрация ОТ'!D29)","v":37},{"$f":"IF(B27=\"\",\"\",CONCATENATE(\"ОТ \",'Регистрация ОТ'!K29))","v":"ОТ "},null,null,{"$f":"IF(B27=\"\",\"\",Установка!$C$14)","v":0}]
[19,{"$f":"IF('Регистрация ОТ'!E30=0,\"\",'Регистрация ОТ'!E30)","v":"Гурылева Влада Владиславовна"},null,null,{"$f":"IF(B28=\"\",\"\",'Регистрация ОТ'!F30)","v":37974},{"$f":"IF(B28=\"\",\"\",'Регистрация ОТ'!G30)","v":"2008-06-27"},{"$f":"IF(B28=\"\",\"\",'Регистрация ОТ'!H30)","v":"Казань"},{"$f":"IF(B28=\"\",\"\",'Регистрация ОТ'!I30)","v":"оплачено"},{"$f":"IF(B28=\"\",\"\",'Регистрация ОТ'!D30)","v":33},{"$f":"IF(B28=\"\",\"\",CONCATENATE(\"ОТ \",'Регистрация ОТ'!K30))","v":"ОТ "},null,null,{"$f":"IF(B28=\"\",\"\",Установка!$C$14)","v":0}]
[20,{"$f":"IF('Регистрация ОТ'!E31=0,\"\",'Регистрация ОТ'!E31)","v":"Баранова Ксения Викторовна"},null,null,{"$f":"IF(B29=\"\",\"\",'Регистрация ОТ'!F31)","v":35679},{"$f":"IF(B29=\"\",\"\",'Регистрация ОТ'!G31)","v":"2007-07-01"},{"$f":"IF(B29=\"\",\"\",'Регистрация ОТ'!H31)","v":"Казань"},{"$f":"IF(B29=\"\",\"\",'Регистрация ОТ'!I31)","v":"оплачено"},{"$f":"IF(B29=\"\",\"\",'Регистрация ОТ'!D31)","v":30},{"$f":"IF(B29=\"\",\"\",CONCATENATE(\"ОТ \",'Регистрация ОТ'!K31))","v":"ОТ "},null,null,{"$f":"IF(B29=\"\",\"\",Установка!$C$14)","v":0}]
[21,{"$f":"IF('Регистрация ОТ'!E32=0,\"\",'Регистрация ОТ'!E32)","v":"Егорова Алина Андреевна"},null,null,{"$f":"IF(B30=\"\",\"\",'Регистрация ОТ'!F32)","v":35477},{"$f":"IF(B30=\"\",\"\",'Регистрация ОТ'!G32)","v":"2007-01-26"},{"$f":"IF(B30=\"\",\"\",'Регистрация ОТ'!H32)","v":"Казань"},{"$f":"IF(B30=\"\",\"\",'Регистрация ОТ'!I32)","v":"оплачено"},{"$f":"IF(B30=\"\",\"\",'Регистрация ОТ'!D32)","v":96},{"$f":"IF(B30=\"\",\"\",CONCATENATE(\"ОТ \",'Регистрация ОТ'!K32))","v":"ОТ "},null,null,{"$f":"IF(B30=\"\",\"\",Установка!$C$14)","v":0}]
[22,{"$f":"IF('Регистрация ОТ'!E33=0,\"\",'Регистрация ОТ'!E33)","v":"Давлеева Элина Оскаровна"},null,null,{"$f":"IF(B31=\"\",\"\",'Регистрация ОТ'!F33)","v":36341},{"$f":"IF(B31=\"\",\"\",'Регистрация ОТ'!G33)","v":"2007-10-04"},{"$f":"IF(B31=\"\",\"\",'Регистрация ОТ'!H33)","v":"Казань"},{"$f":"IF(B31=\"\",\"\",'Регистрация ОТ'!I33)","v":"оплачено"},{"$f":"IF(B31=\"\",\"\",'Регистрация ОТ'!D33)","v":20},{"$f":"IF(B31=\"\",\"\",CONCATENATE(\"ОТ \",'Регистрация ОТ'!K33))","v":"ОТ "},null,null,{"$f":"IF(B31=\"\",\"\",Установка!$C$14)","v":0}]
[23,{"$f":"IF('Регистрация ОТ'!E34=0,\"\",'Регистрация ОТ'!E34)","v":""},null,null,{"$f":"IF(B32=\"\",\"\",'Регистрация ОТ'!F34)","v":""},{"$f":"IF(B32=\"\",\"\",'Регистрация ОТ'!G34)","v":""},{"$f":"IF(B32=\"\",\"\",'Регистрация ОТ'!H34)","v":""},{"$f":"IF(B32=\"\",\"\",'Регистрация ОТ'!I34)","v":""},{"$f":"IF(B32=\"\",\"\",'Регистрация ОТ'!D34)","v":""},{"$f":"IF(B32=\"\",\"\",CONCATENATE(\"ОТ \",'Регистрация ОТ'!K34))","v":""},null,null,{"$f":"IF(B32=\"\",\"\",Установка!$C$14)","v":""}]
[24,{"$f":"IF('Регистрация ОТ'!E35=0,\"\",'Регистрация ОТ'!E35)","v":""},null,null,{"$f":"IF(B33=\"\",\"\",'Регистрация ОТ'!F35)","v":""},{"$f":"IF(B33=\"\",\"\",'Регистрация ОТ'!G35)","v":""},{"$f":"IF(B33=\"\",\"\",'Регистрация ОТ'!H35)","v":""},{"$f":"IF(B33=\"\",\"\",'Регистрация ОТ'!I35)","v":""},{"$f":"IF(B33=\"\",\"\",'Регистрация ОТ'!D35)","v":""},{"$f":"IF(B33=\"\",\"\",CONCATENATE(\"ОТ \",'Регистрация ОТ'!K35))","v":""},null,null,{"$f":"IF(B33=\"\",\"\",Установка!$C$14)","v":""}]
[25,{"$f":"IF('Регистрация ОТ'!E36=0,\"\",'Регистрация ОТ'!E36)","v":""},null,null,{"$f":"IF(B34=\"\",\"\",'Регистрация ОТ'!F36)","v":""},{"$f":"IF(B34=\"\",\"\",'Регистрация ОТ'!G36)","v":""},{"$f":"IF(B34=\"\",\"\",'Регистрация ОТ'!H36)","v":""},{"$f":"IF(B34=\"\",\"\",'Регистрация ОТ'!I36)","v":""},{"$f":"IF(B34=\"\",\"\",'Регистрация ОТ'!D36)","v":""},{"$f":"IF(B34=\"\",\"\",CONCATENATE(\"ОТ \",'Регистрация ОТ'!K36))","v":""},null,null,{"$f":"IF(B34=\"\",\"\",Установка!$C$14)","v":""}]
[26,{"$f":"IF('Регистрация ОТ'!E37=0,\"\",'Регистрация ОТ'!E37)","v":""},null,null,{"$f":"IF(B35=\"\",\"\",'Регистрация ОТ'!F37)","v":""},{"$f":"IF(B35=\"\",\"\",'Регистрация ОТ'!G37)","v":""},{"$f":"IF(B35=\"\",\"\",'Регистрация ОТ'!H37)","v":""},{"$f":"IF(B35=\"\",\"\",'Регистрация ОТ'!I37)","v":""},{"$f":"IF(B35=\"\",\"\",'Регистрация ОТ'!D37)","v":""},{"$f":"IF(B35=\"\",\"\",CONCATENATE(\"ОТ \",'Регистрация ОТ'!K37))","v":""},null,null,{"$f":"IF(B35=\"\",\"\",Установка!$C$14)","v":""}]
[{"$f":"A35+1","v":27},{"$f":"IF('Регистрация ОТ'!E38=0,\"\",'Регистрация ОТ'!E38)","v":""},null,null,{"$f":"IF(B36=\"\",\"\",'Регистрация ОТ'!F38)","v":""},{"$f":"IF(B36=\"\",\"\",'Регистрация ОТ'!G38)","v":""},{"$f":"IF(B36=\"\",\"\",'Регистрация ОТ'!H38)","v":""},{"$f":"IF(B36=\"\",\"\",'Регистрация ОТ'!I38)","v":""},{"$f":"IF(B36=\"\",\"\",'Регистрация ОТ'!D38)","v":""},{"$f":"IF(B36=\"\",\"\",CONCATENATE(\"ОТ \",'Регистрация ОТ'!K38))","v":""},null,null,{"$f":"IF(B36=\"\",\"\",Установка!$C$14)","v":""}]
[28,{"$f":"IF('Регистрация ОТ'!E39=0,\"\",'Регистрация ОТ'!E39)","v":""},null,null,{"$f":"IF(B37=\"\",\"\",'Регистрация ОТ'!F39)","v":""},{"$f":"IF(B37=\"\",\"\",'Регистрация ОТ'!G39)","v":""},{"$f":"IF(B37=\"\",\"\",'Регистрация ОТ'!H39)","v":""},{"$f":"IF(B37=\"\",\"\",'Регистрация ОТ'!I39)","v":""},{"$f":"IF(B37=\"\",\"\",'Регистрация ОТ'!D39)","v":""},{"$f":"IF(B37=\"\",\"\",CONCATENATE(\"ОТ \",'Регистрация ОТ'!K39))","v":""},null,null,{"$f":"IF(B37=\"\",\"\",Установка!$C$14)","v":""}]
[29,{"$f":"IF('Регистрация ОТ'!E40=0,\"\",'Регистрация ОТ'!E40)","v":""},null,null,{"$f":"IF(B38=\"\",\"\",'Регистрация ОТ'!F40)","v":""},{"$f":"IF(B38=\"\",\"\",'Регистрация ОТ'!G40)","v":""},{"$f":"IF(B38=\"\",\"\",'Регистрация ОТ'!H40)","v":""},{"$f":"IF(B38=\"\",\"\",'Регистрация ОТ'!I40)","v":""},{"$f":"IF(B38=\"\",\"\",'Регистрация ОТ'!D40)","v":""},{"$f":"IF(B38=\"\",\"\",CONCATENATE(\"ОТ \",'Регистрация ОТ'!K40))","v":""},null,null,{"$f":"IF(B38=\"\",\"\",Установка!$C$14)","v":""}]
[30,{"$f":"IF('Регистрация ОТ'!E41=0,\"\",'Регистрация ОТ'!E41)","v":""},null,null,{"$f":"IF(B39=\"\",\"\",'Регистрация ОТ'!F41)","v":""},{"$f":"IF(B39=\"\",\"\",'Регистрация ОТ'!G41)","v":""},{"$f":"IF(B39=\"\",\"\",'Регистрация ОТ'!H41)","v":""},{"$f":"IF(B39=\"\",\"\",'Регистрация ОТ'!I41)","v":""},{"$f":"IF(B39=\"\",\"\",'Регистрация ОТ'!D41)","v":""},{"$f":"IF(B39=\"\",\"\",CONCATENATE(\"ОТ \",'Регистрация ОТ'!K41))","v":""},null,null,{"$f":"IF(B39=\"\",\"\",Установка!$C$14)","v":""}]
[31,{"$f":"IF('Регистрация ОТ'!E42=0,\"\",'Регистрация ОТ'!E42)","v":""},null,null,{"$f":"IF(B40=\"\",\"\",'Регистрация ОТ'!F42)","v":""},{"$f":"IF(B40=\"\",\"\",'Регистрация ОТ'!G42)","v":""},{"$f":"IF(B40=\"\",\"\",'Регистрация ОТ'!H42)","v":""},{"$f":"IF(B40=\"\",\"\",'Регистрация ОТ'!I42)","v":""},{"$f":"IF(B40=\"\",\"\",'Регистрация ОТ'!D42)","v":""},{"$f":"IF(B40=\"\",\"\",CONCATENATE(\"ОТ \",'Регистрация ОТ'!K42))","v":""},null,null,{"$f":"IF(B40=\"\",\"\",Установка!$C$14)","v":""}]
[32,{"$f":"IF('Регистрация ОТ'!E43=0,\"\",'Регистрация ОТ'!E43)","v":""},null,null,{"$f":"IF(B41=\"\",\"\",'Регистрация ОТ'!F43)","v":""},{"$f":"IF(B41=\"\",\"\",'Регистрация ОТ'!G43)","v":""},{"$f":"IF(B41=\"\",\"\",'Регистрация ОТ'!H43)","v":""},{"$f":"IF(B41=\"\",\"\",'Регистрация ОТ'!I43)","v":""},{"$f":"IF(B41=\"\",\"\",'Регистрация ОТ'!D43)","v":""},{"$f":"IF(B41=\"\",\"\",CONCATENATE(\"ОТ \",'Регистрация ОТ'!K43))","v":""},null,null,{"$f":"IF(B41=\"\",\"\",Установка!$C$14)","v":""}]
[{"$f":"Установка!$D$52+1","v":27},{"$f":"IF('Регистрация ОТ'!E44=0,\"\",'Регистрация ОТ'!E44)","v":"Закирова Аделя Нуриевна"},null,null,{"$f":"IF(B42=\"\",\"\",'Регистрация ОТ'!F44)","v":35639},{"$f":"IF(B42=\"\",\"\",'Регистрация ОТ'!G44)","v":"2007-06-24"},{"$f":"IF(B42=\"\",\"\",'Регистрация ОТ'!H44)","v":"Казань"},{"$f":"IF(B42=\"\",\"\",'Регистрация ОТ'!I44)","v":"оплачено"},{"$f":"IF(B42=\"\",\"\",'Регистрация ОТ'!D44)","v":19},{"$f":"IF(B42=\"\",\"\",CONCATENATE(\"ОТ \",'Регистрация ОТ'!K44))","v":"ОТ СК"},null,null,{"$f":"IF(B42=\"\",\"\",Установка!$C$14)","v":0}]
[28,{"$f":"IF('Регистрация ОТ'!E45=0,\"\",'Регистрация ОТ'!E45)","v":"Варданян Ванесса Аркадьевна"},null,null,{"$f":"IF(B43=\"\",\"\",'Регистрация ОТ'!F45)","v":38200},{"$f":"IF(B43=\"\",\"\",'Регистрация ОТ'!G45)","v":"2008-04-28"},{"$f":"IF(B43=\"\",\"\",'Регистрация ОТ'!H45)","v":"Киров"},{"$f":"IF(B43=\"\",\"\",'Регистрация ОТ'!I45)","v":"оплачено"},{"$f":"IF(B43=\"\",\"\",'Регистрация ОТ'!D45)","v":11},{"$f":"IF(B43=\"\",\"\",CONCATENATE(\"ОТ \",'Регистрация ОТ'!K45))","v":"ОТ СК"},null,null,{"$f":"IF(B43=\"\",\"\",Установка!$C$14)","v":0}]
[29,{"$f":"IF('Регистрация ОТ'!E46=0,\"\",'Регистрация ОТ'!E46)","v":"Леонова Элина Константиновна"},null,null,{"$f":"IF(B44=\"\",\"\",'Регистрация ОТ'!F46)","v":38589},{"$f":"IF(B44=\"\",\"\",'Регистрация ОТ'!G46)","v":"2007-04-03"},{"$f":"IF(B44=\"\",\"\",'Регистрация ОТ'!H46)","v":"Елабуга"},{"$f":"IF(B44=\"\",\"\",'Регистрация ОТ'!I46)","v":"оплачено"},{"$f":"IF(B44=\"\",\"\",'Регистрация ОТ'!D46)","v":0},{"$f":"IF(B44=\"\",\"\",CONCATENATE(\"ОТ \",'Регистрация ОТ'!K46))","v":"ОТ СК"},null,null,{"$f":"IF(B44=\"\",\"\",Установка!$C$14)","v":0}]
[30,{"$f":"IF('Регистрация ОТ'!E47=0,\"\",'Регистрация ОТ'!E47)","v":"Зверева София Михайловна"},null,null,{"$f":"IF(B45=\"\",\"\",'Регистрация ОТ'!F47)","v":39463},{"$f":"IF(B45=\"\",\"\",'Регистрация ОТ'!G47)","v":"2007-03-13"},{"$f":"IF(B45=\"\",\"\",'Регистрация ОТ'!H47)","v":"Киров"},{"$f":"IF(B45=\"\",\"\",'Регистрация ОТ'!I47)","v":"оплачено"},{"$f":"IF(B45=\"\",\"\",'Регистрация ОТ'!D47)","v":3},{"$f":"IF(B45=\"\",\"\",CONCATENATE(\"ОТ \",'Регистрация ОТ'!K47))","v":"ОТ СК"},null,null,{"$f":"IF(B45=\"\",\"\",Установка!$C$14)","v":0}]
[31,{"$f":"IF('Регистрация ОТ'!E48=0,\"\",'Регистрация ОТ'!E48)","v":"Тарасова Софья Сергеевна"},null,null,{"$f":"IF(B46=\"\",\"\",'Регистрация ОТ'!F48)","v":39542},{"$f":"IF(B46=\"\",\"\",'Регистрация ОТ'!G48)","v":"2008-09-16"},{"$f":"IF(B46=\"\",\"\",'Регистрация ОТ'!H48)","v":"Самара"},{"$f":"IF(B46=\"\",\"\",'Регистрация ОТ'!I48)","v":"оплачено"},{"$f":"IF(B46=\"\",\"\",'Регистрация ОТ'!D48)","v":0},{"$f":"IF(B46=\"\",\"\",CONCATENATE(\"ОТ \",'Регистрация ОТ'!K48))","v":"ОТ СК"},null,null,{"$f":"IF(B46=\"\",\"\",Установка!$C$14)","v":0}]
[32,{"$f":"IF('Регистрация ОТ'!E49=0,\"\",'Регистрация ОТ'!E49)","v":""},null,null,{"$f":"IF(B47=\"\",\"\",'Регистрация ОТ'!F49)","v":""},{"$f":"IF(B47=\"\",\"\",'Регистрация ОТ'!G49)","v":""},{"$f":"IF(B47=\"\",\"\",'Регистрация ОТ'!H49)","v":""},{"$f":"IF(B47=\"\",\"\",'Регистрация ОТ'!I49)","v":""},{"$f":"IF(B47=\"\",\"\",'Регистрация ОТ'!D49)","v":""},{"$f":"IF(B47=\"\",\"\",CONCATENATE(\"ОТ \",'Регистрация ОТ'!K49))","v":""},null,null,{"$f":"IF(B47=\"\",\"\",Установка!$C$14)","v":""}]
[33,{"$f":"IF('Регистрация ОТ'!E50=0,\"\",'Регистрация ОТ'!E50)","v":""},null,null,{"$f":"IF(B48=\"\",\"\",'Регистрация ОТ'!F50)","v":""},{"$f":"IF(B48=\"\",\"\",'Регистрация ОТ'!G50)","v":""},{"$f":"IF(B48=\"\",\"\",'Регистрация ОТ'!H50)","v":""},{"$f":"IF(B48=\"\",\"\",'Регистрация ОТ'!I50)","v":""},{"$f":"IF(B48=\"\",\"\",'Регистрация ОТ'!D50)","v":""},{"$f":"IF(B48=\"\",\"\",CONCATENATE(\"ОТ \",'Регистрация ОТ'!K50))","v":""},null,null,{"$f":"IF(B48=\"\",\"\",Установка!$C$14)","v":""}]
[{"$f":"A48+1","v":34},{"$f":"IF('Регистрация ОТ'!E51=0,\"\",'Регистрация ОТ'!E51)","v":""},null,null,{"$f":"IF(B49=\"\",\"\",'Регистрация ОТ'!F51)","v":""},{"$f":"IF(B49=\"\",\"\",'Регистрация ОТ'!G51)","v":""},{"$f":"IF(B49=\"\",\"\",'Регистрация ОТ'!H51)","v":""},{"$f":"IF(B49=\"\",\"\",'Регистрация ОТ'!I51)","v":""},{"$f":"IF(B49=\"\",\"\",'Регистрация ОТ'!D51)","v":""},{"$f":"IF(B49=\"\",\"\",CONCATENATE(\"ОТ \",'Регистрация ОТ'!K51))","v":""},null,null,{"$f":"IF(B49=\"\",\"\",Установка!$C$14)","v":""}]
[{"$f":"Установка!D51+1","v":33},{"$f":"IF('Лист ожидания'!E12=0,\"\",'Лист ожидания'!E12)","v":""},null,null,{"$f":"IF(B50=\"\",\"\",'Лист ожидания'!F12)","v":""},{"$f":"IF(B50=\"\",\"\",'Лист ожидания'!G12)","v":""},{"$f":"IF(B50=\"\",\"\",'Лист ожидания'!H12)","v":""},{"$f":"IF(B50=\"\",\"\",'Лист ожидания'!I12)","v":""},{"$f":"IF(B50=\"\",\"\",'Лист ожидания'!D12)","v":""},{"$f":"IF(B50=\"\",\"\",\"Ож\")","v":""},null,null,{"$f":"IF(B50=\"\",\"\",Установка!$C$14)","v":""}]
[{"$f":"A50+1","v":34},{"$f":"IF('Лист ожидания'!E13=0,\"\",'Лист ожидания'!E13)","v":""},null,null,{"$f":"IF(B51=\"\",\"\",'Лист ожидания'!F13)","v":""},{"$f":"IF(B51=\"\",\"\",'Лист ожидания'!G13)","v":""},{"$f":"IF(B51=\"\",\"\",'Лист ожидания'!H13)","v":""},{"$f":"IF(B51=\"\",\"\",'Лист ожидания'!I13)","v":""},{"$f":"IF(B51=\"\",\"\",'Лист ожидания'!D13)","v":""},{"$f":"IF(B51=\"\",\"\",\"Ож\")","v":""},null,null,{"$f":"IF(B51=\"\",\"\",Установка!$C$14)","v":""}]
[{"$f":"A51+1","v":35},{"$f":"IF('Лист ожидания'!E14=0,\"\",'Лист ожидания'!E14)","v":""},null,null,{"$f":"IF(B52=\"\",\"\",'Лист ожидания'!F14)","v":""},{"$f":"IF(B52=\"\",\"\",'Лист ожидания'!G14)","v":""},{"$f":"IF(B52=\"\",\"\",'Лист ожидания'!H14)","v":""},{"$f":"IF(B52=\"\",\"\",'Лист ожидания'!I14)","v":""},{"$f":"IF(B52=\"\",\"\",'Лист ожидания'!D14)","v":""},"",null,null,{"$f":"IF(B52=\"\",\"\",Установка!$C$14)","v":""}]
[36,{"$f":"IF('Лист ожидания'!E15=0,\"\",'Лист ожидания'!E15)","v":""},null,null,{"$f":"IF(B53=\"\",\"\",'Лист ожидания'!F15)","v":""},{"$f":"IF(B53=\"\",\"\",'Лист ожидания'!G15)","v":""},{"$f":"IF(B53=\"\",\"\",'Лист ожидания'!H15)","v":""},{"$f":"IF(B53=\"\",\"\",'Лист ожидания'!I15)","v":""},{"$f":"IF(B53=\"\",\"\",'Лист ожидания'!D15)","v":""},"",null,null,{"$f":"IF(B53=\"\",\"\",Установка!$C$14)","v":""}]
[37,{"$f":"IF('Лист ожидания'!E16=0,\"\",'Лист ожидания'!E16)","v":""},null,null,{"$f":"IF(B54=\"\",\"\",'Лист ожидания'!F16)","v":""},{"$f":"IF(B54=\"\",\"\",'Лист ожидания'!G16)","v":""},{"$f":"IF(B54=\"\",\"\",'Лист ожидания'!H16)","v":""},{"$f":"IF(B54=\"\",\"\",'Лист ожидания'!I16)","v":""},{"$f":"IF(B54=\"\",\"\",'Лист ожидания'!D16)","v":""},"",null,null,{"$f":"IF(B54=\"\",\"\",Установка!$C$14)","v":""}]
[38,{"$f":"IF('Лист ожидания'!E17=0,\"\",'Лист ожидания'!E17)","v":""},null,null,{"$f":"IF(B55=\"\",\"\",'Лист ожидания'!F17)","v":""},{"$f":"IF(B55=\"\",\"\",'Лист ожидания'!G17)","v":""},{"$f":"IF(B55=\"\",\"\",'Лист ожидания'!H17)","v":""},{"$f":"IF(B55=\"\",\"\",'Лист ожидания'!I17)","v":""},{"$f":"IF(B55=\"\",\"\",'Лист ожидания'!D17)","v":""},"",null,null,{"$f":"IF(B55=\"\",\"\",Установка!$C$14)","v":""}]
[39,{"$f":"IF('Лист ожидания'!E18=0,\"\",'Лист ожидания'!E18)","v":""},null,null,{"$f":"IF(B56=\"\",\"\",'Лист ожидания'!F18)","v":""},{"$f":"IF(B56=\"\",\"\",'Лист ожидания'!G18)","v":""},{"$f":"IF(B56=\"\",\"\",'Лист ожидания'!H18)","v":""},{"$f":"IF(B56=\"\",\"\",'Лист ожидания'!I18)","v":""},{"$f":"IF(B56=\"\",\"\",'Лист ожидания'!D18)","v":""},"",null,null,{"$f":"IF(B56=\"\",\"\",Установка!$C$14)","v":""}]
[40,{"$f":"IF('Лист ожидания'!E19=0,\"\",'Лист ожидания'!E19)","v":""},null,null,{"$f":"IF(B57=\"\",\"\",'Лист ожидания'!F19)","v":""},{"$f":"IF(B57=\"\",\"\",'Лист ожидания'!G19)","v":""},{"$f":"IF(B57=\"\",\"\",'Лист ожидания'!H19)","v":""},{"$f":"IF(B57=\"\",\"\",'Лист ожидания'!I19)","v":""},{"$f":"IF(B57=\"\",\"\",'Лист ожидания'!D19)","v":""},"",null,null,{"$f":"IF(B57=\"\",\"\",Установка!$C$14)","v":""}]
[41,{"$f":"IF('Лист ожидания'!E20=0,\"\",'Лист ожидания'!E20)","v":""},null,null,{"$f":"IF(B58=\"\",\"\",'Лист ожидания'!F20)","v":""},{"$f":"IF(B58=\"\",\"\",'Лист ожидания'!G20)","v":""},{"$f":"IF(B58=\"\",\"\",'Лист ожидания'!H20)","v":""},{"$f":"IF(B58=\"\",\"\",'Лист ожидания'!I20)","v":""},{"$f":"IF(B58=\"\",\"\",'Лист ожидания'!D20)","v":""},"",null,null,{"$f":"IF(B58=\"\",\"\",Установка!$C$14)","v":""}]
[42,{"$f":"IF('Лист ожидания'!E21=0,\"\",'Лист ожидания'!E21)","v":""},null,null,{"$f":"IF(B59=\"\",\"\",'Лист ожидания'!F21)","v":""},{"$f":"IF(B59=\"\",\"\",'Лист ожидания'!G21)","v":""},{"$f":"IF(B59=\"\",\"\",'Лист ожидания'!H21)","v":""},{"$f":"IF(B59=\"\",\"\",'Лист ожидания'!I21)","v":""},{"$f":"IF(B59=\"\",\"\",'Лист ожидания'!D21)","v":""},"",null,null,{"$f":"IF(B59=\"\",\"\",Установка!$C$14)","v":""}]
[43,{"$f":"IF('Лист ожидания'!E22=0,\"\",'Лист ожидания'!E22)","v":""},null,null,{"$f":"IF(B60=\"\",\"\",'Лист ожидания'!F22)","v":""},{"$f":"IF(B60=\"\",\"\",'Лист ожидания'!G22)","v":""},{"$f":"IF(B60=\"\",\"\",'Лист ожидания'!H22)","v":""},{"$f":"IF(B60=\"\",\"\",'Лист ожидания'!I22)","v":""},{"$f":"IF(B60=\"\",\"\",'Лист ожидания'!D22)","v":""},"",null,null,{"$f":"IF(B60=\"\",\"\",Установка!$C$14)","v":""}]
[44,{"$f":"IF('Лист ожидания'!E23=0,\"\",'Лист ожидания'!E23)","v":""},null,null,{"$f":"IF(B61=\"\",\"\",'Лист ожидания'!F23)","v":""},{"$f":"IF(B61=\"\",\"\",'Лист ожидания'!G23)","v":""},{"$f":"IF(B61=\"\",\"\",'Лист ожидания'!H23)","v":""},{"$f":"IF(B61=\"\",\"\",'Лист ожидания'!I23)","v":""},{"$f":"IF(B61=\"\",\"\",'Лист ожидания'!D23)","v":""},"",null,null,{"$f":"IF(B61=\"\",\"\",Установка!$C$14)","v":""}]
[45,{"$f":"IF('Лист ожидания'!E24=0,\"\",'Лист ожидания'!E24)","v":""},null,null,{"$f":"IF(B62=\"\",\"\",'Лист ожидания'!F24)","v":""},{"$f":"IF(B62=\"\",\"\",'Лист ожидания'!G24)","v":""},{"$f":"IF(B62=\"\",\"\",'Лист ожидания'!H24)","v":""},{"$f":"IF(B62=\"\",\"\",'Лист ожидания'!I24)","v":""},{"$f":"IF(B62=\"\",\"\",'Лист ожидания'!D24)","v":""},"",null,null,{"$f":"IF(B62=\"\",\"\",Установка!$C$14)","v":""}]
[46,{"$f":"IF('Лист ожидания'!E25=0,\"\",'Лист ожидания'!E25)","v":""},null,null,{"$f":"IF(B63=\"\",\"\",'Лист ожидания'!F25)","v":""},{"$f":"IF(B63=\"\",\"\",'Лист ожидания'!G25)","v":""},{"$f":"IF(B63=\"\",\"\",'Лист ожидания'!H25)","v":""},{"$f":"IF(B63=\"\",\"\",'Лист ожидания'!I25)","v":""},{"$f":"IF(B63=\"\",\"\",'Лист ожидания'!D25)","v":""},"",null,null,{"$f":"IF(B63=\"\",\"\",Установка!$C$14)","v":""}]
[47,{"$f":"IF('Лист ожидания'!E26=0,\"\",'Лист ожидания'!E26)","v":""},null,null,{"$f":"IF(B64=\"\",\"\",'Лист ожидания'!F26)","v":""},{"$f":"IF(B64=\"\",\"\",'Лист ожидания'!G26)","v":""},{"$f":"IF(B64=\"\",\"\",'Лист ожидания'!H26)","v":""},{"$f":"IF(B64=\"\",\"\",'Лист ожидания'!I26)","v":""},{"$f":"IF(B64=\"\",\"\",'Лист ожидания'!D26)","v":""},"",null,null,{"$f":"IF(B64=\"\",\"\",Установка!$C$14)","v":""}]
[48,{"$f":"IF('Лист ожидания'!E27=0,\"\",'Лист ожидания'!E27)","v":""},null,null,{"$f":"IF(B65=\"\",\"\",'Лист ожидания'!F27)","v":""},{"$f":"IF(B65=\"\",\"\",'Лист ожидания'!G27)","v":""},{"$f":"IF(B65=\"\",\"\",'Лист ожидания'!H27)","v":""},{"$f":"IF(B65=\"\",\"\",'Лист ожидания'!I27)","v":""},{"$f":"IF(B65=\"\",\"\",'Лист ожидания'!D27)","v":""},"",null,null,{"$f":"IF(B65=\"\",\"\",Установка!$C$14)","v":""}]
[49,{"$f":"IF('Лист ожидания'!E28=0,\"\",'Лист ожидания'!E28)","v":""},null,null,{"$f":"IF(B66=\"\",\"\",'Лист ожидания'!F28)","v":""},{"$f":"IF(B66=\"\",\"\",'Лист ожидания'!G28)","v":""},{"$f":"IF(B66=\"\",\"\",'Лист ожидания'!H28)","v":""},{"$f":"IF(B66=\"\",\"\",'Лист ожидания'!I28)","v":""},{"$f":"IF(B66=\"\",\"\",'Лист ожидания'!D28)","v":""},"",null,null,{"$f":"IF(B66=\"\",\"\",Установка!$C$14)","v":""}]
[50,{"$f":"IF('Лист ожидания'!E29=0,\"\",'Лист ожидания'!E29)","v":""},null,null,{"$f":"IF(B67=\"\",\"\",'Лист ожидания'!F29)","v":""},{"$f":"IF(B67=\"\",\"\",'Лист ожидания'!G29)","v":""},{"$f":"IF(B67=\"\",\"\",'Лист ожидания'!H29)","v":""},{"$f":"IF(B67=\"\",\"\",'Лист ожидания'!I29)","v":""},{"$f":"IF(B67=\"\",\"\",'Лист ожидания'!D29)","v":""},"",null,null,{"$f":"IF(B67=\"\",\"\",Установка!$C$14)","v":""}]
[51,{"$f":"IF('Лист ожидания'!E30=0,\"\",'Лист ожидания'!E30)","v":""},null,null,{"$f":"IF(B68=\"\",\"\",'Лист ожидания'!F30)","v":""},{"$f":"IF(B68=\"\",\"\",'Лист ожидания'!G30)","v":""},{"$f":"IF(B68=\"\",\"\",'Лист ожидания'!H30)","v":""},{"$f":"IF(B68=\"\",\"\",'Лист ожидания'!I30)","v":""},{"$f":"IF(B68=\"\",\"\",'Лист ожидания'!D30)","v":""},"",null,null,{"$f":"IF(B68=\"\",\"\",Установка!$C$14)","v":""}]
[52,{"$f":"IF('Лист ожидания'!E31=0,\"\",'Лист ожидания'!E31)","v":""},null,null,{"$f":"IF(B69=\"\",\"\",'Лист ожидания'!F31)","v":""},{"$f":"IF(B69=\"\",\"\",'Лист ожидания'!G31)","v":""},{"$f":"IF(B69=\"\",\"\",'Лист ожидания'!H31)","v":""},{"$f":"IF(B69=\"\",\"\",'Лист ожидания'!I31)","v":""},{"$f":"IF(B69=\"\",\"\",'Лист ожидания'!D31)","v":""},"",null,null,{"$f":"IF(B69=\"\",\"\",Установка!$C$14)","v":""}]
[53,{"$f":"IF('Лист ожидания'!E32=0,\"\",'Лист ожидания'!E32)","v":""},null,null,{"$f":"IF(B70=\"\",\"\",'Лист ожидания'!F32)","v":""},{"$f":"IF(B70=\"\",\"\",'Лист ожидания'!G32)","v":""},{"$f":"IF(B70=\"\",\"\",'Лист ожидания'!H32)","v":""},{"$f":"IF(B70=\"\",\"\",'Лист ожидания'!I32)","v":""},{"$f":"IF(B70=\"\",\"\",'Лист ожидания'!D32)","v":""},"",null,null,{"$f":"IF(B70=\"\",\"\",Установка!$C$14)","v":""}]
[54,{"$f":"IF('Лист ожидания'!E33=0,\"\",'Лист ожидания'!E33)","v":""},null,null,{"$f":"IF(B71=\"\",\"\",'Лист ожидания'!F33)","v":""},{"$f":"IF(B71=\"\",\"\",'Лист ожидания'!G33)","v":""},{"$f":"IF(B71=\"\",\"\",'Лист ожидания'!H33)","v":""},{"$f":"IF(B71=\"\",\"\",'Лист ожидания'!I33)","v":""},{"$f":"IF(B71=\"\",\"\",'Лист ожидания'!D33)","v":""},"",null,null,{"$f":"IF(B71=\"\",\"\",Установка!$C$14)","v":""}]
[55,{"$f":"IF('Лист ожидания'!E34=0,\"\",'Лист ожидания'!E34)","v":""},null,null,{"$f":"IF(B72=\"\",\"\",'Лист ожидания'!F34)","v":""},{"$f":"IF(B72=\"\",\"\",'Лист ожидания'!G34)","v":""},{"$f":"IF(B72=\"\",\"\",'Лист ожидания'!H34)","v":""},{"$f":"IF(B72=\"\",\"\",'Лист ожидания'!I34)","v":""},{"$f":"IF(B72=\"\",\"\",'Лист ожидания'!D34)","v":""},"",null,null,{"$f":"IF(B72=\"\",\"\",Установка!$C$14)","v":""}]
[56,{"$f":"IF('Лист ожидания'!E35=0,\"\",'Лист ожидания'!E35)","v":""},null,null,{"$f":"IF(B73=\"\",\"\",'Лист ожидания'!F35)","v":""},{"$f":"IF(B73=\"\",\"\",'Лист ожидания'!G35)","v":""},{"$f":"IF(B73=\"\",\"\",'Лист ожидания'!H35)","v":""},{"$f":"IF(B73=\"\",\"\",'Лист ожидания'!I35)","v":""},{"$f":"IF(B73=\"\",\"\",'Лист ожидания'!D35)","v":""},"",null,null,{"$f":"IF(B73=\"\",\"\",Установка!$C$14)","v":""}]
[57,{"$f":"IF('Лист ожидания'!E36=0,\"\",'Лист ожидания'!E36)","v":""},null,null,{"$f":"IF(B74=\"\",\"\",'Лист ожидания'!F36)","v":""},{"$f":"IF(B74=\"\",\"\",'Лист ожидания'!G36)","v":""},{"$f":"IF(B74=\"\",\"\",'Лист ожидания'!H36)","v":""},{"$f":"IF(B74=\"\",\"\",'Лист ожидания'!I36)","v":""},{"$f":"IF(B74=\"\",\"\",'Лист ожидания'!D36)","v":""},"",null,null,{"$f":"IF(B74=\"\",\"\",Установка!$C$14)","v":""}]
[58,{"$f":"IF('Лист ожидания'!E37=0,\"\",'Лист ожидания'!E37)","v":""},null,null,{"$f":"IF(B75=\"\",\"\",'Лист ожидания'!F37)","v":""},{"$f":"IF(B75=\"\",\"\",'Лист ожидания'!G37)","v":""},{"$f":"IF(B75=\"\",\"\",'Лист ожидания'!H37)","v":""},{"$f":"IF(B75=\"\",\"\",'Лист ожидания'!I37)","v":""},{"$f":"IF(B75=\"\",\"\",'Лист ожидания'!D37)","v":""},"",null,null,{"$f":"IF(B75=\"\",\"\",Установка!$C$14)","v":""}]
[59,{"$f":"IF('Лист ожидания'!E38=0,\"\",'Лист ожидания'!E38)","v":""},null,null,{"$f":"IF(B76=\"\",\"\",'Лист ожидания'!F38)","v":""},{"$f":"IF(B76=\"\",\"\",'Лист ожидания'!G38)","v":""},{"$f":"IF(B76=\"\",\"\",'Лист ожидания'!H38)","v":""},{"$f":"IF(B76=\"\",\"\",'Лист ожидания'!I38)","v":""},{"$f":"IF(B76=\"\",\"\",'Лист ожидания'!D38)","v":""},"",null,null,{"$f":"IF(B76=\"\",\"\",Установка!$C$14)","v":""}]
[60,{"$f":"IF('Лист ожидания'!E39=0,\"\",'Лист ожидания'!E39)","v":""},null,null,{"$f":"IF(B77=\"\",\"\",'Лист ожидания'!F39)","v":""},{"$f":"IF(B77=\"\",\"\",'Лист ожидания'!G39)","v":""},{"$f":"IF(B77=\"\",\"\",'Лист ожидания'!H39)","v":""},{"$f":"IF(B77=\"\",\"\",'Лист ожидания'!I39)","v":""},{"$f":"IF(B77=\"\",\"\",'Лист ожидания'!D39)","v":""},"",null,null,{"$f":"IF(B77=\"\",\"\",Установка!$C$14)","v":""}]
[61,{"$f":"IF('Лист ожидания'!E40=0,\"\",'Лист ожидания'!E40)","v":""},null,null,{"$f":"IF(B78=\"\",\"\",'Лист ожидания'!F40)","v":""},{"$f":"IF(B78=\"\",\"\",'Лист ожидания'!G40)","v":""},{"$f":"IF(B78=\"\",\"\",'Лист ожидания'!H40)","v":""},{"$f":"IF(B78=\"\",\"\",'Лист ожидания'!I40)","v":""},{"$f":"IF(B78=\"\",\"\",'Лист ожидания'!D40)","v":""},"",null,null,{"$f":"IF(B78=\"\",\"\",Установка!$C$14)","v":""}]
[62,{"$f":"IF('Лист ожидания'!E41=0,\"\",'Лист ожидания'!E41)","v":""},null,null,{"$f":"IF(B79=\"\",\"\",'Лист ожидания'!F41)","v":""},{"$f":"IF(B79=\"\",\"\",'Лист ожидания'!G41)","v":""},{"$f":"IF(B79=\"\",\"\",'Лист ожидания'!H41)","v":""},{"$f":"IF(B79=\"\",\"\",'Лист ожидания'!I41)","v":""},{"$f":"IF(B79=\"\",\"\",'Лист ожидания'!D41)","v":""},"",null,null,{"$f":"IF(B79=\"\",\"\",Установка!$C$14)","v":""}]
[63,{"$f":"IF('Лист ожидания'!E42=0,\"\",'Лист ожидания'!E42)","v":""},null,null,{"$f":"IF(B80=\"\",\"\",'Лист ожидания'!F42)","v":""},{"$f":"IF(B80=\"\",\"\",'Лист ожидания'!G42)","v":""},{"$f":"IF(B80=\"\",\"\",'Лист ожидания'!H42)","v":""},{"$f":"IF(B80=\"\",\"\",'Лист ожидания'!I42)","v":""},{"$f":"IF(B80=\"\",\"\",'Лист ожидания'!D42)","v":""},"",null,null,{"$f":"IF(B80=\"\",\"\",Установка!$C$14)","v":""}]
[64,{"$f":"IF('Лист ожидания'!E43=0,\"\",'Лист ожидания'!E43)","v":""},null,null,{"$f":"IF(B81=\"\",\"\",'Лист ожидания'!F43)","v":""},{"$f":"IF(B81=\"\",\"\",'Лист ожидания'!G43)","v":""},{"$f":"IF(B81=\"\",\"\",'Лист ожидания'!H43)","v":""},{"$f":"IF(B81=\"\",\"\",'Лист ожидания'!I43)","v":""},{"$f":"IF(B81=\"\",\"\",'Лист ожидания'!D43)","v":""},"",null,null,{"$f":"IF(B81=\"\",\"\",Установка!$C$14)","v":""}]
[65,{"$f":"IF('Лист ожидания'!E44=0,\"\",'Лист ожидания'!E44)","v":""},null,null,{"$f":"IF(B82=\"\",\"\",'Лист ожидания'!F44)","v":""},{"$f":"IF(B82=\"\",\"\",'Лист ожидания'!G44)","v":""},{"$f":"IF(B82=\"\",\"\",'Лист ожидания'!H44)","v":""},{"$f":"IF(B82=\"\",\"\",'Лист ожидания'!I44)","v":""},{"$f":"IF(B82=\"\",\"\",'Лист ожидания'!D44)","v":""},"",null,null,{"$f":"IF(B82=\"\",\"\",Установка!$C$14)","v":""}]
[66,{"$f":"IF('Лист ожидания'!E45=0,\"\",'Лист ожидания'!E45)","v":""},null,null,{"$f":"IF(B83=\"\",\"\",'Лист ожидания'!F45)","v":""},{"$f":"IF(B83=\"\",\"\",'Лист ожидания'!G45)","v":""},{"$f":"IF(B83=\"\",\"\",'Лист ожидания'!H45)","v":""},{"$f":"IF(B83=\"\",\"\",'Лист ожидания'!I45)","v":""},{"$f":"IF(B83=\"\",\"\",'Лист ожидания'!D45)","v":""},"",null,null,{"$f":"IF(B83=\"\",\"\",Установка!$C$14)","v":""}]
[67,{"$f":"IF('Лист ожидания'!E46=0,\"\",'Лист ожидания'!E46)","v":""},null,null,{"$f":"IF(B84=\"\",\"\",'Лист ожидания'!F46)","v":""},{"$f":"IF(B84=\"\",\"\",'Лист ожидания'!G46)","v":""},{"$f":"IF(B84=\"\",\"\",'Лист ожидания'!H46)","v":""},{"$f":"IF(B84=\"\",\"\",'Лист ожидания'!I46)","v":""},{"$f":"IF(B84=\"\",\"\",'Лист ожидания'!D46)","v":""},"",null,null,{"$f":"IF(B84=\"\",\"\",Установка!$C$14)","v":""}]
[68,{"$f":"IF('Лист ожидания'!E47=0,\"\",'Лист ожидания'!E47)","v":""},null,null,{"$f":"IF(B85=\"\",\"\",'Лист ожидания'!F47)","v":""},{"$f":"IF(B85=\"\",\"\",'Лист ожидания'!G47)","v":""},{"$f":"IF(B85=\"\",\"\",'Лист ожидания'!H47)","v":""},{"$f":"IF(B85=\"\",\"\",'Лист ожидания'!I47)","v":""},{"$f":"IF(B85=\"\",\"\",'Лист ожидания'!D47)","v":""},"",null,null,{"$f":"IF(B85=\"\",\"\",Установка!$C$14)","v":""}]
[69,{"$f":"IF('Лист ожидания'!E48=0,\"\",'Лист ожидания'!E48)","v":""},null,null,{"$f":"IF(B86=\"\",\"\",'Лист ожидания'!F48)","v":""},{"$f":"IF(B86=\"\",\"\",'Лист ожидания'!G48)","v":""},{"$f":"IF(B86=\"\",\"\",'Лист ожидания'!H48)","v":""},{"$f":"IF(B86=\"\",\"\",'Лист ожидания'!I48)","v":""},{"$f":"IF(B86=\"\",\"\",'Лист ожидания'!D48)","v":""},"",null,null,{"$f":"IF(B86=\"\",\"\",Установка!$C$14)","v":""}]
[70,{"$f":"IF('Лист ожидания'!E49=0,\"\",'Лист ожидания'!E49)","v":""},null,null,{"$f":"IF(B87=\"\",\"\",'Лист ожидания'!F49)","v":""},{"$f":"IF(B87=\"\",\"\",'Лист ожидания'!G49)","v":""},{"$f":"IF(B87=\"\",\"\",'Лист ожидания'!H49)","v":""},{"$f":"IF(B87=\"\",\"\",'Лист ожидания'!I49)","v":""},{"$f":"IF(B87=\"\",\"\",'Лист ожидания'!D49)","v":""},"",null,null,{"$f":"IF(B87=\"\",\"\",Установка!$C$14)","v":""}]
[71,{"$f":"IF('Лист ожидания'!E50=0,\"\",'Лист ожидания'!E50)","v":""},null,null,{"$f":"IF(B88=\"\",\"\",'Лист ожидания'!F50)","v":""},{"$f":"IF(B88=\"\",\"\",'Лист ожидания'!G50)","v":""},{"$f":"IF(B88=\"\",\"\",'Лист ожидания'!H50)","v":""},{"$f":"IF(B88=\"\",\"\",'Лист ожидания'!I50)","v":""},{"$f":"IF(B88=\"\",\"\",'Лист ожидания'!D50)","v":""},"",null,null,{"$f":"IF(B88=\"\",\"\",Установка!$C$14)","v":""}]
[72,{"$f":"IF('Лист ожидания'!E51=0,\"\",'Лист ожидания'!E51)","v":""},null,null,{"$f":"IF(B89=\"\",\"\",'Лист ожидания'!F51)","v":""},{"$f":"IF(B89=\"\",\"\",'Лист ожидания'!G51)","v":""},{"$f":"IF(B89=\"\",\"\",'Лист ожидания'!H51)","v":""},{"$f":"IF(B89=\"\",\"\",'Лист ожидания'!I51)","v":""},{"$f":"IF(B89=\"\",\"\",'Лист ожидания'!D51)","v":""},"",null,null,{"$f":"IF(B89=\"\",\"\",Установка!$C$14)","v":""}]
[73,{"$f":"IF('Лист ожидания'!E52=0,\"\",'Лист ожидания'!E52)","v":""},null,null,{"$f":"IF(B90=\"\",\"\",'Лист ожидания'!F52)","v":""},{"$f":"IF(B90=\"\",\"\",'Лист ожидания'!G52)","v":""},{"$f":"IF(B90=\"\",\"\",'Лист ожидания'!H52)","v":""},{"$f":"IF(B90=\"\",\"\",'Лист ожидания'!I52)","v":""},{"$f":"IF(B90=\"\",\"\",'Лист ожидания'!D52)","v":""},"",null,null,{"$f":"IF(B90=\"\",\"\",Установка!$C$14)","v":""}]
[74,{"$f":"IF('Лист ожидания'!E53=0,\"\",'Лист ожидания'!E53)","v":""},null,null,{"$f":"IF(B91=\"\",\"\",'Лист ожидания'!F53)","v":""},{"$f":"IF(B91=\"\",\"\",'Лист ожидания'!G53)","v":""},{"$f":"IF(B91=\"\",\"\",'Лист ожидания'!H53)","v":""},{"$f":"IF(B91=\"\",\"\",'Лист ожидания'!I53)","v":""},{"$f":"IF(B91=\"\",\"\",'Лист ожидания'!D53)","v":""},"",null,null,{"$f":"IF(B91=\"\",\"\",Установка!$C$14)","v":""}]
[75,{"$f":"IF('Лист ожидания'!E54=0,\"\",'Лист ожидания'!E54)","v":""},null,null,{"$f":"IF(B92=\"\",\"\",'Лист ожидания'!F54)","v":""},{"$f":"IF(B92=\"\",\"\",'Лист ожидания'!G54)","v":""},{"$f":"IF(B92=\"\",\"\",'Лист ожидания'!H54)","v":""},{"$f":"IF(B92=\"\",\"\",'Лист ожидания'!I54)","v":""},{"$f":"IF(B92=\"\",\"\",'Лист ожидания'!D54)","v":""},"",null,null,{"$f":"IF(B92=\"\",\"\",Установка!$C$14)","v":""}]
[76,{"$f":"IF('Лист ожидания'!E55=0,\"\",'Лист ожидания'!E55)","v":""},null,null,{"$f":"IF(B93=\"\",\"\",'Лист ожидания'!F55)","v":""},{"$f":"IF(B93=\"\",\"\",'Лист ожидания'!G55)","v":""},{"$f":"IF(B93=\"\",\"\",'Лист ожидания'!H55)","v":""},{"$f":"IF(B93=\"\",\"\",'Лист ожидания'!I55)","v":""},{"$f":"IF(B93=\"\",\"\",'Лист ожидания'!D55)","v":""},"",null,null,{"$f":"IF(B93=\"\",\"\",Установка!$C$14)","v":""}]
[77,{"$f":"IF('Лист ожидания'!E56=0,\"\",'Лист ожидания'!E56)","v":""},null,null,{"$f":"IF(B94=\"\",\"\",'Лист ожидания'!F56)","v":""},{"$f":"IF(B94=\"\",\"\",'Лист ожидания'!G56)","v":""},{"$f":"IF(B94=\"\",\"\",'Лист ожидания'!H56)","v":""},{"$f":"IF(B94=\"\",\"\",'Лист ожидания'!I56)","v":""},{"$f":"IF(B94=\"\",\"\",'Лист ожидания'!D56)","v":""},"",null,null,{"$f":"IF(B94=\"\",\"\",Установка!$C$14)","v":""}]
[78,{"$f":"IF('Лист ожидания'!E57=0,\"\",'Лист ожидания'!E57)","v":""},null,null,{"$f":"IF(B95=\"\",\"\",'Лист ожидания'!F57)","v":""},{"$f":"IF(B95=\"\",\"\",'Лист ожидания'!G57)","v":""},{"$f":"IF(B95=\"\",\"\",'Лист ожидания'!H57)","v":""},{"$f":"IF(B95=\"\",\"\",'Лист ожидания'!I57)","v":""},{"$f":"IF(B95=\"\",\"\",'Лист ожидания'!D57)","v":""},"",null,null,{"$f":"IF(B95=\"\",\"\",Установка!$C$14)","v":""}]
[79,{"$f":"IF('Лист ожидания'!E58=0,\"\",'Лист ожидания'!E58)","v":""},null,null,{"$f":"IF(B96=\"\",\"\",'Лист ожидания'!F58)","v":""},{"$f":"IF(B96=\"\",\"\",'Лист ожидания'!G58)","v":""},{"$f":"IF(B96=\"\",\"\",'Лист ожидания'!H58)","v":""},{"$f":"IF(B96=\"\",\"\",'Лист ожидания'!I58)","v":""},{"$f":"IF(B96=\"\",\"\",'Лист ожидания'!D58)","v":""},"",null,null,{"$f":"IF(B96=\"\",\"\",Установка!$C$14)","v":""}]
[80,{"$f":"IF('Лист ожидания'!E59=0,\"\",'Лист ожидания'!E59)","v":""},null,null,{"$f":"IF(B97=\"\",\"\",'Лист ожидания'!F59)","v":""},{"$f":"IF(B97=\"\",\"\",'Лист ожидания'!G59)","v":""},{"$f":"IF(B97=\"\",\"\",'Лист ожидания'!H59)","v":""},{"$f":"IF(B97=\"\",\"\",'Лист ожидания'!I59)","v":""},{"$f":"IF(B97=\"\",\"\",'Лист ожидания'!D59)","v":""},"",null,null,{"$f":"IF(B97=\"\",\"\",Установка!$C$14)","v":""}]
[81,{"$f":"IF('Лист ожидания'!E60=0,\"\",'Лист ожидания'!E60)","v":""},null,null,{"$f":"IF(B98=\"\",\"\",'Лист ожидания'!F60)","v":""},{"$f":"IF(B98=\"\",\"\",'Лист ожидания'!G60)","v":""},{"$f":"IF(B98=\"\",\"\",'Лист ожидания'!H60)","v":""},{"$f":"IF(B98=\"\",\"\",'Лист ожидания'!I60)","v":""},{"$f":"IF(B98=\"\",\"\",'Лист ожидания'!D60)","v":""},"",null,null,{"$f":"IF(B98=\"\",\"\",Установка!$C$14)","v":""}]
[82,{"$f":"IF('Лист ожидания'!E61=0,\"\",'Лист ожидания'!E61)","v":""},null,null,{"$f":"IF(B99=\"\",\"\",'Лист ожидания'!F61)","v":""},{"$f":"IF(B99=\"\",\"\",'Лист ожидания'!G61)","v":""},{"$f":"IF(B99=\"\",\"\",'Лист ожидания'!H61)","v":""},{"$f":"IF(B99=\"\",\"\",'Лист ожидания'!I61)","v":""},{"$f":"IF(B99=\"\",\"\",'Лист ожидания'!D61)","v":""},"",null,null,{"$f":"IF(B99=\"\",\"\",Установка!$C$14)","v":""}]
[83,{"$f":"IF('Лист ожидания'!E62=0,\"\",'Лист ожидания'!E62)","v":""},null,null,{"$f":"IF(B100=\"\",\"\",'Лист ожидания'!F62)","v":""},{"$f":"IF(B100=\"\",\"\",'Лист ожидания'!G62)","v":""},{"$f":"IF(B100=\"\",\"\",'Лист ожидания'!H62)","v":""},{"$f":"IF(B100=\"\",\"\",'Лист ожидания'!I62)","v":""},{"$f":"IF(B100=\"\",\"\",'Лист ожидания'!D62)","v":""},"",null,null,{"$f":"IF(B100=\"\",\"\",Установка!$C$14)","v":""}]
[84,{"$f":"IF('Лист ожидания'!E63=0,\"\",'Лист ожидания'!E63)","v":""},null,null,{"$f":"IF(B101=\"\",\"\",'Лист ожидания'!F63)","v":""},{"$f":"IF(B101=\"\",\"\",'Лист ожидания'!G63)","v":""},{"$f":"IF(B101=\"\",\"\",'Лист ожидания'!H63)","v":""},{"$f":"IF(B101=\"\",\"\",'Лист ожидания'!I63)","v":""},{"$f":"IF(B101=\"\",\"\",'Лист ожидания'!D63)","v":""},"",null,null,{"$f":"IF(B101=\"\",\"\",Установка!$C$14)","v":""}]
[85,{"$f":"IF('Лист ожидания'!E64=0,\"\",'Лист ожидания'!E64)","v":""},null,null,{"$f":"IF(B102=\"\",\"\",'Лист ожидания'!F64)","v":""},{"$f":"IF(B102=\"\",\"\",'Лист ожидания'!G64)","v":""},{"$f":"IF(B102=\"\",\"\",'Лист ожидания'!H64)","v":""},{"$f":"IF(B102=\"\",\"\",'Лист ожидания'!I64)","v":""},{"$f":"IF(B102=\"\",\"\",'Лист ожидания'!D64)","v":""},"",null,null,{"$f":"IF(B102=\"\",\"\",Установка!$C$14)","v":""}]
[{"$f":"A102+1","v":86},{"$f":"IF('Лист ожидания'!E65=0,\"\",'Лист ожидания'!E65)","v":""},null,null,{"$f":"IF(B103=\"\",\"\",'Лист ожидания'!F65)","v":""},{"$f":"IF(B103=\"\",\"\",'Лист ожидания'!G65)","v":""},{"$f":"IF(B103=\"\",\"\",'Лист ожидания'!H65)","v":""},{"$f":"IF(B103=\"\",\"\",'Лист ожидания'!I65)","v":""},{"$f":"IF(B103=\"\",\"\",'Лист ожидания'!D65)","v":""},"",null,null,{"$f":"IF(B103=\"\",\"\",Установка!$C$14)","v":""}]
[{"$f":"A103+1","v":87},{"$f":"IF('Лист ожидания'!E66=0,\"\",'Лист ожидания'!E66)","v":""},null,null,{"$f":"IF(B104=\"\",\"\",'Лист ожидания'!F66)","v":""},{"$f":"IF(B104=\"\",\"\",'Лист ожидания'!G66)","v":""},{"$f":"IF(B104=\"\",\"\",'Лист ожидания'!H66)","v":""},{"$f":"IF(B104=\"\",\"\",'Лист ожидания'!I66)","v":""},{"$f":"IF(B104=\"\",\"\",'Лист ожидания'!D66)","v":""},"",null,null,{"$f":"IF(B104=\"\",\"\",Установка!$C$14)","v":""}]
[88,{"$f":"IF('Лист ожидания'!E67=0,\"\",'Лист ожидания'!E67)","v":""},null,null,{"$f":"IF(B105=\"\",\"\",'Лист ожидания'!F67)","v":""},{"$f":"IF(B105=\"\",\"\",'Лист ожидания'!G67)","v":""},{"$f":"IF(B105=\"\",\"\",'Лист ожидания'!H67)","v":""},{"$f":"IF(B105=\"\",\"\",'Лист ожидания'!I67)","v":""},{"$f":"IF(B105=\"\",\"\",'Лист ожидания'!D67)","v":""},"",null,null,{"$f":"IF(B105=\"\",\"\",Установка!$C$14)","v":""}]
[89,{"$f":"IF('Лист ожидания'!E68=0,\"\",'Лист ожидания'!E68)","v":""},null,null,{"$f":"IF(B106=\"\",\"\",'Лист ожидания'!F68)","v":""},{"$f":"IF(B106=\"\",\"\",'Лист ожидания'!G68)","v":""},{"$f":"IF(B106=\"\",\"\",'Лист ожидания'!H68)","v":""},{"$f":"IF(B106=\"\",\"\",'Лист ожидания'!I68)","v":""},{"$f":"IF(B106=\"\",\"\",'Лист ожидания'!D68)","v":""},"",null,null,{"$f":"IF(B106=\"\",\"\",Установка!$C$14)","v":""}]
[90,{"$f":"IF('Лист ожидания'!E69=0,\"\",'Лист ожидания'!E69)","v":""},null,null,{"$f":"IF(B107=\"\",\"\",'Лист ожидания'!F69)","v":""},{"$f":"IF(B107=\"\",\"\",'Лист ожидания'!G69)","v":""},{"$f":"IF(B107=\"\",\"\",'Лист ожидания'!H69)","v":""},{"$f":"IF(B107=\"\",\"\",'Лист ожидания'!I69)","v":""},{"$f":"IF(B107=\"\",\"\",'Лист ожидания'!D69)","v":""},"",null,null,{"$f":"IF(B107=\"\",\"\",Установка!$C$14)","v":""}]
[91,{"$f":"IF('Лист ожидания'!E70=0,\"\",'Лист ожидания'!E70)","v":""},null,null,{"$f":"IF(B108=\"\",\"\",'Лист ожидания'!F70)","v":""},{"$f":"IF(B108=\"\",\"\",'Лист ожидания'!G70)","v":""},{"$f":"IF(B108=\"\",\"\",'Лист ожидания'!H70)","v":""},{"$f":"IF(B108=\"\",\"\",'Лист ожидания'!I70)","v":""},{"$f":"IF(B108=\"\",\"\",'Лист ожидания'!D70)","v":""},"",null,null,{"$f":"IF(B108=\"\",\"\",Установка!$C$14)","v":""}]
[92,{"$f":"IF('Лист ожидания'!E71=0,\"\",'Лист ожидания'!E71)","v":""},null,null,{"$f":"IF(B109=\"\",\"\",'Лист ожидания'!F71)","v":""},{"$f":"IF(B109=\"\",\"\",'Лист ожидания'!G71)","v":""},{"$f":"IF(B109=\"\",\"\",'Лист ожидания'!H71)","v":""},{"$f":"IF(B109=\"\",\"\",'Лист ожидания'!I71)","v":""},{"$f":"IF(B109=\"\",\"\",'Лист ожидания'!D71)","v":""},"",null,null,{"$f":"IF(B109=\"\",\"\",Установка!$C$14)","v":""}]
[93,{"$f":"IF('Лист ожидания'!E72=0,\"\",'Лист ожидания'!E72)","v":""},null,null,{"$f":"IF(B110=\"\",\"\",'Лист ожидания'!F72)","v":""},{"$f":"IF(B110=\"\",\"\",'Лист ожидания'!G72)","v":""},{"$f":"IF(B110=\"\",\"\",'Лист ожидания'!H72)","v":""},{"$f":"IF(B110=\"\",\"\",'Лист ожидания'!I72)","v":""},{"$f":"IF(B110=\"\",\"\",'Лист ожидания'!D72)","v":""},"",null,null,{"$f":"IF(B110=\"\",\"\",Установка!$C$14)","v":""}]
[94,{"$f":"IF('Лист ожидания'!E73=0,\"\",'Лист ожидания'!E73)","v":""},null,null,{"$f":"IF(B111=\"\",\"\",'Лист ожидания'!F73)","v":""},{"$f":"IF(B111=\"\",\"\",'Лист ожидания'!G73)","v":""},{"$f":"IF(B111=\"\",\"\",'Лист ожидания'!H73)","v":""},{"$f":"IF(B111=\"\",\"\",'Лист ожидания'!I73)","v":""},{"$f":"IF(B111=\"\",\"\",'Лист ожидания'!D73)","v":""},"",null,null,{"$f":"IF(B111=\"\",\"\",Установка!$C$14)","v":""}]
[95,{"$f":"IF('Лист ожидания'!E74=0,\"\",'Лист ожидания'!E74)","v":""},null,null,{"$f":"IF(B112=\"\",\"\",'Лист ожидания'!F74)","v":""},{"$f":"IF(B112=\"\",\"\",'Лист ожидания'!G74)","v":""},{"$f":"IF(B112=\"\",\"\",'Лист ожидания'!H74)","v":""},{"$f":"IF(B112=\"\",\"\",'Лист ожидания'!I74)","v":""},{"$f":"IF(B112=\"\",\"\",'Лист ожидания'!D74)","v":""},"",null,null,{"$f":"IF(B112=\"\",\"\",Установка!$C$14)","v":""}]
[96,{"$f":"IF('Лист ожидания'!E75=0,\"\",'Лист ожидания'!E75)","v":""},null,null,{"$f":"IF(B113=\"\",\"\",'Лист ожидания'!F75)","v":""},{"$f":"IF(B113=\"\",\"\",'Лист ожидания'!G75)","v":""},{"$f":"IF(B113=\"\",\"\",'Лист ожидания'!H75)","v":""},{"$f":"IF(B113=\"\",\"\",'Лист ожидания'!I75)","v":""},{"$f":"IF(B113=\"\",\"\",'Лист ожидания'!D75)","v":""},"",null,null,{"$f":"IF(B113=\"\",\"\",Установка!$C$14)","v":""}]
[97,{"$f":"IF('Лист ожидания'!E76=0,\"\",'Лист ожидания'!E76)","v":""},null,null,{"$f":"IF(B114=\"\",\"\",'Лист ожидания'!F76)","v":""},{"$f":"IF(B114=\"\",\"\",'Лист ожидания'!G76)","v":""},{"$f":"IF(B114=\"\",\"\",'Лист ожидания'!H76)","v":""},{"$f":"IF(B114=\"\",\"\",'Лист ожидания'!I76)","v":""},{"$f":"IF(B114=\"\",\"\",'Лист ожидания'!D76)","v":""},"",null,null,{"$f":"IF(B114=\"\",\"\",Установка!$C$14)","v":""}]
[98,{"$f":"IF('Лист ожидания'!E77=0,\"\",'Лист ожидания'!E77)","v":""},null,null,{"$f":"IF(B115=\"\",\"\",'Лист ожидания'!F77)","v":""},{"$f":"IF(B115=\"\",\"\",'Лист ожидания'!G77)","v":""},{"$f":"IF(B115=\"\",\"\",'Лист ожидания'!H77)","v":""},{"$f":"IF(B115=\"\",\"\",'Лист ожидания'!I77)","v":""},{"$f":"IF(B115=\"\",\"\",'Лист ожидания'!D77)","v":""},{"$f":"IF(B115=\"\",\"\",\"Ож\")","v":""},null,null,{"$f":"IF(B115=\"\",\"\",Установка!$C$14)","v":""}]
[99,{"$f":"IF('Лист ожидания'!E78=0,\"\",'Лист ожидания'!E78)","v":""},null,null,{"$f":"IF(B116=\"\",\"\",'Лист ожидания'!F78)","v":""},{"$f":"IF(B116=\"\",\"\",'Лист ожидания'!G78)","v":""},{"$f":"IF(B116=\"\",\"\",'Лист ожидания'!H78)","v":""},{"$f":"IF(B116=\"\",\"\",'Лист ожидания'!I78)","v":""},{"$f":"IF(B116=\"\",\"\",'Лист ожидания'!D78)","v":""},"",null,null,{"$f":"IF(B116=\"\",\"\",Установка!$C$14)","v":""}]
[100,{"$f":"IF('Лист ожидания'!E79=0,\"\",'Лист ожидания'!E79)","v":""},null,null,{"$f":"IF(B117=\"\",\"\",'Лист ожидания'!F79)","v":""},{"$f":"IF(B117=\"\",\"\",'Лист ожидания'!G79)","v":""},{"$f":"IF(B117=\"\",\"\",'Лист ожидания'!H79)","v":""},{"$f":"IF(B117=\"\",\"\",'Лист ожидания'!I79)","v":""},{"$f":"IF(B117=\"\",\"\",'Лист ожидания'!D79)","v":""},"",null,null,{"$f":"IF(B117=\"\",\"\",Установка!$C$14)","v":""}]
[101,{"$f":"IF('Лист ожидания'!E80=0,\"\",'Лист ожидания'!E80)","v":""},null,null,{"$f":"IF(B118=\"\",\"\",'Лист ожидания'!F80)","v":""},{"$f":"IF(B118=\"\",\"\",'Лист ожидания'!G80)","v":""},{"$f":"IF(B118=\"\",\"\",'Лист ожидания'!H80)","v":""},{"$f":"IF(B118=\"\",\"\",'Лист ожидания'!I80)","v":""},{"$f":"IF(B118=\"\",\"\",'Лист ожидания'!D80)","v":""},"",null,null,{"$f":"IF(B118=\"\",\"\",Установка!$C$14)","v":""}]
[102,{"$f":"IF('Лист ожидания'!E81=0,\"\",'Лист ожидания'!E81)","v":""},null,null,{"$f":"IF(B119=\"\",\"\",'Лист ожидания'!F81)","v":""},{"$f":"IF(B119=\"\",\"\",'Лист ожидания'!G81)","v":""},{"$f":"IF(B119=\"\",\"\",'Лист ожидания'!H81)","v":""},{"$f":"IF(B119=\"\",\"\",'Лист ожидания'!I81)","v":""},{"$f":"IF(B119=\"\",\"\",'Лист ожидания'!D81)","v":""},"",null,null,{"$f":"IF(B119=\"\",\"\",Установка!$C$14)","v":""}]
[103,{"$f":"IF('Лист ожидания'!E82=0,\"\",'Лист ожидания'!E82)","v":""},null,null,{"$f":"IF(B120=\"\",\"\",'Лист ожидания'!F82)","v":""},{"$f":"IF(B120=\"\",\"\",'Лист ожидания'!G82)","v":""},{"$f":"IF(B120=\"\",\"\",'Лист ожидания'!H82)","v":""},{"$f":"IF(B120=\"\",\"\",'Лист ожидания'!I82)","v":""},{"$f":"IF(B120=\"\",\"\",'Лист ожидания'!D82)","v":""},"",null,null,{"$f":"IF(B120=\"\",\"\",Установка!$C$14)","v":""}]
[104,{"$f":"IF('Лист ожидания'!E83=0,\"\",'Лист ожидания'!E83)","v":""},null,null,{"$f":"IF(B121=\"\",\"\",'Лист ожидания'!F83)","v":""},{"$f":"IF(B121=\"\",\"\",'Лист ожидания'!G83)","v":""},{"$f":"IF(B121=\"\",\"\",'Лист ожидания'!H83)","v":""},{"$f":"IF(B121=\"\",\"\",'Лист ожидания'!I83)","v":""},{"$f":"IF(B121=\"\",\"\",'Лист ожидания'!D83)","v":""},"",null,null,{"$f":"IF(B121=\"\",\"\",Установка!$C$14)","v":""}]
[105,{"$f":"IF('Лист ожидания'!E84=0,\"\",'Лист ожидания'!E84)","v":""},null,null,{"$f":"IF(B122=\"\",\"\",'Лист ожидания'!F84)","v":""},{"$f":"IF(B122=\"\",\"\",'Лист ожидания'!G84)","v":""},{"$f":"IF(B122=\"\",\"\",'Лист ожидания'!H84)","v":""},{"$f":"IF(B122=\"\",\"\",'Лист ожидания'!I84)","v":""},{"$f":"IF(B122=\"\",\"\",'Лист ожидания'!D84)","v":""},"",null,null,{"$f":"IF(B122=\"\",\"\",Установка!$C$14)","v":""}]
[106,{"$f":"IF('Лист ожидания'!E85=0,\"\",'Лист ожидания'!E85)","v":""},null,null,{"$f":"IF(B123=\"\",\"\",'Лист ожидания'!F85)","v":""},{"$f":"IF(B123=\"\",\"\",'Лист ожидания'!G85)","v":""},{"$f":"IF(B123=\"\",\"\",'Лист ожидания'!H85)","v":""},{"$f":"IF(B123=\"\",\"\",'Лист ожидания'!I85)","v":""},{"$f":"IF(B123=\"\",\"\",'Лист ожидания'!D85)","v":""},"",null,null,{"$f":"IF(B123=\"\",\"\",Установка!$C$14)","v":""}]
[107,{"$f":"IF('Лист ожидания'!E86=0,\"\",'Лист ожидания'!E86)","v":""},null,null,{"$f":"IF(B124=\"\",\"\",'Лист ожидания'!F86)","v":""},{"$f":"IF(B124=\"\",\"\",'Лист ожидания'!G86)","v":""},{"$f":"IF(B124=\"\",\"\",'Лист ожидания'!H86)","v":""},{"$f":"IF(B124=\"\",\"\",'Лист ожидания'!I86)","v":""},{"$f":"IF(B124=\"\",\"\",'Лист ожидания'!D86)","v":""},"",null,null,{"$f":"IF(B124=\"\",\"\",Установка!$C$14)","v":""}]
[108,{"$f":"IF('Лист ожидания'!E87=0,\"\",'Лист ожидания'!E87)","v":""},null,null,{"$f":"IF(B125=\"\",\"\",'Лист ожидания'!F87)","v":""},{"$f":"IF(B125=\"\",\"\",'Лист ожидания'!G87)","v":""},{"$f":"IF(B125=\"\",\"\",'Лист ожидания'!H87)","v":""},{"$f":"IF(B125=\"\",\"\",'Лист ожидания'!I87)","v":""},{"$f":"IF(B125=\"\",\"\",'Лист ожидания'!D87)","v":""},"",null,null,{"$f":"IF(B125=\"\",\"\",Установка!$C$14)","v":""}]
[109,{"$f":"IF('Лист ожидания'!E88=0,\"\",'Лист ожидания'!E88)","v":""},null,null,{"$f":"IF(B126=\"\",\"\",'Лист ожидания'!F88)","v":""},{"$f":"IF(B126=\"\",\"\",'Лист ожидания'!G88)","v":""},{"$f":"IF(B126=\"\",\"\",'Лист ожидания'!H88)","v":""},{"$f":"IF(B126=\"\",\"\",'Лист ожидания'!I88)","v":""},{"$f":"IF(B126=\"\",\"\",'Лист ожидания'!D88)","v":""},"",null,null,{"$f":"IF(B126=\"\",\"\",Установка!$C$14)","v":""}]
[110,{"$f":"IF('Лист ожидания'!E89=0,\"\",'Лист ожидания'!E89)","v":""},null,null,{"$f":"IF(B127=\"\",\"\",'Лист ожидания'!F89)","v":""},{"$f":"IF(B127=\"\",\"\",'Лист ожидания'!G89)","v":""},{"$f":"IF(B127=\"\",\"\",'Лист ожидания'!H89)","v":""},{"$f":"IF(B127=\"\",\"\",'Лист ожидания'!I89)","v":""},{"$f":"IF(B127=\"\",\"\",'Лист ожидания'!D89)","v":""},"",null,null,{"$f":"IF(B127=\"\",\"\",Установка!$C$14)","v":""}]
[111,{"$f":"IF('Лист ожидания'!E90=0,\"\",'Лист ожидания'!E90)","v":""},null,null,{"$f":"IF(B128=\"\",\"\",'Лист ожидания'!F90)","v":""},{"$f":"IF(B128=\"\",\"\",'Лист ожидания'!G90)","v":""},{"$f":"IF(B128=\"\",\"\",'Лист ожидания'!H90)","v":""},{"$f":"IF(B128=\"\",\"\",'Лист ожидания'!I90)","v":""},{"$f":"IF(B128=\"\",\"\",'Лист ожидания'!D90)","v":""},"",null,null,{"$f":"IF(B128=\"\",\"\",Установка!$C$14)","v":""}]
[112,{"$f":"IF('Лист ожидания'!E91=0,\"\",'Лист ожидания'!E91)","v":""},null,null,{"$f":"IF(B129=\"\",\"\",'Лист ожидания'!F91)","v":""},{"$f":"IF(B129=\"\",\"\",'Лист ожидания'!G91)","v":""},{"$f":"IF(B129=\"\",\"\",'Лист ожидания'!H91)","v":""},{"$f":"IF(B129=\"\",\"\",'Лист ожидания'!I91)","v":""},{"$f":"IF(B129=\"\",\"\",'Лист ожидания'!D91)","v":""},"",null,null,{"$f":"IF(B129=\"\",\"\",Установка!$C$14)","v":""}]
[113,{"$f":"IF('Лист ожидания'!E92=0,\"\",'Лист ожидания'!E92)","v":""},null,null,{"$f":"IF(B130=\"\",\"\",'Лист ожидания'!F92)","v":""},{"$f":"IF(B130=\"\",\"\",'Лист ожидания'!G92)","v":""},{"$f":"IF(B130=\"\",\"\",'Лист ожидания'!H92)","v":""},{"$f":"IF(B130=\"\",\"\",'Лист ожидания'!I92)","v":""},{"$f":"IF(B130=\"\",\"\",'Лист ожидания'!D92)","v":""},"",null,null,{"$f":"IF(B130=\"\",\"\",Установка!$C$14)","v":""}]
[114,{"$f":"IF('Лист ожидания'!E93=0,\"\",'Лист ожидания'!E93)","v":""},null,null,{"$f":"IF(B131=\"\",\"\",'Лист ожидания'!F93)","v":""},{"$f":"IF(B131=\"\",\"\",'Лист ожидания'!G93)","v":""},{"$f":"IF(B131=\"\",\"\",'Лист ожидания'!H93)","v":""},{"$f":"IF(B131=\"\",\"\",'Лист ожидания'!I93)","v":""},{"$f":"IF(B131=\"\",\"\",'Лист ожидания'!D93)","v":""},"",null,null,{"$f":"IF(B131=\"\",\"\",Установка!$C$14)","v":""}]
[115,{"$f":"IF('Лист ожидания'!E94=0,\"\",'Лист ожидания'!E94)","v":""},null,null,{"$f":"IF(B132=\"\",\"\",'Лист ожидания'!F94)","v":""},{"$f":"IF(B132=\"\",\"\",'Лист ожидания'!G94)","v":""},{"$f":"IF(B132=\"\",\"\",'Лист ожидания'!H94)","v":""},{"$f":"IF(B132=\"\",\"\",'Лист ожидания'!I94)","v":""},{"$f":"IF(B132=\"\",\"\",'Лист ожидания'!D94)","v":""},"",null,null,{"$f":"IF(B132=\"\",\"\",Установка!$C$14)","v":""}]
[116,{"$f":"IF('Лист ожидания'!E95=0,\"\",'Лист ожидания'!E95)","v":""},null,null,{"$f":"IF(B133=\"\",\"\",'Лист ожидания'!F95)","v":""},{"$f":"IF(B133=\"\",\"\",'Лист ожидания'!G95)","v":""},{"$f":"IF(B133=\"\",\"\",'Лист ожидания'!H95)","v":""},{"$f":"IF(B133=\"\",\"\",'Лист ожидания'!I95)","v":""},{"$f":"IF(B133=\"\",\"\",'Лист ожидания'!D95)","v":""},"",null,null,{"$f":"IF(B133=\"\",\"\",Установка!$C$14)","v":""}]
[117,{"$f":"IF('Лист ожидания'!E96=0,\"\",'Лист ожидания'!E96)","v":""},null,null,{"$f":"IF(B134=\"\",\"\",'Лист ожидания'!F96)","v":""},{"$f":"IF(B134=\"\",\"\",'Лист ожидания'!G96)","v":""},{"$f":"IF(B134=\"\",\"\",'Лист ожидания'!H96)","v":""},{"$f":"IF(B134=\"\",\"\",'Лист ожидания'!I96)","v":""},{"$f":"IF(B134=\"\",\"\",'Лист ожидания'!D96)","v":""},"",null,null,{"$f":"IF(B134=\"\",\"\",Установка!$C$14)","v":""}]
[118,{"$f":"IF('Лист ожидания'!E97=0,\"\",'Лист ожидания'!E97)","v":""},null,null,{"$f":"IF(B135=\"\",\"\",'Лист ожидания'!F97)","v":""},{"$f":"IF(B135=\"\",\"\",'Лист ожидания'!G97)","v":""},{"$f":"IF(B135=\"\",\"\",'Лист ожидания'!H97)","v":""},{"$f":"IF(B135=\"\",\"\",'Лист ожидания'!I97)","v":""},{"$f":"IF(B135=\"\",\"\",'Лист ожидания'!D97)","v":""},"",null,null,{"$f":"IF(B135=\"\",\"\",Установка!$C$14)","v":""}]
[119,{"$f":"IF('Лист ожидания'!E98=0,\"\",'Лист ожидания'!E98)","v":""},null,null,{"$f":"IF(B136=\"\",\"\",'Лист ожидания'!F98)","v":""},{"$f":"IF(B136=\"\",\"\",'Лист ожидания'!G98)","v":""},{"$f":"IF(B136=\"\",\"\",'Лист ожидания'!H98)","v":""},{"$f":"IF(B136=\"\",\"\",'Лист ожидания'!I98)","v":""},{"$f":"IF(B136=\"\",\"\",'Лист ожидания'!D98)","v":""},"",null,null,{"$f":"IF(B136=\"\",\"\",Установка!$C$14)","v":""}]
[120,{"$f":"IF('Лист ожидания'!E99=0,\"\",'Лист ожидания'!E99)","v":""},null,null,{"$f":"IF(B137=\"\",\"\",'Лист ожидания'!F99)","v":""},{"$f":"IF(B137=\"\",\"\",'Лист ожидания'!G99)","v":""},{"$f":"IF(B137=\"\",\"\",'Лист ожидания'!H99)","v":""},{"$f":"IF(B137=\"\",\"\",'Лист ожидания'!I99)","v":""},{"$f":"IF(B137=\"\",\"\",'Лист ожидания'!D99)","v":""},"",null,null,{"$f":"IF(B137=\"\",\"\",Установка!$C$14)","v":""}]
[121,{"$f":"IF('Лист ожидания'!E100=0,\"\",'Лист ожидания'!E100)","v":""},null,null,{"$f":"IF(B138=\"\",\"\",'Лист ожидания'!F100)","v":""},{"$f":"IF(B138=\"\",\"\",'Лист ожидания'!G100)","v":""},{"$f":"IF(B138=\"\",\"\",'Лист ожидания'!H100)","v":""},{"$f":"IF(B138=\"\",\"\",'Лист ожидания'!I100)","v":""},{"$f":"IF(B138=\"\",\"\",'Лист ожидания'!D100)","v":""},"",null,null,{"$f":"IF(B138=\"\",\"\",Установка!$C$14)","v":""}]
[122,{"$f":"IF('Лист ожидания'!E101=0,\"\",'Лист ожидания'!E101)","v":""},null,null,{"$f":"IF(B139=\"\",\"\",'Лист ожидания'!F101)","v":""},{"$f":"IF(B139=\"\",\"\",'Лист ожидания'!G101)","v":""},{"$f":"IF(B139=\"\",\"\",'Лист ожидания'!H101)","v":""},{"$f":"IF(B139=\"\",\"\",'Лист ожидания'!I101)","v":""},{"$f":"IF(B139=\"\",\"\",'Лист ожидания'!D101)","v":""},"",null,null,{"$f":"IF(B139=\"\",\"\",Установка!$C$14)","v":""}]
[123,{"$f":"IF('Лист ожидания'!E102=0,\"\",'Лист ожидания'!E102)","v":""},null,null,{"$f":"IF(B140=\"\",\"\",'Лист ожидания'!F102)","v":""},{"$f":"IF(B140=\"\",\"\",'Лист ожидания'!G102)","v":""},{"$f":"IF(B140=\"\",\"\",'Лист ожидания'!H102)","v":""},{"$f":"IF(B140=\"\",\"\",'Лист ожидания'!I102)","v":""},{"$f":"IF(B140=\"\",\"\",'Лист ожидания'!D102)","v":""},"",null,null,{"$f":"IF(B140=\"\",\"\",Установка!$C$14)","v":""}]
[124,{"$f":"IF('Лист ожидания'!E103=0,\"\",'Лист ожидания'!E103)","v":""},null,null,{"$f":"IF(B141=\"\",\"\",'Лист ожидания'!F103)","v":""},{"$f":"IF(B141=\"\",\"\",'Лист ожидания'!G103)","v":""},{"$f":"IF(B141=\"\",\"\",'Лист ожидания'!H103)","v":""},{"$f":"IF(B141=\"\",\"\",'Лист ожидания'!I103)","v":""},{"$f":"IF(B141=\"\",\"\",'Лист ожидания'!D103)","v":""},"",null,null,{"$f":"IF(B141=\"\",\"\",Установка!$C$14)","v":""}]
[125,{"$f":"IF('Лист ожидания'!E104=0,\"\",'Лист ожидания'!E104)","v":""},null,null,{"$f":"IF(B142=\"\",\"\",'Лист ожидания'!F104)","v":""},{"$f":"IF(B142=\"\",\"\",'Лист ожидания'!G104)","v":""},{"$f":"IF(B142=\"\",\"\",'Лист ожидания'!H104)","v":""},{"$f":"IF(B142=\"\",\"\",'Лист ожидания'!I104)","v":""},{"$f":"IF(B142=\"\",\"\",'Лист ожидания'!D104)","v":""},"",null,null,{"$f":"IF(B142=\"\",\"\",Установка!$C$14)","v":""}]
[126,{"$f":"IF('Лист ожидания'!E105=0,\"\",'Лист ожидания'!E105)","v":""},null,null,{"$f":"IF(B143=\"\",\"\",'Лист ожидания'!F105)","v":""},{"$f":"IF(B143=\"\",\"\",'Лист ожидания'!G105)","v":""},{"$f":"IF(B143=\"\",\"\",'Лист ожидания'!H105)","v":""},{"$f":"IF(B143=\"\",\"\",'Лист ожидания'!I105)","v":""},{"$f":"IF(B143=\"\",\"\",'Лист ожидания'!D105)","v":""},"",null,null,{"$f":"IF(B143=\"\",\"\",Установка!$C$14)","v":""}]
[127,{"$f":"IF('Лист ожидания'!E106=0,\"\",'Лист ожидания'!E106)","v":""},null,null,{"$f":"IF(B144=\"\",\"\",'Лист ожидания'!F106)","v":""},{"$f":"IF(B144=\"\",\"\",'Лист ожидания'!G106)","v":""},{"$f":"IF(B144=\"\",\"\",'Лист ожидания'!H106)","v":""},{"$f":"IF(B144=\"\",\"\",'Лист ожидания'!I106)","v":""},{"$f":"IF(B144=\"\",\"\",'Лист ожидания'!D106)","v":""},"",null,null,{"$f":"IF(B144=\"\",\"\",Установка!$C$14)","v":""}]
[128,{"$f":"IF('Лист ожидания'!E107=0,\"\",'Лист ожидания'!E107)","v":""},null,null,{"$f":"IF(B145=\"\",\"\",'Лист ожидания'!F107)","v":""},{"$f":"IF(B145=\"\",\"\",'Лист ожидания'!G107)","v":""},{"$f":"IF(B145=\"\",\"\",'Лист ожидания'!H107)","v":""},{"$f":"IF(B145=\"\",\"\",'Лист ожидания'!I107)","v":""},{"$f":"IF(B145=\"\",\"\",'Лист ожидания'!D107)","v":""},"",null,null,{"$f":"IF(B145=\"\",\"\",Установка!$C$14)","v":""}]
[129,{"$f":"IF('Лист ожидания'!E108=0,\"\",'Лист ожидания'!E108)","v":""},null,null,{"$f":"IF(B146=\"\",\"\",'Лист ожидания'!F108)","v":""},{"$f":"IF(B146=\"\",\"\",'Лист ожидания'!G108)","v":""},{"$f":"IF(B146=\"\",\"\",'Лист ожидания'!H108)","v":""},{"$f":"IF(B146=\"\",\"\",'Лист ожидания'!I108)","v":""},{"$f":"IF(B146=\"\",\"\",'Лист ожидания'!D108)","v":""},"",null,null,{"$f":"IF(B146=\"\",\"\",Установка!$C$14)","v":""}]
[130,{"$f":"IF('Лист ожидания'!E109=0,\"\",'Лист ожидания'!E109)","v":""},null,null,{"$f":"IF(B147=\"\",\"\",'Лист ожидания'!F109)","v":""},{"$f":"IF(B147=\"\",\"\",'Лист ожидания'!G109)","v":""},{"$f":"IF(B147=\"\",\"\",'Лист ожидания'!H109)","v":""},{"$f":"IF(B147=\"\",\"\",'Лист ожидания'!I109)","v":""},{"$f":"IF(B147=\"\",\"\",'Лист ожидания'!D109)","v":""},"",null,null,{"$f":"IF(B147=\"\",\"\",Установка!$C$14)","v":""}]
[131,{"$f":"IF('Лист ожидания'!E110=0,\"\",'Лист ожидания'!E110)","v":""},null,null,{"$f":"IF(B148=\"\",\"\",'Лист ожидания'!F110)","v":""},{"$f":"IF(B148=\"\",\"\",'Лист ожидания'!G110)","v":""},{"$f":"IF(B148=\"\",\"\",'Лист ожидания'!H110)","v":""},{"$f":"IF(B148=\"\",\"\",'Лист ожидания'!I110)","v":""},{"$f":"IF(B148=\"\",\"\",'Лист ожидания'!D110)","v":""},"",null,null,{"$f":"IF(B148=\"\",\"\",Установка!$C$14)","v":""}]
[132,{"$f":"IF('Лист ожидания'!E111=0,\"\",'Лист ожидания'!E111)","v":""},null,null,{"$f":"IF(B149=\"\",\"\",'Лист ожидания'!F111)","v":""},{"$f":"IF(B149=\"\",\"\",'Лист ожидания'!G111)","v":""},{"$f":"IF(B149=\"\",\"\",'Лист ожидания'!H111)","v":""},{"$f":"IF(B149=\"\",\"\",'Лист ожидания'!I111)","v":""},{"$f":"IF(B149=\"\",\"\",'Лист ожидания'!D111)","v":""},"",null,null,{"$f":"IF(B149=\"\",\"\",Установка!$C$14)","v":""}]
[133,{"$f":"IF('Лист ожидания'!E112=0,\"\",'Лист ожидания'!E112)","v":""},null,null,{"$f":"IF(B150=\"\",\"\",'Лист ожидания'!F112)","v":""},{"$f":"IF(B150=\"\",\"\",'Лист ожидания'!G112)","v":""},{"$f":"IF(B150=\"\",\"\",'Лист ожидания'!H112)","v":""},{"$f":"IF(B150=\"\",\"\",'Лист ожидания'!I112)","v":""},{"$f":"IF(B150=\"\",\"\",'Лист ожидания'!D112)","v":""},"",null,null,{"$f":"IF(B150=\"\",\"\",Установка!$C$14)","v":""}]
[134,{"$f":"IF('Лист ожидания'!E113=0,\"\",'Лист ожидания'!E113)","v":""},null,null,{"$f":"IF(B151=\"\",\"\",'Лист ожидания'!F113)","v":""},{"$f":"IF(B151=\"\",\"\",'Лист ожидания'!G113)","v":""},{"$f":"IF(B151=\"\",\"\",'Лист ожидания'!H113)","v":""},{"$f":"IF(B151=\"\",\"\",'Лист ожидания'!I113)","v":""},{"$f":"IF(B151=\"\",\"\",'Лист ожидания'!D113)","v":""},"",null,null,{"$f":"IF(B151=\"\",\"\",Установка!$C$14)","v":""}]
[]
[null,null,null,null,null,"Регистрация окончена",null,null,null,null,"Главный судья"]
[null,null,null,null,null,null,null,null,null,null,null,null,{"$f":"UPPER(Установка!C11)","v":"СИТНИКОВ Д.В."}]
[]
[null,null,null,null,null,"Дата",null,"Время",null,null,"Подпись",null,"Фамилия И.О."]
[]
[]
[]
[]
[]
[]
[]
[]
[]
[]
[]
[]
[]
[]
[]
[]
[]
[]
[]
[]
[]
[]
[]
[]
[]
[]
[]
[]
[]
[]
[]
[]
[]
[]
[]
[]
[]
[]
[]
[]
[]
[]
[]
[10]
[]
[]
[]
[]
[]
[]
[]
[]
[]
[]
[]
[]
[]
[]
[]
[]
[]
[]
[]
[]
[]
[]
[]
[]
[]
[]
[]
[]
[]
[]
[]
[]
[]
[]
[]
[]
[]
[]
[]
[]
[]
[]
[]
[]
[]
[]
[]
[]
[]
[]
[]
[]
[]
[]
[]
[]
[]
[]
[]
[]
[]
[]
[]
[]
[]
[]
[]
[]
[]
[]
[]
[]
[]
[]
[]
[]
[]
[]
[]
[]
[]
[]
[]
[]
[]
[]
[]
[]
[]
[]
[]
[]
[]
[]
[]
[]
[]
[]
[]
[]
[]
["ВЗРОСЛЫЕ",{"$f":"IF($F$7=\"ВЗРОСЛЫЕ\",\"МУЖЧИНЫ\",IF($F$7=\"ДО 19 ЛЕТ\",\"ЮНИОРЫ\",\"ЮНОШИ\"))","v":"ЮНОШИ"},"ФТ","-"]
["ДО 19 ЛЕТ",{"$f":"IF($F$7=\"ВЗРОСЛЫЕ\",\"ЖЕНЩИНЫ\",IF($F$7=\"ДО 19 ЛЕТ\",\"ЮНИОРКИ\",\"ДЕВУШКИ\"))","v":"ДЕВУШКИ"},"I","А"]
["ДО 17 ЛЕТ",null,"II","Б"]
["ДО 15 ЛЕТ",null,"III","В"]
["ДО 13 ЛЕТ",null,"IV","Г"]
["9-10 ЛЕТ",null,"V"]
[null,null,"VI"]

{"sheet":"Лист ожидания","index":5,"n_rows":115,"n_cols":25,"rows_kept":115,"cut":false,"hidden":false,"merged":[[11,24,42,28],[8,0,8,11],[7,0,7,3],[0,0,0,3],[1,0,1,3],[2,0,2,3],[3,0,3,3],[4,0,4,3],[5,0,5,3],[6,0,6,3]]}
["Название турнира:",null,null,null,{"$f":"UPPER(Установка!C3)","v":"ПЕРВЕНСТВО РЕСПУБЛИКИ ТАТАРСТАН"}]
["Сроки проведения:",null,null,null,{"$f":"IF(Установка!C7=\"\",\"\",TEXT(Установка!C7,\"ДД,ММ,ГГГГ\"))","v":"18-24.11.2017."}]
["Место проведения:",null,null,null,{"$f":"UPPER(Установка!C6)","v":"КАЗАНЬ"}]
["Категория:",null,null,null,{"$f":"UPPER(Установка!C8)","v":"IVБ"}]
["Возрастная группа",null,null,null,{"$f":"UPPER(Установка!C4)","v":"9-10 ЛЕТ"}]
["Пол игроков:",null,null,null,{"$f":"UPPER(Установка!C5)","v":"ДЕВУШКИ"}]
["DeadLine:",null,null,null,{"$f":"IF(Установка!C9=\"\",\"\",Установка!C9)","v":"06.11.2017."}]
["Классификация на:",null,null,null,{"$f":"IF(Установка!C10=\"\",\"\",Установка!C10)","v":"06.11.2017."}]
["Лист ожидания",null,null,null,null,null,null,null,null,null,null,null,"Удалить игрока","Дать СК в основу","Дать СК в квал"]
[null,null,null,null,null,null,null,null,null,null,null,null,null,0,0]
[null,"№","Заявочный рейтинг","Рейтинг рассеивания","ФИО игрока","РНИ","Дата рождения","Город","Оплата","Поздняя заявка (дата)","Свободные карты","Отметка о регистрации (х)","Признак поздней заявки"]
[null,{"$f":"ROW()-11","v":1},null,null,null,null,null,null,null,null,null,null,{"$f":"IF(ISBLANK(E12),2,IF(ISBLANK(J12),0,1))","v":2},{"$f":"LEN(E12)","v":0},{"$f":"IF((N12)=0,0,FIND(\" \",E12))","v":0},{"$f":"IF(OR(ISERR(O12),N12=0),\"\",CONCATENATE(MID(E12,O12+1,1),\".\"))","v":""},{"$f":"IF(LEN(E12)=0,0,FIND(\" \",E12,O12+1))","v":0},{"$f":"IF(OR(N12=0,ISERR(Q12)),\"\",CONCATENATE(MID(E12,Q12+1,1),\".\"))","v":""},{"$f":"IF(E12=\"\",\"\",IF(ISERR(O12),UPPER(E12),UPPER(MID(E12,1,O12-1))))","v":""},{"$f":"CONCATENATE(P12,R12)","v":""},{"$f":"IF(E12=\"\",\"\",IF(ISERR(O12),\"\",IF(ISERR(Q12),UPPER(MID(E12,O12,N12-O12+1)),UPPER(MID(E12,O12,Q12-O12)))))","v":""},{"$f":"IF(S12=\"\",0,COUNTIF($S$12:$S$113,S12))","v":0},{"$f":"IF(V12>1,CONCATENATE(S12,U12),S12)","v":""},null,"Для корректной работы\n\nпосле вывода на печать\n\nлиста регистрации\n\nдаты поздних заявок\n\nнеобходимо удалить.\n\n\n\n\n\n\nИгрокам, пришедшим\n \nна регистрацию\n\nбез предварительной заявки \n\nв поле \"Поздняя заявка\" необходимо\n\n проставить текущую дату."]
[null,2,null,null,null,null,null,null,null,null,null,null,2,{"$f":"LEN(E13)","v":0},{"$f":"IF((N13)=0,0,FIND(\" \",E13))","v":0},{"$f":"IF(OR(ISERR(O13),N13=0),\"\",CONCATENATE(MID(E13,O13+1,1),\".\"))","v":""},{"$f":"IF(LEN(E13)=0,0,FIND(\" \",E13,O13+1))","v":0},{"$f":"IF(OR(N13=0,ISERR(Q13)),\"\",CONCATENATE(MID(E13,Q13+1,1),\".\"))","v":""},{"$f":"IF(E13=\"\",\"\",IF(ISERR(O13),UPPER(E13),UPPER(MID(E13,1,O13-1))))","v":""},{"$f":"CONCATENATE(P13,R13)","v":""},{"$f":"IF(E13=\"\",\"\",IF(ISERR(O13),\"\",IF(ISERR(Q13),UPPER(MID(E13,O13,N13-O13+1)),UPPER(MID(E13,O13,Q13-O13)))))","v":""},{"$f":"IF(S13=\"\",0,COUNTIF($S$12:$S$113,S13))","v":0},{"$f":"IF(V13>1,CONCATENATE(S13,U13),S13)","v":""}]
[null,3,null,null,null,null,null,null,null,null,null,null,2,0,0,"",0,"","","","",0,""]
[null,4,null,null,null,null,null,null,null,null,null,null,2,0,0,"",0,"","","","",0,""]
[null,5,null,null,null,null,null,null,null,null,null,null,2,0,0,"",0,"","","","",0,""]
[null,6,null,null,null,null,null,null,null,null,null,null,2,0,0,"",0,"","","","",0,""]
[null,7,null,null,null,null,null,null,null,null,null,null,2,0,0,"",0,"","","","",0,""]
[null,8,null,null,null,null,null,null,null,null,null,null,2,0,0,"",0,"","","","",0,""]
[null,9,null,null,null,null,null,null,null,null,null,null,2,0,0,"",0,"","","","",0,""]
[null,10,null,null,null,null,null,null,null,null,null,null,2,0,0,"",0,"","","","",0,""]
[null,11,null,null,null,null,null,null,null,null,null,null,2,0,0,"",0,"","","","",0,""]
[null,12,null,null,null,null,null,null,null,null,null,null,2,0,0,"",0,"","","","",0,""]
[null,13,null,null,null,null,null,null,null,null,null,null,2,0,0,"",0,"","","","",0,""]
[null,14,null,null,null,null,null,null,null,null,null,null,2,0,0,"",0,"","","","",0,""]
[null,15,null,null,null,null,null,null,null,null,null,null,2,0,0,"",0,"","","","",0,""]
[null,16,null,null,null,null,null,null,null,null,null,null,2,0,0,"",0,"","","","",0,""]
[null,17,null,null,null,null,null,null,null,null,null,null,2,0,0,"",0,"","","","",0,""]
[null,18,null,null,null,null,null,null,null,null,null,null,2,0,0,"",0,"","","","",0,""]
[null,19,null,null,null,null,null,null,null,null,null,null,2,0,0,"",0,"","","","",0,""]
[null,20,null,null,null,null,null,null,null,null,null,null,2,0,0,"",0,"","","","",0,""]
[null,21,null,null,null,null,null,null,null,null,null,null,2,0,0,"",0,"","","","",0,""]
[null,22,null,null,null,null,null,null,null,null,null,null,2,0,0,"",0,"","","","",0,""]
[null,23,null,null,null,null,null,null,null,null,null,null,2,0,0,"",0,"","","","",0,""]
[null,24,null,null,null,null,null,null,null,null,null,null,2,0,0,"",0,"","","","",0,""]
[null,25,null,null,null,null,null,null,null,null,null,null,2,0,0,"",0,"","","","",0,""]
[null,26,null,null,null,null,null,null,null,null,null,null,2,0,0,"",0,"","","","",0,""]
[null,27,null,null,null,null,null,null,null,null,null,null,2,0,0,"",0,"","","","",0,""]
[null,28,null,null,null,null,null,null,null,null,null,null,2,0,0,"",0,"","","","",0,""]
[null,29,null,null,null,null,null,null,null,null,null,null,2,0,0,"",0,"","","","",0,""]
[null,30,null,null,null,null,null,null,null,null,null,null,2,0,0,"",0,"","","","",0,""]
[null,31,null,null,null,null,null,null,null,null,null,null,2,0,0,"",0,"","","","",0,""]
[null,32,null,null,null,null,null,null,null,null,null,null,2,0,0,"",0,"","","","",0,""]
[null,{"$f":"ROW()-11","v":33},null,null,null,null,null,null,null,null,null,null,{"$f":"IF(ISBLANK(E44),2,IF(ISBLANK(J44),0,1))","v":2},{"$f":"LEN(E44)","v":0},{"$f":"IF((N44)=0,0,FIND(\" \",E44))","v":0},{"$f":"IF(OR(ISERR(O44),N44=0),\"\",CONCATENATE(MID(E44,O44+1,1),\".\"))","v":""},{"$f":"IF(LEN(E44)=0,0,FIND(\" \",E44,O44+1))","v":0},{"$f":"IF(OR(N44=0,ISERR(Q44)),\"\",CONCATENATE(MID(E44,Q44+1,1),\".\"))","v":""},{"$f":"IF(E44=\"\",\"\",IF(ISERR(O44),UPPER(E44),UPPER(MID(E44,1,O44-1))))","v":""},{"$f":"CONCATENATE(P44,R44)","v":""},"",0,""]
[null,34,null,null,null,null,null,null,null,null,null,null,2,0,0,"",0,"","","","",0,""]
[null,35,null,null,null,null,null,null,null,null,null,null,2,0,0,"",0,"","","","",0,""]
[null,36,null,null,null,null,null,null,null,null,null,null,2,0,0,"",0,"","","","",0,""]
[null,37,null,null,null,null,null,null,null,null,null,null,2,0,0,"",0,"","","","",0,""]
[null,38,null,null,null,null,null,null,null,null,null,null,2,0,0,"",0,"","","","",0,""]
[null,39,null,null,null,null,null,null,null,null,null,null,2,0,0,"",0,"","","","",0,""]
[null,40,null,null,null,null,null,null,null,null,null,null,2,0,0,"",0,"","","","",0,""]
[null,41,null,null,null,null,null,null,null,null,null,null,2,0,0,"",0,"","","","",0,""]
[null,42,null,null,null,null,null,null,null,null,null,null,2,0,0,"",0,"","","","",0,""]
[null,43,null,null,null,null,null,null,null,null,null,null,2,0,0,"",0,"","","","",0,""]
[null,44,null,null,null,null,null,null,null,null,null,null,2,0,0,"",0,"","","","",0,""]
[null,45,null,null,null,null,null,null,null,null,null,null,2,0,0,"",0,"","","","",0,""]
[null,46,null,null,null,null,null,null,null,null,null,null,2,0,0,"",0,"","","","",0,""]
[null,47,null,null,null,null,null,null,null,null,null,null,2,0,0,"",0,"","","","",0,""]
[null,48,null,null,null,null,null,null,null,null,null,null,2,0,0,"",0,"","","","",0,""]
[null,49,null,null,null,null,null,null,null,null,null,null,2,0,0,"",0,"","","","",0,""]
[null,50,null,null,null,null,null,null,null,null,null,null,2,0,0,"",0,"","","","",0,""]
[null,51,null,null,null,null,null,null,null,null,null,null,2,0,0,"",0,"","","","",0,""]
[null,52,null,null,null,null,null,null,null,null,null,null,2,0,0,"",0,"","","","",0,""]
[null,53,null,null,null,null,null,null,null,null,null,null,2,0,0,"",0,"","","","",0,""]
[null,54,null,null,null,null,null,null,null,null,null,null,2,0,0,"",0,"","","","",0,""]
[null,55,null,null,null,null,null,null,null,null,null,null,2,0,0,"",0,"","","","",0,""]
[null,56,null,null,null,null,null,null,null,null,null,null,2,0,0,"",0,"","","","",0,""]
[null,57,null,null,null,null,null,null,null,null,null,null,2,0,0,"",0,"","","","",0,""]
[null,58,null,null,null,null,null,null,null,null,null,null,2,0,0,"",0,"","","","",0,""]
[null,59,null,null,null,null,null,null,null,null,null,null,2,0,0,"",0,"","","","",0,""]
[null,60,null,null,null,null,null,null,null,null,null,null,2,0,0,"",0,"","","","",0,""]
[null,61,null,null,null,null,null,null,null,null,null,null,2,0,0,"",0,"","","","",0,""]
[null,62,null,null,null,null,null,null,null,null,null,null,2,0,0,"",0,"","","","",0,""]
[null,63,null,null,null,null,null,null,null,null,null,null,2,0,0,"",0,"","","","",0,""]
[null,64,null,null,null,null,null,null,null,null,null,null,2,0,0,"",0,"","","","",0,""]
[null,{"$f":"ROW()-11","v":65},null,null,null,null,null,null,null,null,null,null,{"$f":"IF(ISBLANK(E76),2,IF(ISBLANK(J76),0,1))","v":2},0,0,"",0,"","","","",0,""]
[null,66,null,null,null,null,null,null,null,null,null,null,2,0,0,"",0,"","","",{"$f":"IF(E77=\"\",\"\",IF(ISERR(O77),\"\",IF(ISERR(Q77),UPPER(MID(E77,O77,N77-O77+1)),UPPER(MID(E77,O77,Q77-O77)))))","v":""},{"$f":"IF(S77=\"\",0,COUNTIF($S$12:$S$113,S77))","v":0},{"$f":"IF(V77>1,CONCATENATE(S77,U77),S77)","v":""}]
[null,67,null,null,null,null,null,null,null,null,null,null,2,0,0,"",0,"","","","",0,""]
[null,68,null,null,null,null,null,null,null,null,null,null,2,0,0,"",0,"","","","",0,""]
[null,69,null,null,null,null,null,null,null,null,null,null,2,0,0,"",0,"","","","",0,""]
[null,70,null,null,null,null,null,null,null,null,null,null,2,0,0,"",0,"","","","",0,""]
[null,71,null,null,null,null,null,null,null,null,null,null,2,0,0,"",0,"","","","",0,""]
[null,72,null,null,null,null,null,null,null,null,null,null,2,0,0,"",0,"","","","",0,""]
[null,73,null,null,null,null,null,null,null,null,null,null,2,0,0,"",0,"","","","",0,""]
[null,74,null,null,null,null,null,null,null,null,null,null,2,0,0,"",0,"","","","",0,""]
[null,75,null,null,null,null,null,null,null,null,null,null,2,0,0,"",0,"","","","",0,""]
[null,76,null,null,null,null,null,null,null,null,null,null,2,0,0,"",0,"","","","",0,""]
[null,77,null,null,null,null,null,null,null,null,null,null,2,0,0,"",0,"","","","",0,""]
[null,78,null,null,null,null,null,null,null,null,null,null,2,0,0,"",0,"","","","",0,""]
[null,79,null,null,null,null,null,null,null,null,null,null,2,0,0,"",0,"","","","",0,""]
[null,80,null,null,null,null,null,null,null,null,null,null,2,0,0,"",0,"","","","",0,""]
[null,81,null,null,null,null,null,null,null,null,null,null,2,0,0,"",0,"","","","",0,""]
[null,82,null,null,null,null,null,null,null,null,null,null,2,0,0,"",0,"","","","",0,""]
[null,83,null,null,null,null,null,null,null,null,null,null,2,0,0,"",0,"","","","",0,""]
[null,84,null,null,null,null,null,null,null,null,null,null,2,0,0,"",0,"","","","",0,""]
[null,85,null,null,null,null,null,null,null,null,null,null,2,0,0,"",0,"","","","",0,""]
[null,86,null,null,null,null,null,null,null,null,null,null,2,0,0,"",0,"","","","",0,""]
[null,87,null,null,null,null,null,null,null,null,null,null,2,0,0,"",0,"","","","",0,""]
[null,88,null,null,null,null,null,null,null,null,null,null,2,0,0,"",0,"","","","",0,""]
[null,89,null,null,null,null,null,null,null,null,null,null,2,0,0,"",0,"","","","",0,""]
[null,90,null,null,null,null,null,null,null,null,null,null,2,0,0,"",0,"","","","",0,""]
[null,91,null,null,null,null,null,null,null,null,null,null,2,0,0,"",0,"","","","",0,""]
[null,92,null,null,null,null,null,null,null,null,null,null,2,0,0,"",0,"","","","",0,""]
[null,93,null,null,null,null,null,null,null,null,null,null,2,0,0,"",0,"","","","",0,""]
[null,94,null,null,null,null,null,null,null,null,null,null,2,0,0,"",0,"","","","",0,""]
[null,95,null,null,null,null,null,null,null,null,null,null,2,0,0,"",0,"","","","",0,""]
[null,96,null,null,null,null,null,null,null,null,null,null,2,0,0,"",0,"","","","",0,""]
[null,{"$f":"ROW()-11","v":97},null,null,null,null,null,null,null,null,null,null,{"$f":"IF(ISBLANK(E108),2,IF(ISBLANK(J108),0,1))","v":2},{"$f":"LEN(E108)","v":0},{"$f":"IF((N108)=0,0,FIND(\" \",E108))","v":0},{"$f":"IF(OR(ISERR(O108),N108=0),\"\",CONCATENATE(MID(E108,O108+1,1),\".\"))","v":""},{"$f":"IF(LEN(E108)=0,0,FIND(\" \",E108,O108+1))","v":0},{"$f":"IF(OR(N108=0,ISERR(Q108)),\"\",CONCATENATE(MID(E108,Q108+1,1),\".\"))","v":""},{"$f":"IF(E108=\"\",\"\",IF(ISERR(O108),UPPER(E108),UPPER(MID(E108,1,O108-1))))","v":""},{"$f":"CONCATENATE(P108,R108)","v":""},"",0,""]
[null,98,null,null,null,null,null,null,null,null,null,null,2,0,0,"",0,"","","","",0,""]
[null,99,null,null,null,null,null,null,null,null,null,null,2,0,0,"",0,"","","","",0,""]
[null,100,null,null,null,null,null,null,null,null,null,null,2,0,0,"",0,"","","","",0,""]
[null,101,null,null,null,null,null,null,null,null,null,null,2,0,0,"",0,"","","","",0,""]
[null,102,null,null,null,null,null,null,null,null,null,null,2,0,0,"",0,"","","","",0,""]
[]
[null,null,null,null,{"$f":"COUNTA(E12:E113)","v":0},null,null,null,null,{"$f":"COUNTA(J12:J113)","v":0}]

{"sheet":"ОЖ","index":6,"n_rows":39,"n_cols":15,"rows_kept":39,"cut":false,"hidden":false,"merged":[[8,0,9,0],[8,1,9,1],[8,2,9,2],[8,3,9,3],[32,6,33,7],[8,5,9,5],[8,6,8,7],[0,0,0,7],[3,0,3,1],[3,2,3,3],[4,0,4,1],[1,0,1,7],[2,0,2,7],[4,2,4,3],[34,2,34,3],[34,4,34,5],[34,6,34,7],[6,6,6,7],[31,1,31,3],[31,4,31,7],[32,1,33,1],[8,4,9,4],[32,2,33,3],[32,4,33,5]]}
["ЛИСТ ЗАПИСИ ОЖИДАЮЩИХ ИГРОКОВ\nЛИЧНОГО ТУРНИРА РТТ В ОДИНОЧНОМ РАЗРЯДЕ",null,null,null,null,null,null,null,null,null,null,null,null,0,"индекс замененного игрока в ПодгОТ"]
["Название турнира"]
[{"$f":"UPPER(Установка!C3)","v":"ПЕРВЕНСТВО РЕСПУБЛИКИ ТАТАРСТАН"},null,null,null,null,null,null,null,null,null,null,null,null,0,"индекс ожидающего игрока на листе записи ОЖ"]
["Место проведения",null,"Сроки проведения",null,"Возрастная группа","Пол игроков","Категория","Класс",null,null,null,null,null,{"$f":"IF(N3=0,0,INDEX($I$11:$I$30,N3))","v":0},"индекс ожидающего игрока на листе ожидания"]
[{"$f":"UPPER(Установка!C6)","v":"КАЗАНЬ"},null,{"$f":"IF(Установка!C7=\"\",\"\",TEXT(Установка!C7,\"ДД,ММ,ГГГГ\"))","v":"18-24.11.2017."},null,{"$f":"UPPER(Установка!C4)","v":"9-10 ЛЕТ"},{"$f":"IF(Установка!C5=\"\",\"Ю/Д/М/Ж\",UPPER(Установка!C5))","v":"ДЕВУШКИ"},{"$f":"UPPER(Установка!D8)","v":"IV"},{"$f":"UPPER(Установка!E8)","v":"Б"}]
[]
[null,"Запись производится до",null,null,{"$f":"IF(D7=\"\",\"\",WEEKDAY(D7,1))","v":""},"Место","офис турнира"]
[null,null,"время","дата","день недели"]
["№","Фамилия","И.О.","Город","Контактный\nтелефон","Подпись","Заполняется главным судьей"]
[null,null,null,null,null,null,"Очки РТТ","Приоритетный номер ОЖ"]
[{"$f":"ROW()-10","v":1},{"$f":"IF(I11=0,\"\",INDEX('Лист ожидания'!$W$12:$W$113,I11))","v":""},{"$f":"IF(I11=0,\"\",INDEX('Лист ожидания'!$T$12:$T$113,I11))","v":""},{"$f":"IF(I11=0,\"\",INDEX('Лист ожидания'!$H$12:$H$113,I11))","v":""},null,null,{"$f":"IF(I11=0,0,INDEX('Лист ожидания'!$D$12:$D$113,I11))","v":0},null,null,{"$f":"IF(B11=\"\",0,1)","v":0}]
[2,{"$f":"IF(I12=0,\"\",INDEX('Лист ожидания'!$W$12:$W$113,I12))","v":""},{"$f":"IF(I12=0,\"\",INDEX('Лист ожидания'!$T$12:$T$113,I12))","v":""},{"$f":"IF(I12=0,\"\",INDEX('Лист ожидания'!$H$12:$H$113,I12))","v":""},null,null,{"$f":"IF(I12=0,0,INDEX('Лист ожидания'!$D$12:$D$113,I12))","v":0},null,null,0]
[3,{"$f":"IF(I13=0,\"\",INDEX('Лист ожидания'!$W$12:$W$113,I13))","v":""},{"$f":"IF(I13=0,\"\",INDEX('Лист ожидания'!$T$12:$T$113,I13))","v":""},{"$f":"IF(I13=0,\"\",INDEX('Лист ожидания'!$H$12:$H$113,I13))","v":""},null,null,{"$f":"IF(I13=0,0,INDEX('Лист ожидания'!$D$12:$D$113,I13))","v":0},null,null,0]
[4,{"$f":"IF(I14=0,\"\",INDEX('Лист ожидания'!$W$12:$W$113,I14))","v":""},{"$f":"IF(I14=0,\"\",INDEX('Лист ожидания'!$T$12:$T$113,I14))","v":""},{"$f":"IF(I14=0,\"\",INDEX('Лист ожидания'!$H$12:$H$113,I14))","v":""},null,null,{"$f":"IF(I14=0,0,INDEX('Лист ожидания'!$D$12:$D$113,I14))","v":0},null,null,0]
[5,{"$f":"IF(I15=0,\"\",INDEX('Лист ожидания'!$W$12:$W$113,I15))","v":""},{"$f":"IF(I15=0,\"\",INDEX('Лист ожидания'!$T$12:$T$113,I15))","v":""},{"$f":"IF(I15=0,\"\",INDEX('Лист ожидания'!$H$12:$H$113,I15))","v":""},null,null,{"$f":"IF(I15=0,0,INDEX('Лист ожидания'!$D$12:$D$113,I15))","v":0},null,null,0]
[6,{"$f":"IF(I16=0,\"\",INDEX('Лист ожидания'!$W$12:$W$113,I16))","v":""},{"$f":"IF(I16=0,\"\",INDEX('Лист ожидания'!$T$12:$T$113,I16))","v":""},{"$f":"IF(I16=0,\"\",INDEX('Лист ожидания'!$H$12:$H$113,I16))","v":""},null,null,{"$f":"IF(I16=0,0,INDEX('Лист ожидания'!$D$12:$D$113,I16))","v":0},null,null,0]
[7,{"$f":"IF(I17=0,\"\",INDEX('Лист ожидания'!$W$12:$W$113,I17))","v":""},{"$f":"IF(I17=0,\"\",INDEX('Лист ожидания'!$T$12:$T$113,I17))","v":""},{"$f":"IF(I17=0,\"\",INDEX('Лист ожидания'!$H$12:$H$113,I17))","v":""},null,null,{"$f":"IF(I17=0,0,INDEX('Лист ожидания'!$D$12:$D$113,I17))","v":0},null,null,0]
[8,{"$f":"IF(I18=0,\"\",INDEX('Лист ожидания'!$W$12:$W$113,I18))","v":""},{"$f":"IF(I18=0,\"\",INDEX('Лист ожидания'!$T$12:$T$113,I18))","v":""},{"$f":"IF(I18=0,\"\",INDEX('Лист ожидания'!$H$12:$H$113,I18))","v":""},null,null,{"$f":"IF(I18=0,0,INDEX('Лист ожидания'!$D$12:$D$113,I18))","v":0},null,null,0]
[9,{"$f":"IF(I19=0,\"\",INDEX('Лист ожидания'!$W$12:$W$113,I19))","v":""},{"$f":"IF(I19=0,\"\",INDEX('Лист ожидания'!$T$12:$T$113,I19))","v":""},{"$f":"IF(I19=0,\"\",INDEX('Лист ожидания'!$H$12:$H$113,I19))","v":""},null,null,{"$f":"IF(I19=0,0,INDEX('Лист ожидания'!$D$12:$D$113,I19))","v":0},null,null,0]
[10,{"$f":"IF(I20=0,\"\",INDEX('Лист ожидания'!$W$12:$W$113,I20))","v":""},{"$f":"IF(I20=0,\"\",INDEX('Лист ожидания'!$T$12:$T$113,I20))","v":""},{"$f":"IF(I20=0,\"\",INDEX('Лист ожидания'!$H$12:$H$113,I20))","v":""},null,null,{"$f":"IF(I20=0,0,INDEX('Лист ожидания'!$D$12:$D$113,I20))","v":0},null,null,0]
[11,{"$f":"IF(I21=0,\"\",INDEX('Лист ожидания'!$W$12:$W$113,I21))","v":""},{"$f":"IF(I21=0,\"\",INDEX('Лист ожидания'!$T$12:$T$113,I21))","v":""},{"$f":"IF(I21=0,\"\",INDEX('Лист ожидания'!$H$12:$H$113,I21))","v":""},null,null,{"$f":"IF(I21=0,0,INDEX('Лист ожидания'!$D$12:$D$113,I21))","v":0},null,null,0]
[12,{"$f":"IF(I22=0,\"\",INDEX('Лист ожидания'!$W$12:$W$113,I22))","v":""},{"$f":"IF(I22=0,\"\",INDEX('Лист ожидания'!$T$12:$T$113,I22))","v":""},{"$f":"IF(I22=0,\"\",INDEX('Лист ожидания'!$H$12:$H$113,I22))","v":""},null,null,{"$f":"IF(I22=0,0,INDEX('Лист ожидания'!$D$12:$D$113,I22))","v":0},null,null,0]
[13,{"$f":"IF(I23=0,\"\",INDEX('Лист ожидания'!$W$12:$W$113,I23))","v":""},{"$f":"IF(I23=0,\"\",INDEX('Лист ожидания'!$T$12:$T$113,I23))","v":""},{"$f":"IF(I23=0,\"\",INDEX('Лист ожидания'!$H$12:$H$113,I23))","v":""},null,null,{"$f":"IF(I23=0,0,INDEX('Лист ожидания'!$D$12:$D$113,I23))","v":0},null,null,0]
[14,{"$f":"IF(I24=0,\"\",INDEX('Лист ожидания'!$W$12:$W$113,I24))","v":""},{"$f":"IF(I24=0,\"\",INDEX('Лист ожидания'!$T$12:$T$113,I24))","v":""},{"$f":"IF(I24=0,\"\",INDEX('Лист ожидания'!$H$12:$H$113,I24))","v":""},null,null,{"$f":"IF(I24=0,0,INDEX('Лист ожидания'!$D$12:$D$113,I24))","v":0},null,null,0]
[15,{"$f":"IF(I25=0,\"\",INDEX('Лист ожидания'!$W$12:$W$113,I25))","v":""},{"$f":"IF(I25=0,\"\",INDEX('Лист ожидания'!$T$12:$T$113,I25))","v":""},{"$f":"IF(I25=0,\"\",INDEX('Лист ожидания'!$H$12:$H$113,I25))","v":""},null,null,{"$f":"IF(I25=0,0,INDEX('Лист ожидания'!$D$12:$D$113,I25))","v":0},null,null,0]
[16,{"$f":"IF(I26=0,\"\",INDEX('Лист ожидания'!$W$12:$W$113,I26))","v":""},{"$f":"IF(I26=0,\"\",INDEX('Лист ожидания'!$T$12:$T$113,I26))","v":""},{"$f":"IF(I26=0,\"\",INDEX('Лист ожидания'!$H$12:$H$113,I26))","v":""},null,null,{"$f":"IF(I26=0,0,INDEX('Лист ожидания'!$D$12:$D$113,I26))","v":0},null,null,0]
[17,{"$f":"IF(I27=0,\"\",INDEX('Лист ожидания'!$W$12:$W$113,I27))","v":""},{"$f":"IF(I27=0,\"\",INDEX('Лист ожидания'!$T$12:$T$113,I27))","v":""},{"$f":"IF(I27=0,\"\",INDEX('Лист ожидания'!$H$12:$H$113,I27))","v":""},null,null,{"$f":"IF(I27=0,0,INDEX('Лист ожидания'!$D$12:$D$113,I27))","v":0},null,null,0]
[18,{"$f":"IF(I28=0,\"\",INDEX('Лист ожидания'!$W$12:$W$113,I28))","v":""},{"$f":"IF(I28=0,\"\",INDEX('Лист ожидания'!$T$12:$T$113,I28))","v":""},{"$f":"IF(I28=0,\"\",INDEX('Лист ожидания'!$H$12:$H$113,I28))","v":""},null,null,{"$f":"IF(I28=0,0,INDEX('Лист ожидания'!$D$12:$D$113,I28))","v":0},null,null,0]
[19,{"$f":"IF(I29=0,\"\",INDEX('Лист ожидания'!$W$12:$W$113,I29))","v":""},{"$f":"IF(I29=0,\"\",INDEX('Лист ожидания'!$T$12:$T$113,I29))","v":""},{"$f":"IF(I29=0,\"\",INDEX('Лист ожидания'!$H$12:$H$113,I29))","v":""},null,null,{"$f":"IF(I29=0,0,INDEX('Лист ожидания'!$D$12:$D$113,I29))","v":0},null,null,0]
[20,{"$f":"IF(I30=0,\"\",INDEX('Лист ожидания'!$W$12:$W$113,I30))","v":""},{"$f":"IF(I30=0,\"\",INDEX('Лист ожидания'!$T$12:$T$113,I30))","v":""},{"$f":"IF(I30=0,\"\",INDEX('Лист ожидания'!$H$12:$H$113,I30))","v":""},null,null,null,{"$f":"IF(I30=0,0,INDEX('Лист ожидания'!$D$12:$D$113,I30))","v":0},null,0]
[]
[null,"Запись закрыта",null,null,"Главный судья"]
[null,null,null,null,null,null,{"$f":"UPPER(Установка!C11)","v":"СИТНИКОВ Д.В."}]
[]
[null,"Дата","Время",null,"Подпись",null,"Фамилия И.О."]
[]
[]
[]
[null,null,null,null,null,null,null,null,0]

{"sheet":"ПодгОТ","index":7,"n_rows":50,"n_cols":30,"rows_kept":50,"cut":false,"hidden":false,"merged":[[41,0,41,1],[40,0,40,1],[0,1,0,5],[1,0,1,6],[2,0,4,6]]}
[null,"РАНЖИРОВАННЫЙ СПИСОК ИГРОКОВ ОСНОВНОГО ТУРНИРА РТТ "]
[{"$f":"UPPER(Установка!C3)","v":"ПЕРВЕНСТВО РЕСПУБЛИКИ ТАТАРСТАН"}]
[{"$f":"Установка!G25","v":"ДЕВУШКИ 9-10 ЛЕТ"}]
[]
[]
[]
["№","Очки РТТ","Фамилия, И.О. игрока","РНИ","Дата рожд.","Город","Статус",null,null,null,null,null,null,null,null,"Статусы"]
[{"$f":"ROW()-7","v":1},228,"Кратюк Полина Антоновна",35254,"2007-06-09","Казань",null,"х",{"$f":"LEN(C8)","v":23},{"$f":"IF((I8)=0,0,FIND(\" \",C8))","v":7},{"$f":"IF(OR(ISERR(J8),I8=0),\"\",CONCATENATE(UPPER(MID(C8,J8+1,1)),\".\"))","v":"П."},{"$f":"IF(LEN(C8)=0,0,FIND(\" \",C8,J8+1))","v":14},{"$f":"IF(OR(I8=0,ISERR(L8)),\"\",CONCATENATE(MID(C8,L8+1,1),\".\"))","v":"А."},{"$f":"IF(C8=\"\",\"\",IF(ISERR(J8),UPPER(C8),UPPER(MID(C8,1,J8-1))))","v":"КРАТЮК"},{"$f":"CONCATENATE(K8,M8)","v":"П.А."},{"$f":"UPPER(IF(AND(A8<=$A$50,B8<>0,AD8=0),CONCATENATE(A8,\" \",G8),G8))","v":"1 "},null,null,null,null,null,null,null,null,{"$f":"IF(C8=\"\",\"\",IF(ISERR(J8),\"\",IF(ISERR(L8),UPPER(MID(C8,J8,I8-J8+1)),UPPER(MID(C8,J8,L8-J8)))))","v":" ПОЛИНА"},{"$f":"IF(N8=\"\",0,COUNTIF(ПодгОТ!$N$8:$N$39,N8))","v":1},{"$f":"IF(Z8>1,CONCATENATE(N8,Y8),N8)","v":"КРАТЮК"},null,null,0]
[2,112,"Смирнова Стефания Алексеевна",35475,"2007-03-27","Казань",null,"х",{"$f":"LEN(C9)","v":28},{"$f":"IF((I9)=0,0,FIND(\" \",C9))","v":9},{"$f":"IF(OR(ISERR(J9),I9=0),\"\",CONCATENATE(UPPER(MID(C9,J9+1,1)),\".\"))","v":"С."},{"$f":"IF(LEN(C9)=0,0,FIND(\" \",C9,J9+1))","v":18},{"$f":"IF(OR(I9=0,ISERR(L9)),\"\",CONCATENATE(MID(C9,L9+1,1),\".\"))","v":"А."},{"$f":"IF(C9=\"\",\"\",IF(ISERR(J9),UPPER(C9),UPPER(MID(C9,1,J9-1))))","v":"СМИРНОВА"},{"$f":"CONCATENATE(K9,M9)","v":"С.А."},{"$f":"UPPER(IF(AND(A9<=$A$50,B9<>0,AD9=0),CONCATENATE(A9,\" \",G9),G9))","v":"2 "},null,null,null,null,null,null,null,null,{"$f":"IF(C9=\"\",\"\",IF(ISERR(J9),\"\",IF(ISERR(L9),UPPER(MID(C9,J9,I9-J9+1)),UPPER(MID(C9,J9,L9-J9)))))","v":" СТЕФАНИЯ"},{"$f":"IF(N9=\"\",0,COUNTIF(ПодгОТ!$N$8:$N$39,N9))","v":1},{"$f":"IF(Z9>1,CONCATENATE(N9,Y9),N9)","v":"СМИРНОВА"},null,null,0]
[3,109,"Шафигуллина Камиля Айдаровна",35474,"2007-04-17","Казань",null,"х",28,12,"К.",19,"А.","ШАФИГУЛЛИНА","К.А.","3 ",null,null,null,null,null,null,null,null," КАМИЛЯ",{"$f":"IF(N10=\"\",0,COUNTIF(ПодгОТ!$N$8:$N$39,N10))","v":1},"ШАФИГУЛЛИНА",null,null,0]
[4,107,"Седова Виктория Денисовна",37788,"2008-03-15","Высокая Гора",null,"х",25,7,"В.",16,"Д.","СЕДОВА","В.Д.","4 ",null,null,null,null,null,null,null,null," ВИКТОРИЯ",{"$f":"IF(N11=\"\",0,COUNTIF(ПодгОТ!$N$8:$N$39,N11))","v":1},"СЕДОВА",null,null,0]
[5,96,"Гаврилова Мария Андреевна",36120,"2007-02-07","Саратов",null,"х",25,10,"М.",16,"А.","ГАВРИЛОВА","М.А.","5 ",null,null,null,null,null,null,null,null," МАРИЯ",{"$f":"IF(N12=\"\",0,COUNTIF(ПодгОТ!$N$8:$N$39,N12))","v":1},"ГАВРИЛОВА",null,null,0]
[6,96,"Егорова Алина Андреевна",35477,"2017-01-26","Казань",null,"х",23,8,"А.",14,"А.","ЕГОРОВА","А.А.","6 ",null,null,null,null,null,null,null,null," АЛИНА",{"$f":"IF(N13=\"\",0,COUNTIF(ПодгОТ!$N$8:$N$39,N13))","v":2},"ЕГОРОВА АЛИНА",null,null,0]
[7,79,"Лизунова Анастасия Алексеевна",37861,"2008-11-18","Казань",null,"х",29,9,"А.",19,"А.","ЛИЗУНОВА","А.А.","7 ",null,null,null,null,null,null,null,null," АНАСТАСИЯ",{"$f":"IF(N14=\"\",0,COUNTIF(ПодгОТ!$N$8:$N$39,N14))","v":1},"ЛИЗУНОВА",null,null,0]
[8,75,"Раевская Анастасия Артемовна",35448,"2007-12-07","Казань",null,"х",28,9,"А.",19,"А.","РАЕВСКАЯ","А.А.","8 ",null,null,null,null,null,null,null,null," АНАСТАСИЯ",{"$f":"IF(N15=\"\",0,COUNTIF(ПодгОТ!$N$8:$N$39,N15))","v":1},"РАЕВСКАЯ",null,null,0]
[9,74,"Ахметова Лейла Ильдаровна",35481,"2007-11-15","Казань",null,"х",25,9,"Л.",15,"И.","АХМЕТОВА","Л.И.","",null,null,null,null,null,null,null,null," ЛЕЙЛА",{"$f":"IF(N16=\"\",0,COUNTIF(ПодгОТ!$N$8:$N$39,N16))","v":1},"АХМЕТОВА",null,null,0]
[10,66,"Макарова Марта-Мария Львовна",38201,"2008-01-25","Киров",null,"х",28,9,"М.",21,"Л.","МАКАРОВА","М.Л.","",null,null,null,null,null,null,null,null," МАРТА-МАРИЯ",{"$f":"IF(N17=\"\",0,COUNTIF(ПодгОТ!$N$8:$N$39,N17))","v":1},"МАКАРОВА",null,null,0]
[11,64,"Кац Эмилия Вадимовна",38531,"2008-12-07","Нижний Новгород",null,"х",20,4,"Э.",11,"В.","КАЦ","Э.В.","",null,null,null,null,null,null,null,null," ЭМИЛИЯ",{"$f":"IF(N18=\"\",0,COUNTIF(ПодгОТ!$N$8:$N$39,N18))","v":1},"КАЦ",null,null,0]
[12,53,"Гатина Анжелина Айратовна",35699,"2007-04-18","Казань",null,"х",25,7,"А.",16,"А.","ГАТИНА","А.А.","",null,null,null,null,null,null,null,null," АНЖЕЛИНА",{"$f":"IF(N19=\"\",0,COUNTIF(ПодгОТ!$N$8:$N$39,N19))","v":1},"ГАТИНА",null,null,0]
[13,47,"Агеева Тея Артуровна",35866,"2007-08-31","Казань",null,"х",20,7,"Т.",11,"А.","АГЕЕВА","Т.А.","",null,null,null,null,null,null,null,null," ТЕЯ",{"$f":"IF(N20=\"\",0,COUNTIF(ПодгОТ!$N$8:$N$39,N20))","v":1},"АГЕЕВА",null,null,0]
[14,47,"Мутрюкова Агния Игоревна",35479,"2007-01-03","Казань",null,"х",24,10,"А.",16,"И.","МУТРЮКОВА","А.И.","",null,null,null,null,null,null,null,null," АГНИЯ",{"$f":"IF(N21=\"\",0,COUNTIF(ПодгОТ!$N$8:$N$39,N21))","v":1},"МУТРЮКОВА",null,null,0]
[15,42,"Гафурова Камелия Марсельевна",35478,"2007-12-06","Казань",null,"х",28,9,"К.",17,"М.","ГАФУРОВА","К.М.","",null,null,null,null,null,null,null,null," КАМЕЛИЯ",{"$f":"IF(N22=\"\",0,COUNTIF(ПодгОТ!$N$8:$N$39,N22))","v":1},"ГАФУРОВА",null,null,0]
[16,40,"Егорова Таисия Андреевна",36167,"2007-10-25","Казань",null,"х",24,8,"Т.",15,"А.","ЕГОРОВА","Т.А.","",null,null,null,null,null,null,null,null," ТАИСИЯ",{"$f":"IF(N23=\"\",0,COUNTIF(ПодгОТ!$N$8:$N$39,N23))","v":2},"ЕГОРОВА ТАИСИЯ",null,null,0]
[17,40,"Харламова Софья Алексеевна",39019,"2007-07-27","Казань",null,"х",26,10,"С.",16,"А.","ХАРЛАМОВА","С.А.","",null,null,null,null,null,null,null,null," СОФЬЯ",{"$f":"IF(N24=\"\",0,COUNTIF(ПодгОТ!$N$8:$N$39,N24))","v":1},"ХАРЛАМОВА",null,null,0]
[18,38,"Нигмедзянова Камилла Ильдаровна",38291,"2008-08-04","Казань",null,"х",31,13,"К.",21,"И.","НИГМЕДЗЯНОВА","К.И.","",null,null,null,null,null,null,null,null," КАМИЛЛА",{"$f":"IF(N25=\"\",0,COUNTIF(ПодгОТ!$N$8:$N$39,N25))","v":1},"НИГМЕДЗЯНОВА",null,null,0]
[19,37,"Ермолаева Лейла Владимировна",37817,"2008-08-31","Тольятти",null,"х",28,10,"Л.",16,"В.","ЕРМОЛАЕВА","Л.В.","",null,null,null,null,null,null,null,null," ЛЕЙЛА",{"$f":"IF(N26=\"\",0,COUNTIF(ПодгОТ!$N$8:$N$39,N26))","v":1},"ЕРМОЛАЕВА",null,null,0]
[20,33,"Гурылева Влада Владиславовна",37974,"2008-06-27","Казань",null,"х",28,9,"В.",15,"В.","ГУРЫЛЕВА","В.В.",{"$f":"UPPER(IF(AND(A27<=$A$50,B27<>0,AD27),CONCATENATE(A27,\" \",G27),G27))","v":""},null,null,null,null,null,null,null,null," ВЛАДА",{"$f":"IF(N27=\"\",0,COUNTIF(ПодгОТ!$N$8:$N$39,N27))","v":1},"ГУРЫЛЕВА",null,null,0]
[21,30,"Баранова Ксения Викторовна",35679,"2007-07-01","Казань",null,"х",26,9,"К.",16,"В.","БАРАНОВА","К.В.","",null,null,null,null,null,null,null,null," КСЕНИЯ",{"$f":"IF(N28=\"\",0,COUNTIF(ПодгОТ!$N$8:$N$39,N28))","v":1},"БАРАНОВА",null,null,0]
[22,20,"Давлеева Элина Оскаровна",36341,"2017-10-04","Казань",null,"х",24,9,"Э.",15,"О.","ДАВЛЕЕВА","Э.О.","",null,null,null,null,null,null,null,null," ЭЛИНА",{"$f":"IF(N29=\"\",0,COUNTIF(ПодгОТ!$N$8:$N$39,N29))","v":1},"ДАВЛЕЕВА",null,null,0]
[23,19,"Закирова Аделя Нуриевна",35639,"2007-06-24","Казань","СК","х",23,9,"А.",15,"Н.","ЗАКИРОВА","А.Н.","СК",null,null,null,null,null,null,null,null," АДЕЛЯ",{"$f":"IF(N30=\"\",0,COUNTIF(ПодгОТ!$N$8:$N$39,N30))","v":1},"ЗАКИРОВА",null,null,0]
[24,11,"Варданян Ванесса Аркадьевна",38200,"2008-04-28","Киров","СК","х",27,9,"В.",17,"А.","ВАРДАНЯН","В.А.","СК",null,null,null,null,null,null,null,null," ВАНЕССА",{"$f":"IF(N31=\"\",0,COUNTIF(ПодгОТ!$N$8:$N$39,N31))","v":1},"ВАРДАНЯН",null,null,0]
[25,3,"Зверева София Михайловна",39463,"2007-03-13","Киров","СК","х",24,8,"С.",14,"М.","ЗВЕРЕВА","С.М.","СК",null,null,null,null,null,null,null,null," СОФИЯ",{"$f":"IF(N32=\"\",0,COUNTIF(ПодгОТ!$N$8:$N$39,N32))","v":1},"ЗВЕРЕВА",null,null,0]
[26,0,"Леонова Элина Константиновна",38589,"2007-04-03","Елабуга","СК","х",28,8,"Э.",14,"К.","ЛЕОНОВА","Э.К.","СК",null,null,null,null,null,null,null,null," ЭЛИНА",{"$f":"IF(N33=\"\",0,COUNTIF(ПодгОТ!$N$8:$N$39,N33))","v":1},"ЛЕОНОВА",null,null,0]
[27,0,"Тарасова Софья Сергеевна",39542,"2008-09-16","Самара","СК","х",24,9,"С.",15,"С.","ТАРАСОВА","С.С.","СК",null,null,null,null,null,null,null,null," СОФЬЯ",{"$f":"IF(N34=\"\",0,COUNTIF(ПодгОТ!$N$8:$N$39,N34))","v":1},"ТАРАСОВА",null,null,0]
[28,null,null,null,null,null,null,null,0,0,"",0,"","","","",null,null,null,null,null,null,null,null,"",{"$f":"IF(N35=\"\",0,COUNTIF(ПодгОТ!$N$8:$N$39,N35))","v":0},"",null,null,0]
[29,null,null,null,null,null,null,null,0,0,"",0,"","","","",null,null,null,null,null,null,null,null,"",{"$f":"IF(N36=\"\",0,COUNTIF(ПодгОТ!$N$8:$N$39,N36))","v":0},"",null,null,0]
[30,null,null,null,null,null,null,null,0,0,"",0,"","","","",null,null,null,null,null,null,null,null,"",{"$f":"IF(N37=\"\",0,COUNTIF(ПодгОТ!$N$8:$N$39,N37))","v":0},"",null,null,0]
[31,null,null,null,null,null,null,null,0,0,"",0,"","","","",null,null,null,null,null,null,null,null,"",{"$f":"IF(N38=\"\",0,COUNTIF(ПодгОТ!$N$8:$N$39,N38))","v":0},"",null,null,0]
[32,null,null,null,null,null,null,null,0,0,"",0,"","","","",null,null,null,null,null,null,null,null,"",{"$f":"IF(N39=\"\",0,COUNTIF(ПодгОТ!$N$8:$N$39,N39))","v":0},"",null,null,0]
[null,null,{"$f":"COUNTA(C8:C39)","v":27},null,null,null,null,null,null,null,"",null,null,null,null,{"$f":"IF(AND(A40<$B$50,B40<>0),CONCATENATE(A40,\" \",G40),G40)","v":0},null,null,null,null,null,null,null,null,null,{"$f":"IF(N40=\"\",0,COUNTIF(ПодгОТ!$N$8:$N$39,N40))","v":0},0]
[]
[]
[]
[]
[]
[]
[]
[]
[]
[{"$f":"IF(Установка!D51=16,4,8)","v":8},null,{"$f":"COUNTA(C8:C39)","v":27},null,null,null,null,null,null,{"$f":"COUNTIF(J12:J43,\"СК\")","v":0}]

{"sheet":"ОТ32","index":8,"n_rows":281,"n_cols":31,"rows_kept":281,"cut":false,"hidden":false,"merged":[[276,4,276,6],[277,4,277,6],[271,4,271,6],[272,4,272,6],[273,4,273,6],[274,4,274,6],[268,4,268,6],[280,4,280,6],[74,7,74,9],[279,4,279,6],[278,4,278,6],[269,4,269,6],[270,4,270,6],[253,4,253,6],[254,4,254,6],[275,4,275,6],[153,6,153,11],[154,7,154,8],[154,10,154,11],[155,7,155,8],[155,10,155,11],[267,4,267,6],[260,4,260,6],[84,1,84,4],[9,16,9,19],[13,10,14,12],[13,13,14,13],[12,15,12,17],[14,15,14,17],[12,11,12,13],[11,15,11,17],[256,4,256,6],[249,4,249,6],[250,4,250,6],[251,4,251,6],[252,4,252,6],[255,4,255,6],[37,15,37,17],[39,15,39,17],[52,19,52,21],[47,19,47,21],[42,15,42,17],[44,11,44,13],[43,11,43,13],[65,19,65,21],[48,15,48,17],[76,12,76,15],[73,11,73,13],[5,12,5,16],[8,20,9,22],[9,8,9,11],[41,19,41,21],[11,6,12,8],[13,7,13,9],[14,7,14,9],[11,9,12,9],[5,21,5,22],[15,19,15,21],[40,15,40,17],[40,11,40,13],[41,11,41,13],[41,15,41,17],[8,16,8,19],[8,8,8,11],[11,11,11,13],[13,19,13,21],[9,12,9,15],[34,11,34,13],[28,15,28,17],[29,10,30,12],[30,7,30,9],[33,7,33,9],[62,15,62,17],[66,19,66,21],[52,15,52,17],[54,19,54,21],[48,11,48,13],[55,19,55,21],[64,11,64,13],[58,11,58,13],[55,11,55,13],[51,15,51,17],[57,11,57,13],[49,11,49,13],[56,19,56,21],[49,17,50,17],[49,14,50,16],[53,19,53,21],[51,19,51,21],[49,19,49,21],[48,19,48,21],[65,17,66,17],[57,18,58,21],[5,18,5,20],[5,4,5,5],[5,6,5,11],[82,12,82,15],[83,12,83,15],[84,12,84,15],[77,12,77,15],[78,12,78,15],[79,12,79,15],[80,12,80,15],[81,12,81,15],[81,16,81,22],[17,17,18,17],[33,17,34,17],[79,16,79,19],[79,20,79,22],[54,15,54,17],[19,15,19,17],[20,15,20,17],[36,15,36,17],[33,14,34,16],[80,16,80,19],[80,20,80,22],[72,14,73,16],[10,1,11,1],[7,1,9,1],[7,3,9,4],[7,5,9,5],[10,5,11,5],[10,2,11,2],[10,3,11,3],[0,0,0,22],[2,0,2,22],[3,0,3,22],[4,0,4,3],[1,0,1,22],[4,4,4,5],[4,21,4,22],[4,6,4,11],[4,12,4,16],[4,18,4,20],[5,0,5,3],[7,0,9,0],[6,3,6,19],[10,0,11,0],[8,12,8,15],[10,4,11,4],[7,2,9,2],[82,1,82,4],[83,1,83,4],[80,7,80,11],[77,1,77,4],[78,1,78,4],[77,7,77,11],[78,7,78,11],[79,7,79,11],[81,1,81,4],[76,1,76,4],[72,1,73,1],[72,3,73,3],[72,2,73,2],[70,2,71,2],[70,3,71,3],[81,7,81,11],[69,7,69,9],[68,5,69,5],[72,4,73,4],[71,9,72,9],[71,6,72,8],[70,5,71,5],[72,5,73,5],[79,1,79,4],[80,1,80,4],[73,7,73,9],[76,7,76,11],[72,11,72,13],[69,13,70,13],[67,9,68,9],[67,11,67,13],[70,7,70,9],[70,1,71,1],[70,4,71,4],[68,2,69,2],[68,1,69,1],[68,3,69,3],[68,4,69,4],[71,11,71,13],[66,3,67,3],[34,3,35,3],[46,2,47,2],[69,10,70,12],[67,6,68,8],[52,3,53,3],[48,4,49,4],[36,3,37,3],[40,3,41,3],[64,2,65,2],[66,2,67,2],[66,1,67,1],[59,11,59,13],[65,7,65,9],[66,7,66,9],[60,11,60,13],[61,10,62,12],[38,4,39,4],[12,0,13,0],[12,3,13,3],[28,3,29,3],[24,0,25,0],[24,2,25,2],[22,0,23,0],[12,1,13,1],[14,1,15,1],[16,1,17,1],[14,0,15,0],[16,4,17,4],[20,0,21,0],[18,0,19,0],[20,3,21,3],[20,1,21,1],[16,0,17,0],[18,2,19,2],[20,2,21,2],[18,1,19,1],[18,3,19,3],[30,0,31,0],[26,0,27,0],[32,3,33,3],[28,0,29,0],[32,0,33,0],[26,3,27,3],[30,1,31,1],[26,2,27,2],[30,3,31,3],[11,19,11,21],[12,19,12,21],[16,19,16,21],[14,19,14,21],[56,15,56,17],[20,19,20,21],[19,19,19,21],[21,19,21,21],[27,19,27,21],[28,19,28,21],[13,15,13,17],[17,19,17,21],[15,15,15,17],[17,14,18,16],[18,19,18,21],[16,15,16,17],[26,15,26,17],[21,15,21,17],[22,15,22,17],[25,15,25,17],[23,15,23,17],[24,15,24,17],[31,15,31,17],[53,15,53,17],[55,6,56,8],[55,9,56,9],[54,7,54,9],[51,11,51,13],[53,13,54,13],[47,11,47,13],[50,11,50,13],[53,10,54,12],[42,19,43,21],[50,19,50,21],[47,15,47,17],[32,19,32,21],[34,19,34,21],[46,19,46,21],[45,19,45,20],[31,19,31,21],[36,19,36,21],[31,11,31,13],[61,15,61,17],[56,11,56,13],[52,11,52,13],[40,19,40,21],[32,11,32,13],[45,13,46,13],[37,13,38,13],[39,11,39,13],[37,19,37,21],[38,19,38,21],[39,19,39,21],[38,15,38,17],[46,15,46,17],[45,15,45,17],[44,15,44,17],[45,10,46,12],[44,19,44,20],[22,19,22,21],[23,19,23,21],[24,19,24,21],[25,18,26,21],[29,19,29,21],[30,19,30,21],[23,11,23,13],[24,11,24,13],[21,10,22,12],[25,11,25,13],[27,11,27,13],[27,15,27,17],[28,11,28,13],[29,13,30,13],[29,15,29,17],[30,15,30,17],[40,4,41,4],[49,7,49,9],[52,5,53,5],[50,4,51,4],[50,5,51,5],[46,7,46,9],[45,7,45,9],[43,6,44,8],[38,7,38,9],[42,4,43,4],[51,9,52,9],[51,6,52,8],[43,9,44,9],[42,7,42,9],[41,7,41,9],[40,5,41,5],[42,5,43,5],[53,7,53,9],[47,9,48,9],[47,6,48,8],[50,7,50,9],[66,4,67,4],[63,11,63,13],[65,11,65,13],[63,6,64,8],[63,9,64,9],[66,11,66,13],[62,5,63,5],[57,7,57,9],[58,7,58,9],[61,13,62,13],[59,6,60,8],[59,9,60,9],[62,7,62,9],[38,3,39,3],[44,3,45,3],[44,2,45,2],[42,2,43,2],[42,3,43,3],[40,2,41,2],[42,1,43,1],[48,1,49,1],[44,1,45,1],[46,3,47,3],[48,2,49,2],[34,0,35,0],[72,0,73,0],[68,0,69,0],[70,0,71,0],[56,0,57,0],[58,0,59,0],[60,0,61,0],[62,0,63,0],[66,0,67,0],[64,0,65,0],[54,0,55,0],[36,0,37,0],[40,0,41,0],[38,0,39,0],[42,0,43,0],[46,0,47,0],[44,0,45,0],[52,0,53,0],[50,0,51,0],[48,0,49,0],[52,2,53,2],[22,1,23,1],[24,1,25,1],[34,1,35,1],[34,2,35,2],[22,2,23,2],[32,1,33,1],[30,2,31,2],[32,2,33,2],[36,2,37,2],[26,1,27,1],[28,1,29,1],[40,1,41,1],[36,1,37,1],[38,1,39,1],[38,2,39,2],[46,1,47,1],[50,1,51,1],[52,1,53,1],[50,2,51,2],[56,2,57,2],[62,2,63,2],[64,4,65,4],[60,2,61,2],[60,3,61,3],[64,5,65,5],[58,5,59,5],[58,2,59,2],[54,1,55,1],[58,1,59,1],[56,1,57,1],[54,2,55,2],[64,1,65,1],[60,1,61,1],[62,1,63,1],[62,4,63,4],[60,4,61,4],[60,5,61,5],[56,3,57,3],[64,3,65,3],[58,3,59,3],[62,3,63,3],[54,4,55,4],[58,4,59,4],[54,3,55,3],[52,4,53,4],[48,3,49,3],[56,4,57,4],[46,4,47,4],[50,3,51,3],[44,4,45,4],[46,5,47,5],[48,5,49,5],[56,5,57,5],[44,5,45,5],[54,5,55,5],[36,4,37,4],[34,4,35,4],[19,6,20,8],[23,9,24,9],[29,7,29,9],[26,7,26,9],[21,7,21,9],[22,7,22,9],[25,7,25,9],[27,6,28,8],[22,5,23,5],[20,5,21,5],[34,5,35,5],[31,9,32,9],[34,7,34,9],[31,6,32,8],[30,5,31,5],[37,7,37,9],[36,5,37,5],[23,6,24,8],[35,9,36,9],[35,6,36,8],[12,4,13,4],[14,4,15,4],[28,2,29,2],[32,5,33,5],[12,2,13,2],[16,2,17,2],[14,3,15,3],[14,2,15,2],[16,3,17,3],[18,5,19,5],[24,5,25,5],[18,4,19,4],[24,3,25,3],[22,4,23,4],[22,3,23,3],[20,4,21,4],[24,4,25,4],[32,4,33,4],[28,5,29,5],[26,5,27,5],[26,4,27,4],[28,4,29,4],[30,4,31,4],[12,5,13,5],[14,5,15,5],[16,5,17,5],[42,11,42,13],[15,9,16,9],[19,9,20,9],[38,5,39,5],[15,6,16,8],[18,7,18,9],[27,9,28,9],[17,7,17,9],[26,11,26,13],[19,11,19,13],[20,11,20,13],[21,13,22,13],[16,11,16,13],[18,11,18,13],[17,11,17,13],[15,11,15,13],[39,6,40,8],[37,10,38,12],[36,11,36,13],[33,11,33,13],[39,9,40,9],[35,11,35,13],[8,30,9,30],[8,25,9,25],[8,26,9,26],[8,27,9,27],[8,28,9,28],[8,29,9,29],[67,19,67,21],[59,15,59,17],[63,15,63,17],[61,19,61,21],[62,19,62,21],[63,19,63,21],[43,15,43,17],[64,19,64,21],[60,19,60,21],[57,15,57,17],[60,15,60,17],[58,15,58,17],[59,19,59,21],[55,15,55,17],[32,15,32,17],[35,15,35,17],[33,19,33,21],[35,19,35,21],[148,7,148,11],[149,7,149,11],[265,4,265,6],[266,4,266,6],[261,4,261,6],[262,4,262,6],[263,4,263,6],[264,4,264,6],[257,4,257,6],[259,4,259,6],[258,4,258,6],[84,16,84,19],[82,16,83,19],[82,20,83,22],[84,20,84,22],[66,5,67,5],[69,15,69,17],[68,11,68,13],[61,7,61,9],[64,15,64,17],[67,15,67,17],[65,14,66,16],[82,7,82,11],[83,7,83,11],[84,7,84,11],[73,19,73,21],[78,16,78,22],[76,16,76,22],[77,16,77,22],[71,18,72,21],[70,14,71,17],[74,19,74,21],[68,19,68,21],[68,15,68,17],[70,18,70,21]]}
["ОСНОВНОЙ ТУРНИР ЛИЧНОГО ТУРНИРА РТТ В ОДИНОЧНОМ РАЗРЯДЕ"]
["Название турнира"]
[{"$f":"UPPER(Установка!C3)","v":"ПЕРВЕНСТВО РЕСПУБЛИКИ ТАТАРСТАН"}]
[]
["Место проведения",null,null,null,"Сроки проведения",null,"Возрастная группа",null,null,null,null,null,"Пол игроков",null,null,null,null,null,"Категория",null,null,"Класс"]
[{"$f":"UPPER(Установка!C6)","v":"КАЗАНЬ"},null,null,null,{"$f":"IF(Установка!C7=\"\",\"\",TEXT(Установка!C7,\"ДД,ММ,ГГГГ\"))","v":"18-24.11.2017."},null,{"$f":"UPPER(Установка!C4)","v":"9-10 ЛЕТ"},null,null,null,null,null,{"$f":"IF(Установка!$C$5=\"\",\"\",UPPER(Установка!$C$5))","v":"ДЕВУШКИ"},null,null,null,null,null,{"$f":"UPPER(Установка!D8)","v":"IV"},null,null,{"$f":"UPPER(Установка!E8)","v":"Б"}]
[null,null,0]
["Статус игрока","№ строк",{"$f":"MAX(C11:C74)+1","v":28},"Фамилия И.О. игрока",null,"Город (страна)"]
[null,null,null,null,null,null,null,null,"1/8",null,null,null,"1/4",null,null,null,"1/2",null,null,null,"Финал",null,null,null,null,"Победители 1-го круга","Проигравшие в 1-ом круге","Победители 2-го круга","Проигравшие во 2-ом круге","Победители 3-го круга","Проигравшие во 3-ем круге"]
[null,null,null,null,null,null,null,null,"финала",null,null,null,"финала",null,null,null,"финала"]
[{"$f":"IF($C11=\"\",\"1\",IF(AND($C11>=1,$C11<33),INDEX(ПодгОТ!$P$8:$P$39,C11),\"\"))","v":"1 "},1,1,{"$f":"IF($C11=\"\",\"\",IF(AND($C11>=1,$C11<33),VLOOKUP($C11,ПодгОТ!$A$8:$AA$39,27),\"Х\"))","v":"КРАТЮК"},{"$f":"IF(AND($C11>=1,$C11<33),VLOOKUP($C11,ПодгОТ!$A$8:$P$39,15),\"\")","v":"П.А."},{"$f":"IF(AND($C11>=1,$C11<33),VLOOKUP($C11,ПодгОТ!$A$8:$P$39,6),\"\")","v":"Казань"}]
[null,null,null,null,null,null,{"$f":"IF(G14=0,CONCATENATE(\"поб.\", D11,\"/\", D13),IF(G14=1,D11,IF(G14=2,D13,\"Х\")))","v":"КРАТЮК"},null,null,{"$f":"IF(G14=1,E11,IF(G14=2,E13,\"\"))","v":"П.А."}]
[{"$f":"IF($C13=\"\",\"\",IF(AND($C13>=1,$C13<33),INDEX(ПодгОТ!$P$8:$P$39,C13),\"\"))","v":""},2,"х",{"$f":"IF($C13=\"\",\"\",IF(AND($C13>=1,$C13<33),VLOOKUP($C13,ПодгОТ!$A$8:$AA$39,27),\"Х\"))","v":"Х"},{"$f":"IF(AND($C13>=1,$C13<33),VLOOKUP($C13,ПодгОТ!$A$8:$P$39,15),\"\")","v":""},{"$f":"IF(AND($C13>=1,$C13<33),VLOOKUP($C13,ПодгОТ!$A$8:$P$39,6),\"\")","v":""}]
[null,null,null,null,null,null,1,null,null,null,{"$f":"IF(K16=0,CONCATENATE(\"поб.\",G12,\"/\",G16 ),IF(K16=1,G12,IF(K16=2,G16,\"Х\")))","v":"КРАТЮК"},null,null,{"$f":"IF(K16=1,J12,IF(K16=2,J16,\"\"))","v":"П.А."},null,null,null,null,null,null,null,null,null,null,null,{"$f":"IF(OR(G14=3,G14=0),0,(IF(G14=1,C11,C13)))","v":1},{"$f":"IF(OR(G14=3,G14=0),0,(IF(G14=1,C13,C11)))","v":"х"}]
[{"$f":"IF($C15=\"\",\"\",IF(AND($C15>=1,$C15<33),INDEX(ПодгОТ!$P$8:$P$39,C15),\"\"))","v":""},3,14,{"$f":"IF($C15=\"\",\"\",IF(AND($C15>=1,$C15<33),VLOOKUP($C15,ПодгОТ!$A$8:$AA$39,27),\"Х\"))","v":"МУТРЮКОВА"},{"$f":"IF(AND($C15>=1,$C15<33),VLOOKUP($C15,ПодгОТ!$A$8:$P$39,15),\"\")","v":"А.И."},{"$f":"IF(AND($C15>=1,$C15<33),VLOOKUP($C15,ПодгОТ!$A$8:$P$39,6),\"\")","v":"Казань"},null,"Судья на вышке"]
[null,null,null,null,null,null,{"$f":"IF(G18=0,CONCATENATE(\"поб.\", D15,\"/\", D17),IF(G18=1,D15,IF(G18=2,D17,\"Х\")))","v":"КАЦ"},null,null,{"$f":"IF(G18=1,E15,IF(G18=2,E17,\"\"))","v":"Э.В."},1,"5-3 4-1",null,null,null,null,null,null,null,null,null,null,null,null,null,null,null,{"$f":"IF(OR(K16=0,K16=3),0,IF(K16=1,Z14,Z18))","v":1},{"$f":"IF(OR(K16=0,K16=3),0,IF(K16=1,Z18,Z14))","v":11}]
[{"$f":"IF($C17=\"\",\"\",IF(AND($C17>=1,$C17<33),INDEX(ПодгОТ!$P$8:$P$39,C17),\"\"))","v":""},4,11,{"$f":"IF($C17=\"\",\"\",IF(AND($C17>=1,$C17<33),VLOOKUP($C17,ПодгОТ!$A$8:$AA$39,27),\"Х\"))","v":"КАЦ"},{"$f":"IF(AND($C17>=1,$C17<33),VLOOKUP($C17,ПодгОТ!$A$8:$P$39,15),\"\")","v":"Э.В."},{"$f":"IF(AND($C17>=1,$C17<33),VLOOKUP($C17,ПодгОТ!$A$8:$P$39,6),\"\")","v":"Нижний Новгород"},null,null,null,null,null,"Судья на вышке"]
[null,null,null,null,null,null,2,"4-1 4-1",null,null,null,null,null,null,{"$f":"IF(O20=0,CONCATENATE(\"поб.\",K14,\"/\",K22 ),IF(O20=1,K14,IF(O20=2,K22,\"Х\")))","v":"КРАТЮК"},null,null,{"$f":"IF(O20=1,N14,IF(O20=2,N22,\"\"))","v":"П.А."},null,null,null,null,null,null,null,{"$f":"IF(OR(G18=3,G18=0),0,(IF(G18=1,C15,C17)))","v":11},{"$f":"IF(OR(G18=3,G18=0),0,(IF(G18=1,C17,C15)))","v":14}]
[{"$f":"IF($C19=\"\",\"\",IF(AND($C19>=1,$C19<33),INDEX(ПодгОТ!$P$8:$P$39,C19),\"\"))","v":""},5,13,{"$f":"IF($C19=\"\",\"\",IF(AND($C19>=1,$C19<33),VLOOKUP($C19,ПодгОТ!$A$8:$AA$39,27),\"Х\"))","v":"АГЕЕВА"},{"$f":"IF(AND($C19>=1,$C19<33),VLOOKUP($C19,ПодгОТ!$A$8:$P$39,15),\"\")","v":"Т.А."},{"$f":"IF(AND($C19>=1,$C19<33),VLOOKUP($C19,ПодгОТ!$A$8:$P$39,6),\"\")","v":"Казань"},null,"Судья на вышке"]
[null,null,null,null,null,null,{"$f":"IF(G22=0,CONCATENATE(\"поб.\", D19,\"/\", D21),IF(G22=1,D19,IF(G22=2,D21,\"Х\")))","v":"АГЕЕВА"},null,null,{"$f":"IF(G22=1,E19,IF(G22=2,E21,\"\"))","v":"Т.А."},null,null,null,null,1,"4-2 4-0",null,null,null,null,null,null,null,null,null,null,null,null,null,{"$f":"IF(OR(O20=0,O20=3),0,IF(O20=1,AB16,AB24))","v":1},{"$f":"IF(OR(O20=0,O20=3),0,IF(O20=1,AB24,AB16))","v":6}]
[{"$f":"IF($C21=\"\",\"\",IF(AND($C21>=1,$C21<33),INDEX(ПодгОТ!$P$8:$P$39,C21),\"\"))","v":""},6,22,{"$f":"IF($C21=\"\",\"\",IF(AND($C21>=1,$C21<33),VLOOKUP($C21,ПодгОТ!$A$8:$AA$39,27),\"Х\"))","v":"ДАВЛЕЕВА"},{"$f":"IF(AND($C21>=1,$C21<33),VLOOKUP($C21,ПодгОТ!$A$8:$P$39,15),\"\")","v":"Э.О."},{"$f":"IF(AND($C21>=1,$C21<33),VLOOKUP($C21,ПодгОТ!$A$8:$P$39,6),\"\")","v":"Казань"},null,null,null,null,null,null,null,null,null,"Судья на вышке"]
[null,null,null,null,null,null,1,"5-3 5-3",null,null,{"$f":"IF(K24=0,CONCATENATE(\"поб.\",G20,\"/\",G24 ),IF(K24=1,G20,IF(K24=2,G24,\"Х\")))","v":"ЕГОРОВА АЛИНА"},null,null,{"$f":"IF(K24=1,J20,IF(K24=2,J24,\"\"))","v":"А.А."},null,null,null,null,null,null,null,null,null,null,null,{"$f":"IF(OR(G22=3,G22=0),0,(IF(G22=1,C19,C21)))","v":13},{"$f":"IF(OR(G22=3,G22=0),0,(IF(G22=1,C21,C19)))","v":22}]
[{"$f":"IF($C23=\"\",\"\",IF(AND($C23>=1,$C23<33),INDEX(ПодгОТ!$P$8:$P$39,C23),\"\"))","v":"СК"},7,24,{"$f":"IF($C23=\"\",\"\",IF(AND($C23>=1,$C23<33),VLOOKUP($C23,ПодгОТ!$A$8:$AA$39,27),\"Х\"))","v":"ВАРДАНЯН"},{"$f":"IF(AND($C23>=1,$C23<33),VLOOKUP($C23,ПодгОТ!$A$8:$P$39,15),\"\")","v":"В.А."},{"$f":"IF(AND($C23>=1,$C23<33),VLOOKUP($C23,ПодгОТ!$A$8:$P$39,6),\"\")","v":"Киров"},null,"Судья на вышке"]
[null,null,null,null,null,null,{"$f":"IF(G26=0,CONCATENATE(\"поб.\", D23,\"/\", D25),IF(G26=1,D23,IF(G26=2,D25,\"Х\")))","v":"ЕГОРОВА АЛИНА"},null,null,{"$f":"IF(G26=1,E23,IF(G26=2,E25,\"\"))","v":"А.А."},2,"5-4(10) 4-1",null,null,null,null,null,null,null,null,null,null,null,null,null,null,null,{"$f":"IF(OR(K24=0,K24=3),0,IF(K24=1,Z22,Z26))","v":6},{"$f":"IF(OR(K24=0,K24=3),0,IF(K24=1,Z26,Z22))","v":13}]
[{"$f":"IF($C25=\"\",\"5-8\",IF(AND($C25>=1,$C25<33),INDEX(ПодгОТ!$P$8:$P$39,C25),\"\"))","v":"6 "},8,6,{"$f":"IF($C25=\"\",\"\",IF(AND($C25>=1,$C25<33),VLOOKUP($C25,ПодгОТ!$A$8:$AA$39,27),\"Х\"))","v":"ЕГОРОВА АЛИНА"},{"$f":"IF(AND($C25>=1,$C25<33),VLOOKUP($C25,ПодгОТ!$A$8:$P$39,15),\"\")","v":"А.А."},{"$f":"IF(AND($C25>=1,$C25<33),VLOOKUP($C25,ПодгОТ!$A$8:$P$39,6),\"\")","v":"Казань"},null,null,null,null,null,"Судья на вышке"]
[null,null,null,null,null,null,2,"4-2 4-1",null,null,null,null,null,null,null,null,null,null,{"$f":"IF(S28=0,CONCATENATE(\"поб.\",O18,\"/\", O34),IF(S28=1,O18,IF(S28=2,O34,\"Х\")))","v":"МАКАРОВА"},null,null,null,null,null,null,{"$f":"IF(OR(G26=3,G26=0),0,(IF(G26=1,C23,C25)))","v":6},{"$f":"IF(OR(G26=3,G26=0),0,(IF(G26=1,C25,C23)))","v":24}]
[{"$f":"IF($C27=\"\",\"3-4\",IF(AND($C27>=1,$C27<33),INDEX(ПодгОТ!$P$8:$P$39,C27),\"\"))","v":"4 "},9,4,{"$f":"IF($C27=\"\",\"\",IF(AND($C27>=1,$C27<33),VLOOKUP($C27,ПодгОТ!$A$8:$AA$39,27),\"Х\"))","v":"СЕДОВА"},{"$f":"IF(AND($C27>=1,$C27<33),VLOOKUP($C27,ПодгОТ!$A$8:$P$39,15),\"\")","v":"В.Д."},{"$f":"IF(AND($C27>=1,$C27<33),VLOOKUP($C27,ПодгОТ!$A$8:$P$39,6),\"\")","v":"Высокая Гора"},null,"Судья на вышке"]
[null,null,null,null,null,null,{"$f":"IF(G30=0,CONCATENATE(\"поб.\", D27,\"/\", D29),IF(G30=1,D27,IF(G30=2,D29,\"Х\")))","v":"СЕДОВА"},null,null,{"$f":"IF(G30=1,E27,IF(G30=2,E29,\"\"))","v":"В.Д."},null,null,null,null,null,null,null,null,2,"4-1 4(1)-5 5-3"]
[{"$f":"IF($C29=\"\",\"\",IF(AND($C29>=1,$C29<33),INDEX(ПодгОТ!$P$8:$P$39,C29),\"\"))","v":""},10,"х",{"$f":"IF($C29=\"\",\"\",IF(AND($C29>=1,$C29<33),VLOOKUP($C29,ПодгОТ!$A$8:$AA$39,27),\"Х\"))","v":"Х"},{"$f":"IF(AND($C29>=1,$C29<33),VLOOKUP($C29,ПодгОТ!$A$8:$P$39,15),\"\")","v":""},{"$f":"IF(AND($C29>=1,$C29<33),VLOOKUP($C29,ПодгОТ!$A$8:$P$39,6),\"\")","v":""},null,null,null,null,null,null,null,null,null,null,null,null,null,"Судья на вышке"]
[null,null,null,null,null,null,1,null,null,null,{"$f":"IF(K32=0,CONCATENATE(\"поб.\",G28,\"/\",G32 ),IF(K32=1,G28,IF(K32=2,G32,\"Х\")))","v":"СЕДОВА"},null,null,{"$f":"IF(K32=1,J28,IF(K32=2,J32,\"\"))","v":"В.Д."},null,null,null,null,null,null,null,null,null,null,null,{"$f":"IF(OR(G30=3,G30=0),0,(IF(G30=1,C27,C29)))","v":4},{"$f":"IF(OR(G30=3,G30=0),0,(IF(G30=1,C29,C27)))","v":"х"}]
[{"$f":"IF($C31=\"\",\"\",IF(AND($C31>=1,$C31<33),INDEX(ПодгОТ!$P$8:$P$39,C31),\"\"))","v":""},11,21,{"$f":"IF($C31=\"\",\"\",IF(AND($C31>=1,$C31<33),VLOOKUP($C31,ПодгОТ!$A$8:$AA$39,27),\"Х\"))","v":"БАРАНОВА"},{"$f":"IF(AND($C31>=1,$C31<33),VLOOKUP($C31,ПодгОТ!$A$8:$P$39,15),\"\")","v":"К.В."},{"$f":"IF(AND($C31>=1,$C31<33),VLOOKUP($C31,ПодгОТ!$A$8:$P$39,6),\"\")","v":"Казань"},null,"Судья на вышке"]
[null,null,null,null,null,null,{"$f":"IF(G34=0,CONCATENATE(\"поб.\", D31,\"/\", D33),IF(G34=1,D31,IF(G34=2,D33,\"Х\")))","v":"ЗАКИРОВА"},null,null,{"$f":"IF(G34=1,E31,IF(G34=2,E33,\"\"))","v":"А.Н."},1,"4-1 5-3",null,null,null,null,null,null,null,null,null,null,null,null,null,null,null,{"$f":"IF(OR(K32=0,K32=3),0,IF(K32=1,Z30,Z34))","v":4},{"$f":"IF(OR(K32=0,K32=3),0,IF(K32=1,Z34,Z30))","v":23}]
[{"$f":"IF($C33=\"\",\"\",IF(AND($C33>=1,$C33<33),INDEX(ПодгОТ!$P$8:$P$39,C33),\"\"))","v":"СК"},12,23,{"$f":"IF($C33=\"\",\"\",IF(AND($C33>=1,$C33<33),VLOOKUP($C33,ПодгОТ!$A$8:$AA$39,27),\"Х\"))","v":"ЗАКИРОВА"},{"$f":"IF(AND($C33>=1,$C33<33),VLOOKUP($C33,ПодгОТ!$A$8:$P$39,15),\"\")","v":"А.Н."},{"$f":"IF(AND($C33>=1,$C33<33),VLOOKUP($C33,ПодгОТ!$A$8:$P$39,6),\"\")","v":"Казань"},null,null,null,null,null,"Судья на вышке"]
[null,null,null,null,null,null,2,"4-2 4-1",null,null,null,null,null,null,{"$f":"IF(O36=0,CONCATENATE(\"поб.\",K30,\"/\",K38 ),IF(O36=1,K30,IF(O36=2,K38,\"Х\")))","v":"МАКАРОВА"},null,null,{"$f":"IF(O36=1,N30,IF(O36=2,N38,\"\"))","v":"М.Л."},null,null,null,null,null,null,null,{"$f":"IF(OR(G34=3,G34=0),0,(IF(G34=1,C31,C33)))","v":23},{"$f":"IF(OR(G34=3,G34=0),0,(IF(G34=1,C33,C31)))","v":21}]
[{"$f":"IF($C35=\"\",\"\",IF(AND($C35>=1,$C35<33),INDEX(ПодгОТ!$P$8:$P$39,C35),\"\"))","v":"СК"},13,26,{"$f":"IF($C35=\"\",\"\",IF(AND($C35>=1,$C35<33),VLOOKUP($C35,ПодгОТ!$A$8:$AA$39,27),\"Х\"))","v":"ЛЕОНОВА"},{"$f":"IF(AND($C35>=1,$C35<33),VLOOKUP($C35,ПодгОТ!$A$8:$P$39,15),\"\")","v":"Э.К."},{"$f":"IF(AND($C35>=1,$C35<33),VLOOKUP($C35,ПодгОТ!$A$8:$P$39,6),\"\")","v":"Елабуга"},null,"Судья на вышке"]
[null,null,null,null,null,null,{"$f":"IF(G38=0,CONCATENATE(\"поб.\", D35,\"/\", D37),IF(G38=1,D35,IF(G38=2,D37,\"Х\")))","v":"ХАРЛАМОВА"},null,null,{"$f":"IF(G38=1,E35,IF(G38=2,E37,\"\"))","v":"С.А."},null,null,null,null,2,"5-4(4) 5-4(4)",null,null,null,null,null,null,null,null,null,null,null,null,null,{"$f":"IF(OR(O36=0,O36=3),0,IF(O36=1,AB32,AB40))","v":10},{"$f":"IF(OR(O36=0,O36=3),0,IF(O36=1,AB40,AB32))","v":4}]
[{"$f":"IF($C37=\"\",\"\",IF(AND($C37>=1,$C37<33),INDEX(ПодгОТ!$P$8:$P$39,C37),\"\"))","v":""},14,17,{"$f":"IF($C37=\"\",\"\",IF(AND($C37>=1,$C37<33),VLOOKUP($C37,ПодгОТ!$A$8:$AA$39,27),\"Х\"))","v":"ХАРЛАМОВА"},{"$f":"IF(AND($C37>=1,$C37<33),VLOOKUP($C37,ПодгОТ!$A$8:$P$39,15),\"\")","v":"С.А."},{"$f":"IF(AND($C37>=1,$C37<33),VLOOKUP($C37,ПодгОТ!$A$8:$P$39,6),\"\")","v":"Казань"},null,null,null,null,null,null,null,null,null,"Судья на вышке"]
[null,null,null,null,null,null,2,"5-3 4-2",null,null,{"$f":"IF(K40=0,CONCATENATE(\"поб.\",G36,\"/\",G40 ),IF(K40=1,G36,IF(K40=2,G40,\"Х\")))","v":"МАКАРОВА"},null,null,{"$f":"IF(K40=1,J36,IF(K40=2,J40,\"\"))","v":"М.Л."},null,null,null,null,null,null,null,null,null,null,null,{"$f":"IF(OR(G38=3,G38=0),0,(IF(G38=1,C35,C37)))","v":17},{"$f":"IF(OR(G38=3,G38=0),0,(IF(G38=1,C37,C35)))","v":26}]
[{"$f":"IF($C39=\"\",\"\",IF(AND($C39>=1,$C39<33),INDEX(ПодгОТ!$P$8:$P$39,C39),\"\"))","v":""},15,10,{"$f":"IF($C39=\"\",\"\",IF(AND($C39>=1,$C39<33),VLOOKUP($C39,ПодгОТ!$A$8:$AA$39,27),\"Х\"))","v":"МАКАРОВА"},{"$f":"IF(AND($C39>=1,$C39<33),VLOOKUP($C39,ПодгОТ!$A$8:$P$39,15),\"\")","v":"М.Л."},{"$f":"IF(AND($C39>=1,$C39<33),VLOOKUP($C39,ПодгОТ!$A$8:$P$39,6),\"\")","v":"Киров"},null,"Судья на вышке"]
[null,null,null,null,null,null,{"$f":"IF(G42=0,CONCATENATE(\"поб.\", D39,\"/\", D41),IF(G42=1,D39,IF(G42=2,D41,\"Х\")))","v":"МАКАРОВА"},null,null,{"$f":"IF(G42=1,E39,IF(G42=2,E41,\"\"))","v":"М.Л."},2,"4-0 4-0",null,null,null,null,null,null,null,null,null,null,null,null,null,null,null,{"$f":"IF(OR(K40=0,K40=3),0,IF(K40=1,Z38,Z42))","v":10},{"$f":"IF(OR(K40=0,K40=3),0,IF(K40=1,Z42,Z38))","v":17}]
[{"$f":"IF($C41=\"\",\"5-8\",IF(AND($C41>=1,$C41<33),INDEX(ПодгОТ!$P$8:$P$39,C41),\"\"))","v":"7 "},16,7,{"$f":"IF($C41=\"\",\"\",IF(AND($C41>=1,$C41<33),VLOOKUP($C41,ПодгОТ!$A$8:$AA$39,27),\"Х\"))","v":"ЛИЗУНОВА"},{"$f":"IF(AND($C41>=1,$C41<33),VLOOKUP($C41,ПодгОТ!$A$8:$P$39,15),\"\")","v":"А.А."},{"$f":"IF(AND($C41>=1,$C41<33),VLOOKUP($C41,ПодгОТ!$A$8:$P$39,6),\"\")","v":"Казань"},null,null,null,null,null,"Судья на вышке"]
[null,null,null,null,null,null,1,"4-1 4-0",null,null,null,null,null,null,null,null,null,null,null,null,null,null,null,null,null,{"$f":"IF(OR(G42=3,G42=0),0,(IF(G42=1,C39,C41)))","v":10},{"$f":"IF(OR(G42=3,G42=0),0,(IF(G42=1,C41,C39)))","v":7}]
[{"$f":"IF($C43=\"\",\"5-8\",IF(AND($C43>=1,$C43<33),INDEX(ПодгОТ!$P$8:$P$39,C43),\"\"))","v":"5 "},17,5,{"$f":"IF($C43=\"\",\"\",IF(AND($C43>=1,$C43<33),VLOOKUP($C43,ПодгОТ!$A$8:$AA$39,27),\"Х\"))","v":"ГАВРИЛОВА"},{"$f":"IF(AND($C43>=1,$C43<33),VLOOKUP($C43,ПодгОТ!$A$8:$P$39,15),\"\")","v":"М.А."},{"$f":"IF(AND($C43>=1,$C43<33),VLOOKUP($C43,ПодгОТ!$A$8:$P$39,6),\"\")","v":"Саратов"},null,"Судья на вышке",null,null,null,null,null,null,null,null,null,null,null,{"$f":"IF(V45=0,CONCATENATE(\"поб.\",S26,\"/\",S58 ),IF(V45=1,S26,IF(V45=2,S58,\"Х\")))","v":"МАКАРОВА"}]
[null,null,null,null,null,null,{"$f":"IF(G46=0,CONCATENATE(\"поб.\", D43,\"/\", D45),IF(G46=1,D43,IF(G46=2,D45,\"Х\")))","v":"ГАВРИЛОВА"},null,null,{"$f":"IF(G46=1,E43,IF(G46=2,E45,\"\"))","v":"М.А."}]
[{"$f":"IF($C45=\"\",\"\",IF(AND($C45>=1,$C45<33),INDEX(ПодгОТ!$P$8:$P$39,C45),\"\"))","v":""},18,"х",{"$f":"IF($C45=\"\",\"\",IF(AND($C45>=1,$C45<33),VLOOKUP($C45,ПодгОТ!$A$8:$AA$39,27),\"Х\"))","v":"Х"},{"$f":"IF(AND($C45>=1,$C45<33),VLOOKUP($C45,ПодгОТ!$A$8:$P$39,15),\"\")","v":""},{"$f":"IF(AND($C45>=1,$C45<33),VLOOKUP($C45,ПодгОТ!$A$8:$P$39,6),\"\")","v":""},null,null,null,null,null,null,null,null,null,null,null,null,null,"4-0 4-2",null,1]
[null,null,null,null,null,null,1,null,null,null,{"$f":"IF(K48=0,CONCATENATE(\"поб.\",G44,\"/\",G48 ),IF(K48=1,G44,IF(K48=2,G48,\"Х\")))","v":"ГАВРИЛОВА"},null,null,{"$f":"IF(K48=1,J44,IF(K48=2,J48,\"\"))","v":"М.А."},null,null,null,null,null,"Судья на вышке",null,null,null,null,null,{"$f":"IF(OR(G46=3,G46=0),0,(IF(G46=1,C43,C45)))","v":5},{"$f":"IF(OR(G46=3,G46=0),0,(IF(G46=1,C45,C43)))","v":"х"}]
[{"$f":"IF($C47=\"\",\"\",IF(AND($C47>=1,$C47<33),INDEX(ПодгОТ!$P$8:$P$39,C47),\"\"))","v":""},19,16,{"$f":"IF($C47=\"\",\"\",IF(AND($C47>=1,$C47<33),VLOOKUP($C47,ПодгОТ!$A$8:$AA$39,27),\"Х\"))","v":"ЕГОРОВА ТАИСИЯ"},{"$f":"IF(AND($C47>=1,$C47<33),VLOOKUP($C47,ПодгОТ!$A$8:$P$39,15),\"\")","v":"Т.А."},{"$f":"IF(AND($C47>=1,$C47<33),VLOOKUP($C47,ПодгОТ!$A$8:$P$39,6),\"\")","v":"Казань"},null,"Судья на вышке"]
[null,null,null,null,null,null,{"$f":"IF(G50=0,CONCATENATE(\"поб.\", D47,\"/\", D49),IF(G50=1,D47,IF(G50=2,D49,\"Х\")))","v":"ЕГОРОВА ТАИСИЯ"},null,null,{"$f":"IF(G50=1,E47,IF(G50=2,E49,\"\"))","v":"Т.А."},1,"4-1 4-2",null,null,null,null,null,null,null,null,null,null,null,null,null,null,null,{"$f":"IF(OR(K48=0,K48=3),0,IF(K48=1,Z46,Z50))","v":5},{"$f":"IF(OR(K48=0,K48=3),0,IF(K48=1,Z50,Z46))","v":16}]
[{"$f":"IF($C49=\"\",\"\",IF(AND($C49>=1,$C49<33),INDEX(ПодгОТ!$P$8:$P$39,C49),\"\"))","v":""},20,20,{"$f":"IF($C49=\"\",\"\",IF(AND($C49>=1,$C49<33),VLOOKUP($C49,ПодгОТ!$A$8:$AA$39,27),\"Х\"))","v":"ГУРЫЛЕВА"},{"$f":"IF(AND($C49>=1,$C49<33),VLOOKUP($C49,ПодгОТ!$A$8:$P$39,15),\"\")","v":"В.В."},{"$f":"IF(AND($C49>=1,$C49<33),VLOOKUP($C49,ПодгОТ!$A$8:$P$39,6),\"\")","v":"Казань"},null,null,null,null,null,"Судья на вышке"]
[null,null,null,null,null,null,1,"1-4 4-2 4-2",null,null,null,null,null,null,{"$f":"IF(O52=0,CONCATENATE(\"поб.\",K46,\"/\",K54 ),IF(O52=1,K46,IF(O52=2,K54,\"Х\")))","v":"ГАВРИЛОВА"},null,null,{"$f":"IF(O52=1,N46,IF(O52=2,N54,\"\"))","v":"М.А."},null,null,null,null,null,null,null,{"$f":"IF(OR(G50=3,G50=0),0,(IF(G50=1,C47,C49)))","v":16},{"$f":"IF(OR(G50=3,G50=0),0,(IF(G50=1,C49,C47)))","v":20}]
[{"$f":"IF($C51=\"\",\"\",IF(AND($C51>=1,$C51<33),INDEX(ПодгОТ!$P$8:$P$39,C51),\"\"))","v":""},21,9,{"$f":"IF($C51=\"\",\"\",IF(AND($C51>=1,$C51<33),VLOOKUP($C51,ПодгОТ!$A$8:$AA$39,27),\"Х\"))","v":"АХМЕТОВА"},{"$f":"IF(AND($C51>=1,$C51<33),VLOOKUP($C51,ПодгОТ!$A$8:$P$39,15),\"\")","v":"Л.И."},{"$f":"IF(AND($C51>=1,$C51<33),VLOOKUP($C51,ПодгОТ!$A$8:$P$39,6),\"\")","v":"Казань"},null,"Судья на вышке"]
[null,null,null,null,null,null,{"$f":"IF(G54=0,CONCATENATE(\"поб.\", D51,\"/\", D53),IF(G54=1,D51,IF(G54=2,D53,\"Х\")))","v":"АХМЕТОВА"},null,null,{"$f":"IF(G54=1,E51,IF(G54=2,E53,\"\"))","v":"Л.И."},null,null,null,null,1,"5-3 5-3",null,null,null,null,null,null,null,null,null,null,null,null,null,{"$f":"IF(OR(O52=0,O52=3),0,IF(O52=1,AB48,AB56))","v":5},{"$f":"IF(OR(O52=0,O52=3),0,IF(O52=1,AB56,AB48))","v":3}]
[{"$f":"IF($C53=\"\",\"\",IF(AND($C53>=1,$C53<33),INDEX(ПодгОТ!$P$8:$P$39,C53),\"\"))","v":"СК"},22,25,{"$f":"IF($C53=\"\",\"\",IF(AND($C53>=1,$C53<33),VLOOKUP($C53,ПодгОТ!$A$8:$AA$39,27),\"Х\"))","v":"ЗВЕРЕВА"},{"$f":"IF(AND($C53>=1,$C53<33),VLOOKUP($C53,ПодгОТ!$A$8:$P$39,15),\"\")","v":"С.М."},{"$f":"IF(AND($C53>=1,$C53<33),VLOOKUP($C53,ПодгОТ!$A$8:$P$39,6),\"\")","v":"Киров"},null,null,null,null,null,null,null,null,null,"Судья на вышке"]
[null,null,null,null,null,null,1,"4-0 4-0",null,null,{"$f":"IF(K56=0,CONCATENATE(\"поб.\",G52,\"/\",G56 ),IF(K56=1,G52,IF(K56=2,G56,\"Х\")))","v":"ШАФИГУЛЛИНА"},null,null,{"$f":"IF(K56=1,J52,IF(K56=2,J56,\"\"))","v":"К.А."},null,null,null,null,null,null,null,null,null,null,null,{"$f":"IF(OR(G54=3,G54=0),0,(IF(G54=1,C51,C53)))","v":9},{"$f":"IF(OR(G54=3,G54=0),0,(IF(G54=1,C53,C51)))","v":25}]
[{"$f":"IF($C55=\"\",\"\",IF(AND($C55>=1,$C55<33),INDEX(ПодгОТ!$P$8:$P$39,C55),\"\"))","v":""},23,"х",{"$f":"IF($C55=\"\",\"\",IF(AND($C55>=1,$C55<33),VLOOKUP($C55,ПодгОТ!$A$8:$AA$39,27),\"Х\"))","v":"Х"},{"$f":"IF(AND($C55>=1,$C55<33),VLOOKUP($C55,ПодгОТ!$A$8:$P$39,15),\"\")","v":""},{"$f":"IF(AND($C55>=1,$C55<33),VLOOKUP($C55,ПодгОТ!$A$8:$P$39,6),\"\")","v":""},null,"Судья на вышке"]
[null,null,null,null,null,null,{"$f":"IF(G58=0,CONCATENATE(\"поб.\", D55,\"/\", D57),IF(G58=1,D55,IF(G58=2,D57,\"Х\")))","v":"ШАФИГУЛЛИНА"},null,null,{"$f":"IF(G58=1,E55,IF(G58=2,E57,\"\"))","v":"К.А."},2,"4-2 1-4 5-4(3)",null,null,null,null,null,null,null,null,null,null,null,null,null,null,null,{"$f":"IF(OR(K56=0,K56=3),0,IF(K56=1,Z54,Z58))","v":3},{"$f":"IF(OR(K56=0,K56=3),0,IF(K56=1,Z58,Z54))","v":9}]
[{"$f":"IF($C57=\"\",\"3-4\",IF(AND($C57>=1,$C57<33),INDEX(ПодгОТ!$P$8:$P$39,C57),\"\"))","v":"3 "},24,3,{"$f":"IF($C57=\"\",\"\",IF(AND($C57>=1,$C57<33),VLOOKUP($C57,ПодгОТ!$A$8:$AA$39,27),\"Х\"))","v":"ШАФИГУЛЛИНА"},{"$f":"IF(AND($C57>=1,$C57<33),VLOOKUP($C57,ПодгОТ!$A$8:$P$39,15),\"\")","v":"К.А."},{"$f":"IF(AND($C57>=1,$C57<33),VLOOKUP($C57,ПодгОТ!$A$8:$P$39,6),\"\")","v":"Казань"},null,null,null,null,null,"Судья на вышке"]
[null,null,null,null,null,null,2,null,null,null,null,null,null,null,null,null,null,null,{"$f":"IF(S60=0,CONCATENATE(\"поб.\",O50,\"/\", O66),IF(S60=1,O50,IF(S60=2,O66,\"Х\")))","v":"СМИРНОВА"},null,null,null,null,null,null,{"$f":"IF(OR(G58=3,G58=0),0,(IF(G58=1,C55,C57)))","v":3},{"$f":"IF(OR(G58=3,G58=0),0,(IF(G58=1,C57,C55)))","v":"х"}]
[{"$f":"IF($C59=\"\",\"5-8\",IF(AND($C59>=1,$C59<33),INDEX(ПодгОТ!$P$8:$P$39,C59),\"\"))","v":"8 "},25,8,{"$f":"IF($C59=\"\",\"\",IF(AND($C59>=1,$C59<33),VLOOKUP($C59,ПодгОТ!$A$8:$AA$39,27),\"Х\"))","v":"РАЕВСКАЯ"},{"$f":"IF(AND($C59>=1,$C59<33),VLOOKUP($C59,ПодгОТ!$A$8:$P$39,15),\"\")","v":"А.А."},{"$f":"IF(AND($C59>=1,$C59<33),VLOOKUP($C59,ПодгОТ!$A$8:$P$39,6),\"\")","v":"Казань"},null,"Судья на вышке"]
[null,null,null,null,null,null,{"$f":"IF(G62=0,CONCATENATE(\"поб.\", D59,\"/\", D61),IF(G62=1,D59,IF(G62=2,D61,\"Х\")))","v":"РАЕВСКАЯ"},null,null,{"$f":"IF(G62=1,E59,IF(G62=2,E61,\"\"))","v":"А.А."},null,null,null,null,null,null,null,null,2,"4-2 4-0"]
[{"$f":"IF($C61=\"\",\"\",IF(AND($C61>=1,$C61<33),INDEX(ПодгОТ!$P$8:$P$39,C61),\"\"))","v":""},26,18,{"$f":"IF($C61=\"\",\"\",IF(AND($C61>=1,$C61<33),VLOOKUP($C61,ПодгОТ!$A$8:$AA$39,27),\"Х\"))","v":"НИГМЕДЗЯНОВА"},{"$f":"IF(AND($C61>=1,$C61<33),VLOOKUP($C61,ПодгОТ!$A$8:$P$39,15),\"\")","v":"К.И."},{"$f":"IF(AND($C61>=1,$C61<33),VLOOKUP($C61,ПодгОТ!$A$8:$P$39,6),\"\")","v":"Казань"},null,null,null,null,null,null,null,null,null,null,null,null,null,"Судья на вышке"]
[null,null,null,null,null,null,1,"отказ",null,null,{"$f":"IF(K64=0,CONCATENATE(\"поб.\",G60,\"/\",G64 ),IF(K64=1,G60,IF(K64=2,G64,\"Х\")))","v":"РАЕВСКАЯ"},null,null,{"$f":"IF(K64=1,J60,IF(K64=2,J64,\"\"))","v":"А.А."},null,null,null,null,null,null,null,null,null,null,null,{"$f":"IF(OR(G62=3,G62=0),0,(IF(G62=1,C59,C61)))","v":8},{"$f":"IF(OR(G62=3,G62=0),0,(IF(G62=1,C61,C59)))","v":18}]
[{"$f":"IF($C63=\"\",\"\",IF(AND($C63>=1,$C63<33),INDEX(ПодгОТ!$P$8:$P$39,C63),\"\"))","v":""},27,19,{"$f":"IF($C63=\"\",\"\",IF(AND($C63>=1,$C63<33),VLOOKUP($C63,ПодгОТ!$A$8:$AA$39,27),\"Х\"))","v":"ЕРМОЛАЕВА"},{"$f":"IF(AND($C63>=1,$C63<33),VLOOKUP($C63,ПодгОТ!$A$8:$P$39,15),\"\")","v":"Л.В."},{"$f":"IF(AND($C63>=1,$C63<33),VLOOKUP($C63,ПодгОТ!$A$8:$P$39,6),\"\")","v":"Тольятти"},null,"Судья на вышке"]
[null,null,null,null,null,null,{"$f":"IF(G66=0,CONCATENATE(\"поб.\", D63,\"/\", D65),IF(G66=1,D63,IF(G66=2,D65,\"Х\")))","v":"ЕРМОЛАЕВА"},null,null,{"$f":"IF(G66=1,E63,IF(G66=2,E65,\"\"))","v":"Л.В."},1,"4-0 4-0",null,null,null,null,null,null,null,null,null,null,null,null,null,null,null,{"$f":"IF(OR(K64=0,K64=3),0,IF(K64=1,Z62,Z66))","v":8},{"$f":"IF(OR(K64=0,K64=3),0,IF(K64=1,Z66,Z62))","v":19}]
[{"$f":"IF($C65=\"\",\"\",IF(AND($C65>=1,$C65<33),INDEX(ПодгОТ!$P$8:$P$39,C65),\"\"))","v":"СК"},28,27,{"$f":"IF($C65=\"\",\"\",IF(AND($C65>=1,$C65<33),VLOOKUP($C65,ПодгОТ!$A$8:$AA$39,27),\"Х\"))","v":"ТАРАСОВА"},{"$f":"IF(AND($C65>=1,$C65<33),VLOOKUP($C65,ПодгОТ!$A$8:$P$39,15),\"\")","v":"С.С."},{"$f":"IF(AND($C65>=1,$C65<33),VLOOKUP($C65,ПодгОТ!$A$8:$P$39,6),\"\")","v":"Самара"},null,null,null,null,null,"Судья на вышке"]
[null,null,null,null,null,null,1,"4-0 4-2",null,null,null,null,null,null,{"$f":"IF(O68=0,CONCATENATE(\"поб.\",K62,\"/\",K70 ),IF(O68=1,K62,IF(O68=2,K70,\"Х\")))","v":"СМИРНОВА"},null,null,{"$f":"IF(O68=1,N62,IF(O68=2,N70,\"\"))","v":"С.А."},null,null,null,null,null,null,null,{"$f":"IF(OR(G66=3,G66=0),0,(IF(G66=1,C63,C65)))","v":19},{"$f":"IF(OR(G66=3,G66=0),0,(IF(G66=1,C65,C63)))","v":27}]
[{"$f":"IF($C67=\"\",\"\",IF(AND($C67>=1,$C67<33),INDEX(ПодгОТ!$P$8:$P$39,C67),\"\"))","v":""},29,15,{"$f":"IF($C67=\"\",\"\",IF(AND($C67>=1,$C67<33),VLOOKUP($C67,ПодгОТ!$A$8:$AA$39,27),\"Х\"))","v":"ГАФУРОВА"},{"$f":"IF(AND($C67>=1,$C67<33),VLOOKUP($C67,ПодгОТ!$A$8:$P$39,15),\"\")","v":"К.М."},{"$f":"IF(AND($C67>=1,$C67<33),VLOOKUP($C67,ПодгОТ!$A$8:$P$39,6),\"\")","v":"Казань"},null,"Судья на вышке"]
[null,null,null,null,null,null,{"$f":"IF(G70=0,CONCATENATE(\"поб.\", D67,\"/\", D69),IF(G70=1,D67,IF(G70=2,D69,\"Х\")))","v":"ГАТИНА"},null,null,{"$f":"IF(G70=1,E67,IF(G70=2,E69,\"\"))","v":"А.А."},null,null,null,null,2,"4-2 4-0",null,null,null,null,null,null,null,null,null,null,null,null,null,{"$f":"IF(OR(O68=0,O68=3),0,IF(O68=1,AB64,AB72))","v":2},{"$f":"IF(OR(O68=0,O68=3),0,IF(O68=1,AB72,AB64))","v":8}]
[{"$f":"IF($C69=\"\",\"\",IF(AND($C69>=1,$C69<33),INDEX(ПодгОТ!$P$8:$P$39,C69),\"\"))","v":""},30,12,{"$f":"IF($C69=\"\",\"\",IF(AND($C69>=1,$C69<33),VLOOKUP($C69,ПодгОТ!$A$8:$AA$39,27),\"Х\"))","v":"ГАТИНА"},{"$f":"IF(AND($C69>=1,$C69<33),VLOOKUP($C69,ПодгОТ!$A$8:$P$39,15),\"\")","v":"А.А."},{"$f":"IF(AND($C69>=1,$C69<33),VLOOKUP($C69,ПодгОТ!$A$8:$P$39,6),\"\")","v":"Казань"},null,null,null,null,null,null,null,null,null,"Судья на вышке"]
[null,null,null,null,null,null,2,"4-0 4-0",null,null,{"$f":"IF(K72=0,CONCATENATE(\"поб.\",G68,\"/\",G72 ),IF(K72=1,G68,IF(K72=2,G72,\"Х\")))","v":"СМИРНОВА"},null,null,{"$f":"IF(K72=1,J68,IF(K72=2,J72,\"\"))","v":"С.А."},null,null,null,null,null,null,null,null,null,null,null,{"$f":"IF(OR(G70=3,G70=0),0,(IF(G70=1,C67,C69)))","v":12},{"$f":"IF(OR(G70=3,G70=0),0,(IF(G70=1,C69,C67)))","v":15}]
[{"$f":"IF($C71=\"\",\"\",IF(AND($C71>=1,$C71<33),INDEX(ПодгОТ!$P$8:$P$39,C71),\"\"))","v":""},31,"х",{"$f":"IF($C71=\"\",\"\",IF(AND($C71>=1,$C71<33),VLOOKUP($C71,ПодгОТ!$A$8:$AA$39,27),\"Х\"))","v":"Х"},{"$f":"IF(AND($C71>=1,$C71<33),VLOOKUP($C71,ПодгОТ!$A$8:$P$39,15),\"\")","v":""},{"$f":"IF(AND($C71>=1,$C71<33),VLOOKUP($C71,ПодгОТ!$A$8:$P$39,6),\"\")","v":""},null,"Судья на вышке",null,null,null,null,null,null,{"$f":"IF(ПолуфиналНеявка(T28),\"Х\",IF(S28=0,CONCATENATE(\"пр.\",O18,\"/\",O34),IF(S28=1,O34,IF(S28=2,O18,\"Х\"))))","v":"КРАТЮК"},null,null,null,"3 место"]
[null,null,null,null,null,null,{"$f":"IF(G74=0,CONCATENATE(\"поб.\", D71,\"/\", D73),IF(G74=1,D71,IF(G74=2,D73,\"Х\")))","v":"СМИРНОВА"},null,null,{"$f":"IF(G74=1,E71,IF(G74=2,E73,\"\"))","v":"С.А."},2,"4-1 4-1",null,null,null,null,null,null,{"$f":"IF(S74=0,\"\",IF(S74=1,O71,IF(S74=2,O73,\"Х\")))","v":"КРАТЮК"},null,null,null,null,null,null,null,null,{"$f":"IF(OR(K72=0,K72=3),0,IF(K72=1,Z70,Z74))","v":2},{"$f":"IF(OR(K72=0,K72=3),0,IF(K72=1,Z74,Z70))","v":12}]
[{"$f":"IF($C73=\"\",\"2\",IF(AND($C73>=1,$C73<33),INDEX(ПодгОТ!$P$8:$P$39,C73),\"\"))","v":"2 "},32,2,{"$f":"IF($C73=\"\",\"\",IF(AND($C73>=1,$C73<33),VLOOKUP($C73,ПодгОТ!$A$8:$AA$39,27),\"Х\"))","v":"СМИРНОВА"},{"$f":"IF(AND($C73>=1,$C73<33),VLOOKUP($C73,ПодгОТ!$A$8:$P$39,15),\"\")","v":"С.А."},{"$f":"IF(AND($C73>=1,$C73<33),VLOOKUP($C73,ПодгОТ!$A$8:$P$39,6),\"\")","v":"Казань"},null,null,null,null,null,"Судья на вышке",null,null,{"$f":"IF(ПолуфиналНеявка(T60),\"Х\",IF(S60=0,CONCATENATE(\"пр.\",O50,\"/\",O66 ),IF(S60=1,O66,IF(S60=2,O50,\"Х\"))))","v":"ГАВРИЛОВА"}]
[null,null,null,null,null,null,2,null,null,null,null,null,null,null,null,null,null,null,1,"4-0 4-1",null,null,null,null,null,{"$f":"IF(OR(G74=3,G74=0),0,(IF(G74=1,C71,C73)))","v":2},{"$f":"IF(OR(G74=3,G74=0),0,(IF(G74=1,C73,C71)))","v":"х"}]
[null,null,null,null,null,null,null,"Судья на вышке",null,null,null,null,null,null,null,null,null,null,null,"Судья на вышке"]
[]
["№","Сеяные игроки",null,null,null,"Очки","№","Ожидающий игрок",null,null,null,null,"Замененный игрок",null,null,null,"Присутствовали на жеребьевке"]
[1,{"$f":"IF(ПодгОТ!AD8=0,IF(ПодгОТ!B8=0,\"\",ПодгОТ!AA8),IF(ПодгОТ!AF8=0,\"\",ПодгОТ!AE8))","v":"КРАТЮК"},null,null,null,{"$f":"IF(ПодгОТ!AD8=0,IF(ПодгОТ!B8=0,\"\",ПодгОТ!B8),IF(ПодгОТ!AF8=0,\"\",ПодгОТ!AF8))","v":228},null,null,null,null,null,null,null,null,null,null,"Седова"]
[2,{"$f":"IF(ПодгОТ!AD9=0,IF(ПодгОТ!B9=0,\"\",ПодгОТ!AA9),IF(ПодгОТ!AF9=0,\"\",ПодгОТ!AE9))","v":"СМИРНОВА"},null,null,null,{"$f":"IF(ПодгОТ!AD9=0,IF(ПодгОТ!B9=0,\"\",ПодгОТ!B9),IF(ПодгОТ!AF9=0,\"\",ПодгОТ!AF9))","v":112},null,null,null,null,null,null,null,null,null,null,"Макарова"]
[3,{"$f":"IF(ПодгОТ!AD10=0,IF(ПодгОТ!B10=0,\"\",ПодгОТ!AA10),IF(ПодгОТ!AF10=0,\"\",ПодгОТ!AE10))","v":"ШАФИГУЛЛИНА"},null,null,null,{"$f":"IF(ПодгОТ!AD10=0,IF(ПодгОТ!B10=0,\"\",ПодгОТ!B10),IF(ПодгОТ!AF10=0,\"\",ПодгОТ!AF10))","v":109},null,null,null,null,null,null,null,null,null,null,"Дата жеребьевки",null,null,null,"Время жеребьевки"]
[4,{"$f":"IF(ПодгОТ!AD11=0,IF(ПодгОТ!B11=0,\"\",ПодгОТ!AA11),IF(ПодгОТ!AF11=0,\"\",ПодгОТ!AE11))","v":"СЕДОВА"},null,null,null,{"$f":"IF(ПодгОТ!AD11=0,IF(ПодгОТ!B11=0,\"\",ПодгОТ!B11),IF(ПодгОТ!AF11=0,\"\",ПодгОТ!AF11))","v":107},null,null,null,null,null,null,null,null,null,null,"2017-11-19",null,null,null,"18:24:00"]
[5,{"$f":"IF(ПодгОТ!AD12=0,IF(ПодгОТ!B12=0,\"\",ПодгОТ!AA12),IF(ПодгОТ!AF12=0,\"\",ПодгОТ!AE12))","v":"ГАВРИЛОВА"},null,null,null,{"$f":"IF(ПодгОТ!AD12=0,IF(ПодгОТ!B12=0,\"\",ПодгОТ!B12),IF(ПодгОТ!AF12=0,\"\",ПодгОТ!AF12))","v":96},null,null,null,null,null,null,null,null,null,null,"Главный судья"]
[6,{"$f":"IF(ПодгОТ!AD13=0,IF(ПодгОТ!B13=0,\"\",ПодгОТ!AA13),IF(ПодгОТ!AF13=0,\"\",ПодгОТ!AE13))","v":"ЕГОРОВА АЛИНА"},null,null,null,{"$f":"IF(ПодгОТ!AD13=0,IF(ПодгОТ!B13=0,\"\",ПодгОТ!B13),IF(ПодгОТ!AF13=0,\"\",ПодгОТ!AF13))","v":96},null,null,null,null,null,null,null,null,null,null,null,null,null,null,{"$f":"UPPER(Установка!C11)","v":"СИТНИКОВ Д.В."}]
[7,{"$f":"IF(ПодгОТ!AD14=0,IF(ПодгОТ!B14=0,\"\",ПодгОТ!AA14),IF(ПодгОТ!AF14=0,\"\",ПодгОТ!AE14))","v":"ЛИЗУНОВА"},null,null,null,{"$f":"IF(ПодгОТ!AD14=0,IF(ПодгОТ!B14=0,\"\",ПодгОТ!B14),IF(ПодгОТ!AF14=0,\"\",ПодгОТ!AF14))","v":79}]
[8,{"$f":"IF(ПодгОТ!AD15=0,IF(ПодгОТ!B15=0,\"\",ПодгОТ!AA15),IF(ПодгОТ!AF15=0,\"\",ПодгОТ!AE15))","v":"РАЕВСКАЯ"},null,null,null,{"$f":"IF(ПодгОТ!AD15=0,IF(ПодгОТ!B15=0,\"\",ПодгОТ!B15),IF(ПодгОТ!AF15=0,\"\",ПодгОТ!AF15))","v":75},null,null,null,null,null,null,null,null,null,null,"Подпись",null,null,null,"Фамилия И.О."]
[]
[]
[]
[]
[]
[]
[]
[]
[]
[]
[]
[]
[]
[]
[]
[]
[]
[]
[]
[]
[]
[]
[]
[]
[]
[]
[]
[]
[]
[]
[]
[]
[]
[]
[]
[]
[]
[]
[]
[]
[]
[]
[]
[]
[]
[]
[]
[]
[]
[]
[]
[]
[]
[]
[]
[]
[]
[]
[]
[]
[]
[]
[]
[null,null,"Матч за 3м",null,null,null,null,"Замен в таблице ДИ"]
[null,null,false,null,null,null,null,{"$f":"COUNTA(H78:L85)","v":0}]
[]
[]
[]
[null,null,null,null,null,null,"Начальные позиции замен"]
[null,null,null,null,null,null,{"$f":"ROW(G78)","v":78},{"$f":"ROW(H78)","v":78},null,null,{"$f":"ROW(M78)","v":78}]
[null,null,null,null,null,null,{"$f":"COLUMN(G78)","v":7},{"$f":"COLUMN(H78)","v":8},null,null,{"$f":"COLUMN(M78)","v":13}]
[]
[]
[]
[]
[]
[]
[]
[]
[]
[]
[]
[]
[]
[]
[]
[]
[]
[]
[]
[]
[]
[]
[]
[]
[]
[]
[]
[]
[]
[]
[]
[]
[]
[]
[]
[]
[]
[]
[]
[]
[]
[]
[]
[]
[]
[]
[]
[]
[]
[]
[]
[]
[]
[]
[]
[]
[]
[]
[]
[]
[]
[]
[]
[]
[]
[]
[]
[]
[]
[]
[]
[]
[]
[]
[]
[]
[]
[]
[]
[]
[]
[]
[]
[]
[]
[]
[]
[]
[]
[]
[]
[]
[]
["ВЗРОСЛЫЕ",{"$f":"IF($G$6=\"ВЗРОСЛЫЕ\",\"МУЖЧИНЫ\",IF($G$6=\"ДО 19 ЛЕТ\",\"ЮНИОРЫ\",\"ЮНОШИ\"))","v":"ЮНОШИ"},"ФТ","-","Судья на вышке",null,null,null,{"$f":"COUNTA(H78:L85)","v":0}]
["ДО 19 ЛЕТ",{"$f":"IF($G$6=\"ВЗРОСЛЫЕ\",\"ЖЕНЩИНЫ\",IF($G$6=\"ДО 19 ЛЕТ\",\"ЮНИОРКИ\",\"ДЕВУШКИ\"))","v":"ДЕВУШКИ"},"I","А",{"$f":"СписокСудей!T5","v":""}]
["ДО 17 ЛЕТ",null,"II","Б",{"$f":"СписокСудей!T6","v":""}]
["ДО 15 ЛЕТ",null,"III","В",{"$f":"СписокСудей!T7","v":""}]
["ДО 13 ЛЕТ",null,"IV","Г",{"$f":"СписокСудей!T8","v":""}]
["9-10 ЛЕТ",null,"V",null,{"$f":"СписокСудей!T9","v":""}]
[null,null,"VI",null,{"$f":"СписокСудей!T10","v":""}]
[null,null,null,null,{"$f":"СписокСудей!T11","v":""}]
[null,null,null,null,{"$f":"СписокСудей!T12","v":""}]
[null,null,null,null,{"$f":"СписокСудей!T13","v":""}]
[null,null,null,null,{"$f":"СписокСудей!T14","v":""}]
[null,null,null,null,{"$f":"СписокСудей!T15","v":""}]
[null,null,null,null,{"$f":"СписокСудей!T16","v":""}]
[null,null,null,null,{"$f":"СписокСудей!T17","v":""}]
[null,null,null,null,{"$f":"СписокСудей!T18","v":""}]
[null,null,null,null,{"$f":"СписокСудей!T19","v":""}]
[null,null,null,null,{"$f":"СписокСудей!T20","v":""}]
[null,null,null,null,{"$f":"СписокСудей!T21","v":""}]
[null,null,null,null,{"$f":"СписокСудей!T22","v":""}]
[null,null,null,null,{"$f":"СписокСудей!T23","v":""}]
[null,null,null,null,{"$f":"СписокСудей!T24","v":""}]
[null,null,null,null,{"$f":"СписокСудей!T25","v":""}]
[null,null,null,null,{"$f":"СписокСудей!T26","v":""}]
[null,null,null,null,{"$f":"СписокСудей!T27","v":""}]
[null,null,null,null,{"$f":"СписокСудей!T28","v":""}]
[null,null,null,null,{"$f":"СписокСудей!T29","v":""}]
[null,null,null,null,{"$f":"СписокСудей!T30","v":""}]
[null,null,null,null,{"$f":"СписокСудей!T31","v":""}]
[null,null,null,null,{"$f":"СписокСудей!T32","v":""}]
[null,null,null,null,{"$f":"СписокСудей!T33","v":""}]
[null,null,null,null,{"$f":"СписокСудей!T34","v":""}]
[null,null,null,null,2]

{"sheet":"ОТ24","index":9,"n_rows":281,"n_cols":31,"rows_kept":281,"cut":false,"hidden":false,"merged":[[265,4,265,6],[266,4,266,6],[261,4,261,6],[262,4,262,6],[263,4,263,6],[264,4,264,6],[257,4,257,6],[258,4,258,6],[259,4,259,6],[260,4,260,6],[8,30,9,30],[8,25,9,25],[8,26,9,26],[8,27,9,27],[8,28,9,28],[8,29,9,29],[63,19,63,21],[57,18,58,21],[148,7,148,11],[38,15,38,17],[46,15,46,17],[45,15,45,17],[44,15,44,17],[32,15,32,17],[35,15,35,17],[33,19,33,21],[35,19,35,21],[42,19,43,21],[40,19,40,21],[50,19,50,21],[48,19,48,21],[43,15,43,17],[57,15,57,17],[58,15,58,17],[149,7,149,11],[67,19,67,21],[59,15,59,17],[63,15,63,17],[61,19,61,21],[62,19,62,21],[84,16,84,19],[82,16,83,19],[82,12,82,15],[83,12,83,15],[84,12,84,15],[82,20,83,22],[84,20,84,22],[64,19,64,21],[60,19,60,21],[60,15,60,17],[59,19,59,21],[65,17,66,17],[68,15,68,17],[61,15,61,17],[69,10,70,12],[67,6,68,8],[63,11,63,13],[65,11,65,13],[26,7,26,9],[37,7,37,9],[45,10,46,12],[39,9,40,9],[36,5,37,5],[43,9,44,9],[42,7,42,9],[41,7,41,9],[44,5,45,5],[40,5,41,5],[42,5,43,5],[39,11,39,13],[37,10,38,12],[34,5,35,5],[31,9,32,9],[34,7,34,9],[31,6,32,8],[36,11,36,13],[33,11,33,13],[29,7,29,9],[12,4,13,4],[14,4,15,4],[28,2,29,2],[32,5,33,5],[12,2,13,2],[16,2,17,2],[14,3,15,3],[14,2,15,2],[16,3,17,3],[18,5,19,5],[14,5,15,5],[16,5,17,5],[26,5,27,5],[26,4,27,4],[28,4,29,4],[30,4,31,4],[24,5,25,5],[18,4,19,4],[24,3,25,3],[22,4,23,4],[22,3,23,3],[20,4,21,4],[24,4,25,4],[30,5,31,5],[48,11,48,13],[49,11,49,13],[12,5,13,5],[19,11,19,13],[20,11,20,13],[21,13,22,13],[22,5,23,5],[16,11,16,13],[18,11,18,13],[17,11,17,13],[15,11,15,13],[20,5,21,5],[19,6,20,8],[23,9,24,9],[21,7,21,9],[22,7,22,9],[15,9,16,9],[19,9,20,9],[15,6,16,8],[18,7,18,9],[27,9,28,9],[17,7,17,9],[45,13,46,13],[37,13,38,13],[48,5,49,5],[58,5,59,5],[55,6,56,8],[56,5,57,5],[50,3,51,3],[46,3,47,3],[48,4,49,4],[39,6,40,8],[42,11,42,13],[38,5,39,5],[55,9,56,9],[54,7,54,9],[51,9,52,9],[51,6,52,8],[53,7,53,9],[51,11,51,13],[53,13,54,13],[54,5,55,5],[47,11,47,13],[50,11,50,13],[47,9,48,9],[47,6,48,8],[50,7,50,9],[53,10,54,12],[64,4,65,4],[60,2,61,2],[60,3,61,3],[64,5,65,5],[64,3,65,3],[58,3,59,3],[62,3,63,3],[66,2,67,2],[54,4,55,4],[58,4,59,4],[54,3,55,3],[58,2,59,2],[72,0,73,0],[68,0,69,0],[70,0,71,0],[56,0,57,0],[58,0,59,0],[60,0,61,0],[62,0,63,0],[66,0,67,0],[64,0,65,0],[40,1,41,1],[36,1,37,1],[38,1,39,1],[38,2,39,2],[46,1,47,1],[50,1,51,1],[52,1,53,1],[36,2,37,2],[34,0,35,0],[34,1,35,1],[34,2,35,2],[52,2,53,2],[50,2,51,2],[48,2,49,2],[54,0,55,0],[36,0,37,0],[40,0,41,0],[38,0,39,0],[42,0,43,0],[46,0,47,0],[44,0,45,0],[52,0,53,0],[50,0,51,0],[48,0,49,0],[38,3,39,3],[44,3,45,3],[44,2,45,2],[42,2,43,2],[42,3,43,3],[40,2,41,2],[46,7,46,9],[45,7,45,9],[43,6,44,8],[38,7,38,9],[44,4,45,4],[46,5,47,5],[54,1,55,1],[58,1,59,1],[56,1,57,1],[54,2,55,2],[42,4,43,4],[56,3,57,3],[52,4,53,4],[46,2,47,2],[52,3,53,3],[42,1,43,1],[48,1,49,1],[44,1,45,1],[46,4,47,4],[56,4,57,4],[56,2,57,2],[48,3,49,3],[27,19,27,21],[28,19,28,21],[22,19,22,21],[23,19,23,21],[24,19,24,21],[25,18,26,21],[29,19,29,21],[30,19,30,21],[47,19,47,21],[44,19,44,20],[32,19,32,21],[34,19,34,21],[46,19,46,21],[45,19,45,20],[31,19,31,21],[36,19,36,21],[37,19,37,21],[38,19,38,21],[39,19,39,21],[25,15,25,17],[23,15,23,17],[24,15,24,17],[24,11,24,13],[21,10,22,12],[25,11,25,13],[11,19,11,21],[12,19,12,21],[16,19,16,21],[14,19,14,21],[13,15,13,17],[17,19,17,21],[15,15,15,17],[17,14,18,16],[18,19,18,21],[16,15,16,17],[20,19,20,21],[19,19,19,21],[21,19,21,21],[23,11,23,13],[22,15,22,17],[30,0,31,0],[26,0,27,0],[32,3,33,3],[28,0,29,0],[32,0,33,0],[26,3,27,3],[30,1,31,1],[26,2,27,2],[30,3,31,3],[32,1,33,1],[30,2,31,2],[32,2,33,2],[26,1,27,1],[28,1,29,1],[12,0,13,0],[12,3,13,3],[28,3,29,3],[24,0,25,0],[24,2,25,2],[22,0,23,0],[12,1,13,1],[14,1,15,1],[16,1,17,1],[14,0,15,0],[20,0,21,0],[18,0,19,0],[20,3,21,3],[20,1,21,1],[16,0,17,0],[18,2,19,2],[20,2,21,2],[18,1,19,1],[18,3,19,3],[22,1,23,1],[24,1,25,1],[22,2,23,2],[36,3,37,3],[40,3,41,3],[70,1,71,1],[70,4,71,4],[68,2,69,2],[68,1,69,1],[68,3,69,3],[68,4,69,4],[57,7,57,9],[58,7,58,9],[59,6,60,8],[59,9,60,9],[62,7,62,9],[66,4,67,4],[63,6,64,8],[63,9,64,9],[65,7,65,9],[66,7,66,9],[38,4,39,4],[40,4,41,4],[49,7,49,9],[52,5,53,5],[50,4,51,4],[50,5,51,5],[83,7,83,11],[84,7,84,11],[82,1,82,4],[83,1,83,4],[81,7,81,11],[69,7,69,9],[68,5,69,5],[72,4,73,4],[71,9,72,9],[71,6,72,8],[70,5,71,5],[72,5,73,5],[79,1,79,4],[80,1,80,4],[81,1,81,4],[76,1,76,4],[72,1,73,1],[72,3,73,3],[72,2,73,2],[70,2,71,2],[70,3,71,3],[71,11,71,13],[68,11,68,13],[80,7,80,11],[66,1,67,1],[66,3,67,3],[61,13,62,13],[62,5,63,5],[60,5,61,5],[61,7,61,9],[77,12,77,15],[66,11,66,13],[67,9,68,9],[67,11,67,13],[70,7,70,9],[77,1,77,4],[76,12,76,15],[73,11,73,13],[72,11,72,13],[69,13,70,13],[64,1,65,1],[60,1,61,1],[62,1,63,1],[62,4,63,4],[60,4,61,4],[64,2,65,2],[66,5,67,5],[62,2,63,2],[78,1,78,4],[73,7,73,9],[76,7,76,11],[77,7,77,11],[78,7,78,11],[79,7,79,11],[78,12,78,15],[79,12,79,15],[10,3,11,3],[23,6,24,8],[30,7,30,9],[33,7,33,9],[35,11,35,13],[35,9,36,9],[35,6,36,8],[32,11,32,13],[34,11,34,13],[34,3,35,3],[16,4,17,4],[27,11,27,13],[28,11,28,13],[31,11,31,13],[29,13,30,13],[29,10,30,12],[36,4,37,4],[34,4,35,4],[25,7,25,9],[27,6,28,8],[32,4,33,4],[26,11,26,13],[28,5,29,5],[0,0,0,22],[2,0,2,22],[3,0,3,22],[4,0,4,3],[1,0,1,22],[4,4,4,5],[4,21,4,22],[4,6,4,11],[4,12,4,16],[4,18,4,20],[31,15,31,17],[30,15,30,17],[27,15,27,17],[29,15,29,17],[28,15,28,17],[26,15,26,17],[21,15,21,17],[80,12,80,15],[81,12,81,15],[81,16,81,22],[80,16,80,19],[80,20,80,22],[5,0,5,3],[7,0,9,0],[6,3,6,19],[10,0,11,0],[8,12,8,15],[10,4,11,4],[7,2,9,2],[5,18,5,20],[5,4,5,5],[5,6,5,11],[10,1,11,1],[7,1,9,1],[7,3,9,4],[7,5,9,5],[10,5,11,5],[10,2,11,2],[68,19,68,21],[65,19,65,21],[48,15,48,17],[70,18,70,21],[53,15,53,17],[62,15,62,17],[66,19,66,21],[52,15,52,17],[73,19,73,21],[76,16,76,22],[71,18,72,21],[70,14,71,17],[74,19,74,21],[54,15,54,17],[72,14,73,16],[59,11,59,13],[69,15,69,17],[64,15,64,17],[67,15,67,17],[65,14,66,16],[53,19,53,21],[60,11,60,13],[61,10,62,12],[52,19,52,21],[55,19,55,21],[64,11,64,13],[58,11,58,13],[55,11,55,13],[51,15,51,17],[57,11,57,13],[56,19,56,21],[56,11,56,13],[52,11,52,13],[55,15,55,17],[56,15,56,17],[54,19,54,21],[5,12,5,16],[8,20,9,22],[9,8,9,11],[41,19,41,21],[11,6,12,8],[13,7,13,9],[14,7,14,9],[11,9,12,9],[5,21,5,22],[15,19,15,21],[17,17,18,17],[33,17,34,17],[19,15,19,17],[20,15,20,17],[36,15,36,17],[33,14,34,16],[8,16,8,19],[8,8,8,11],[11,11,11,13],[13,19,13,21],[9,12,9,15],[9,16,9,19],[13,10,14,12],[13,13,14,13],[12,15,12,17],[14,15,14,17],[12,11,12,13],[11,15,11,17],[250,4,250,6],[251,4,251,6],[252,4,252,6],[255,4,255,6],[37,15,37,17],[39,15,39,17],[40,15,40,17],[42,15,42,17],[40,11,40,13],[44,11,44,13],[41,11,41,13],[41,15,41,17],[43,11,43,13],[47,15,47,17],[49,17,50,17],[49,14,50,16],[78,16,78,22],[77,16,77,22],[79,16,79,19],[79,20,79,22],[153,6,153,11],[154,7,154,8],[51,19,51,21],[49,19,49,21],[154,10,154,11],[155,7,155,8],[155,10,155,11],[267,4,267,6],[268,4,268,6],[280,4,280,6],[74,7,74,9],[279,4,279,6],[278,4,278,6],[269,4,269,6],[270,4,270,6],[253,4,253,6],[254,4,254,6],[275,4,275,6],[276,4,276,6],[277,4,277,6],[271,4,271,6],[272,4,272,6],[273,4,273,6],[274,4,274,6],[84,1,84,4],[82,7,82,11],[256,4,256,6],[249,4,249,6]]}
["ОСНОВНОЙ ТУРНИР ЛИЧНОГО ТУРНИРА РТТ В ОДИНОЧНОМ РАЗРЯДЕ"]
["Название турнира"]
[{"$f":"UPPER(Установка!C3)","v":"ПЕРВЕНСТВО РЕСПУБЛИКИ ТАТАРСТАН"}]
[]
["Место проведения",null,null,null,"Сроки проведения",null,"Возрастная группа",null,null,null,null,null,"Пол игроков",null,null,null,null,null,"Категория",null,null,"Класс"]
[{"$f":"UPPER(Установка!C6)","v":"КАЗАНЬ"},null,null,null,{"$f":"IF(Установка!C7=\"\",\"\",TEXT(Установка!C7,\"ДД,ММ,ГГГГ\"))","v":"18-24.11.2017."},null,{"$f":"UPPER(Установка!C4)","v":"9-10 ЛЕТ"},null,null,null,null,null,{"$f":"IF(Установка!$C$5=\"\",\"\",UPPER(Установка!$C$5))","v":"ДЕВУШКИ"},null,null,null,null,null,{"$f":"UPPER(Установка!D8)","v":"IV"},null,null,{"$f":"UPPER(Установка!E8)","v":"Б"}]
[null,null,0]
["Статус игрока","№ строк",{"$f":"MAX(C11:C74)+1","v":3},"Фамилия И.О. игрока",null,"Город (страна)"]
[null,null,null,null,null,null,null,null,"1/8",null,null,null,"1/4",null,null,null,"1/2",null,null,null,"Финал",null,null,null,null,"Победители 1-го круга","Проигравшие в 1-ом круге","Победители 2-го круга","Проигравшие во 2-ом круге","Победители 3-го круга","Проигравшие во 3-ем круге"]
[null,null,null,null,null,null,null,null,"финала",null,null,null,"финала",null,null,null,"финала"]
[{"$f":"IF($C11=\"\",\"1\",IF(AND($C11>=1,$C11<33),INDEX(ПодгОТ!$P$8:$P$39,C11),\"\"))","v":"1 "},1,1,{"$f":"IF($C11=\"\",\"\",IF(AND($C11>=1,$C11<33),VLOOKUP($C11,ПодгОТ!$A$8:$AA$39,27),\"Х\"))","v":"КРАТЮК"},{"$f":"IF(AND($C11>=1,$C11<33),VLOOKUP($C11,ПодгОТ!$A$8:$P$39,15),\"\")","v":"П.А."},{"$f":"IF(AND($C11>=1,$C11<33),VLOOKUP($C11,ПодгОТ!$A$8:$P$39,6),\"\")","v":"Казань"}]
[null,null,null,null,null,null,{"$f":"IF(G14=0,CONCATENATE(\"поб.\", D11,\"/\", D13),IF(G14=1,D11,IF(G14=2,D13,\"Х\")))","v":"КРАТЮК"},null,null,{"$f":"IF(G14=1,E11,IF(G14=2,E13,\"\"))","v":"П.А."}]
[{"$f":"IF($C13=\"\",\"\",IF(AND($C13>=1,$C13<33),INDEX(ПодгОТ!$P$8:$P$39,C13),\"\"))","v":""},2,"Х",{"$f":"IF($C13=\"\",\"\",IF(AND($C13>=1,$C13<33),VLOOKUP($C13,ПодгОТ!$A$8:$AA$39,27),\"Х\"))","v":"Х"},{"$f":"IF(AND($C13>=1,$C13<33),VLOOKUP($C13,ПодгОТ!$A$8:$P$39,15),\"\")","v":""},{"$f":"IF(AND($C13>=1,$C13<33),VLOOKUP($C13,ПодгОТ!$A$8:$P$39,6),\"\")","v":""}]
[null,null,null,null,null,null,1,null,null,null,{"$f":"IF(K16=0,CONCATENATE(\"поб.\",G12,\"/\",G16 ),IF(K16=1,G12,IF(K16=2,G16,\"Х\")))","v":"поб.КРАТЮК/поб./"},null,null,{"$f":"IF(K16=1,J12,IF(K16=2,J16,\"\"))","v":""},null,null,null,null,null,null,null,null,null,null,null,{"$f":"IF(OR(G14=3,G14=0),0,(IF(G14=1,C11,C13)))","v":1},{"$f":"IF(OR(G14=3,G14=0),0,(IF(G14=1,C13,C11)))","v":"Х"}]
[{"$f":"IF($C15=\"\",\"\",IF(AND($C15>=1,$C15<33),INDEX(ПодгОТ!$P$8:$P$39,C15),\"\"))","v":""},3,null,{"$f":"IF($C15=\"\",\"\",IF(AND($C15>=1,$C15<33),VLOOKUP($C15,ПодгОТ!$A$8:$AA$39,27),\"Х\"))","v":""},{"$f":"IF(AND($C15>=1,$C15<33),VLOOKUP($C15,ПодгОТ!$A$8:$P$39,15),\"\")","v":""},{"$f":"IF(AND($C15>=1,$C15<33),VLOOKUP($C15,ПодгОТ!$A$8:$P$39,6),\"\")","v":""}]
[null,null,null,null,null,null,{"$f":"IF(G18=0,CONCATENATE(\"поб.\", D15,\"/\", D17),IF(G18=1,D15,IF(G18=2,D17,\"Х\")))","v":"поб./"},null,null,{"$f":"IF(G18=1,E15,IF(G18=2,E17,\"\"))","v":""},null,null,null,null,null,null,null,null,null,null,null,null,null,null,null,null,null,{"$f":"IF(OR(K16=0,K16=3),0,IF(K16=1,Z14,Z18))","v":0},{"$f":"IF(OR(K16=0,K16=3),0,IF(K16=1,Z18,Z14))","v":0}]
[{"$f":"IF($C17=\"\",\"\",IF(AND($C17>=1,$C17<33),INDEX(ПодгОТ!$P$8:$P$39,C17),\"\"))","v":""},4,null,{"$f":"IF($C17=\"\",\"\",IF(AND($C17>=1,$C17<33),VLOOKUP($C17,ПодгОТ!$A$8:$AA$39,27),\"Х\"))","v":""},{"$f":"IF(AND($C17>=1,$C17<33),VLOOKUP($C17,ПодгОТ!$A$8:$P$39,15),\"\")","v":""},{"$f":"IF(AND($C17>=1,$C17<33),VLOOKUP($C17,ПодгОТ!$A$8:$P$39,6),\"\")","v":""},null,null,null,null,null,"Судья на вышке"]
[null,null,null,null,null,null,null,null,null,null,null,null,null,null,{"$f":"IF(O20=0,CONCATENATE(\"поб.\",K14,\"/\",K22 ),IF(O20=1,K14,IF(O20=2,K22,\"Х\")))","v":"поб.поб.КРАТЮК/поб.//поб.поб.//"},null,null,{"$f":"IF(O20=1,N14,IF(O20=2,N22,\"\"))","v":""},null,null,null,null,null,null,null,{"$f":"IF(OR(G18=3,G18=0),0,(IF(G18=1,C15,C17)))","v":0},{"$f":"IF(OR(G18=3,G18=0),0,(IF(G18=1,C17,C15)))","v":0}]
[{"$f":"IF($C19=\"\",\"\",IF(AND($C19>=1,$C19<33),INDEX(ПодгОТ!$P$8:$P$39,C19),\"\"))","v":""},5,null,{"$f":"IF($C19=\"\",\"\",IF(AND($C19>=1,$C19<33),VLOOKUP($C19,ПодгОТ!$A$8:$AA$39,27),\"Х\"))","v":""},{"$f":"IF(AND($C19>=1,$C19<33),VLOOKUP($C19,ПодгОТ!$A$8:$P$39,15),\"\")","v":""},{"$f":"IF(AND($C19>=1,$C19<33),VLOOKUP($C19,ПодгОТ!$A$8:$P$39,6),\"\")","v":""},null,"Судья на вышке"]
[null,null,null,null,null,null,{"$f":"IF(G22=0,CONCATENATE(\"поб.\", D19,\"/\", D21),IF(G22=1,D19,IF(G22=2,D21,\"Х\")))","v":"поб./"},null,null,{"$f":"IF(G22=1,E19,IF(G22=2,E21,\"\"))","v":""},null,null,null,null,null,null,null,null,null,null,null,null,null,null,null,null,null,null,null,{"$f":"IF(OR(O20=0,O20=3),0,IF(O20=1,AB16,AB24))","v":0},{"$f":"IF(OR(O20=0,O20=3),0,IF(O20=1,AB24,AB16))","v":0}]
[{"$f":"IF($C21=\"\",\"\",IF(AND($C21>=1,$C21<33),INDEX(ПодгОТ!$P$8:$P$39,C21),\"\"))","v":""},6,null,{"$f":"IF($C21=\"\",\"\",IF(AND($C21>=1,$C21<33),VLOOKUP($C21,ПодгОТ!$A$8:$AA$39,27),\"Х\"))","v":""},{"$f":"IF(AND($C21>=1,$C21<33),VLOOKUP($C21,ПодгОТ!$A$8:$P$39,15),\"\")","v":""},{"$f":"IF(AND($C21>=1,$C21<33),VLOOKUP($C21,ПодгОТ!$A$8:$P$39,6),\"\")","v":""},null,null,null,null,null,null,null,null,null,"Судья на вышке"]
[null,null,null,null,null,null,null,null,null,null,{"$f":"IF(K24=0,CONCATENATE(\"поб.\",G20,\"/\",G24 ),IF(K24=1,G20,IF(K24=2,G24,\"Х\")))","v":"поб.поб.//"},null,null,{"$f":"IF(K24=1,J20,IF(K24=2,J24,\"\"))","v":""},null,null,null,null,null,null,null,null,null,null,null,{"$f":"IF(OR(G22=3,G22=0),0,(IF(G22=1,C19,C21)))","v":0},{"$f":"IF(OR(G22=3,G22=0),0,(IF(G22=1,C21,C19)))","v":0}]
[{"$f":"IF($C23=\"\",\"\",IF(AND($C23>=1,$C23<33),INDEX(ПодгОТ!$P$8:$P$39,C23),\"\"))","v":""},7,"Х",{"$f":"IF($C23=\"\",\"\",IF(AND($C23>=1,$C23<33),VLOOKUP($C23,ПодгОТ!$A$8:$AA$39,27),\"Х\"))","v":"Х"},{"$f":"IF(AND($C23>=1,$C23<33),VLOOKUP($C23,ПодгОТ!$A$8:$P$39,15),\"\")","v":""},{"$f":"IF(AND($C23>=1,$C23<33),VLOOKUP($C23,ПодгОТ!$A$8:$P$39,6),\"\")","v":""},null,"Судья на вышке"]
[null,null,null,null,null,null,{"$f":"IF(G26=0,CONCATENATE(\"поб.\", D23,\"/\", D25),IF(G26=1,D23,IF(G26=2,D25,\"Х\")))","v":""},null,null,{"$f":"IF(G26=1,E23,IF(G26=2,E25,\"\"))","v":""},null,null,null,null,null,null,null,null,null,null,null,null,null,null,null,null,null,{"$f":"IF(OR(K24=0,K24=3),0,IF(K24=1,Z22,Z26))","v":0},{"$f":"IF(OR(K24=0,K24=3),0,IF(K24=1,Z26,Z22))","v":0}]
[{"$f":"IF($C25=\"\",\"5-8\",IF(AND($C25>=1,$C25<33),INDEX(ПодгОТ!$P$8:$P$39,C25),\"\"))","v":"5-8"},8,null,{"$f":"IF($C25=\"\",\"\",IF(AND($C25>=1,$C25<33),VLOOKUP($C25,ПодгОТ!$A$8:$AA$39,27),\"Х\"))","v":""},{"$f":"IF(AND($C25>=1,$C25<33),VLOOKUP($C25,ПодгОТ!$A$8:$P$39,15),\"\")","v":""},{"$f":"IF(AND($C25>=1,$C25<33),VLOOKUP($C25,ПодгОТ!$A$8:$P$39,6),\"\")","v":""},null,null,null,null,null,"Судья на вышке"]
[null,null,null,null,null,null,2,null,null,null,null,null,null,null,null,null,null,null,{"$f":"IF(S28=0,CONCATENATE(\"поб.\",O18,\"/\", O34),IF(S28=1,O18,IF(S28=2,O34,\"Х\")))","v":"поб.поб.поб.КРАТЮК/поб.//поб.поб.///поб.поб./поб.//поб.поб.//"},null,null,null,null,null,null,{"$f":"IF(OR(G26=3,G26=0),0,(IF(G26=1,C23,C25)))","v":0},{"$f":"IF(OR(G26=3,G26=0),0,(IF(G26=1,C25,C23)))","v":"Х"}]
[{"$f":"IF($C27=\"\",\"3-4\",IF(AND($C27>=1,$C27<33),INDEX(ПодгОТ!$P$8:$P$39,C27),\"\"))","v":"3-4"},9,null,{"$f":"IF($C27=\"\",\"\",IF(AND($C27>=1,$C27<33),VLOOKUP($C27,ПодгОТ!$A$8:$AA$39,27),\"Х\"))","v":""},{"$f":"IF(AND($C27>=1,$C27<33),VLOOKUP($C27,ПодгОТ!$A$8:$P$39,15),\"\")","v":""},{"$f":"IF(AND($C27>=1,$C27<33),VLOOKUP($C27,ПодгОТ!$A$8:$P$39,6),\"\")","v":""}]
[null,null,null,null,null,null,{"$f":"IF(G30=0,CONCATENATE(\"поб.\", D27,\"/\", D29),IF(G30=1,D27,IF(G30=2,D29,\"Х\")))","v":""},null,null,{"$f":"IF(G30=1,E27,IF(G30=2,E29,\"\"))","v":""}]
[{"$f":"IF($C29=\"\",\"\",IF(AND($C29>=1,$C29<33),INDEX(ПодгОТ!$P$8:$P$39,C29),\"\"))","v":""},10,"Х",{"$f":"IF($C29=\"\",\"\",IF(AND($C29>=1,$C29<33),VLOOKUP($C29,ПодгОТ!$A$8:$AA$39,27),\"Х\"))","v":"Х"},{"$f":"IF(AND($C29>=1,$C29<33),VLOOKUP($C29,ПодгОТ!$A$8:$P$39,15),\"\")","v":""},{"$f":"IF(AND($C29>=1,$C29<33),VLOOKUP($C29,ПодгОТ!$A$8:$P$39,6),\"\")","v":""},null,null,null,null,null,null,null,null,null,null,null,null,null,"Судья на вышке"]
[null,null,null,null,null,null,1,null,null,null,{"$f":"IF(K32=0,CONCATENATE(\"поб.\",G28,\"/\",G32 ),IF(K32=1,G28,IF(K32=2,G32,\"Х\")))","v":"поб./поб./"},null,null,{"$f":"IF(K32=1,J28,IF(K32=2,J32,\"\"))","v":""},null,null,null,null,null,null,null,null,null,null,null,{"$f":"IF(OR(G30=3,G30=0),0,(IF(G30=1,C27,C29)))","v":0},{"$f":"IF(OR(G30=3,G30=0),0,(IF(G30=1,C29,C27)))","v":"Х"}]
[{"$f":"IF($C31=\"\",\"\",IF(AND($C31>=1,$C31<33),INDEX(ПодгОТ!$P$8:$P$39,C31),\"\"))","v":""},11,null,{"$f":"IF($C31=\"\",\"\",IF(AND($C31>=1,$C31<33),VLOOKUP($C31,ПодгОТ!$A$8:$AA$39,27),\"Х\"))","v":""},{"$f":"IF(AND($C31>=1,$C31<33),VLOOKUP($C31,ПодгОТ!$A$8:$P$39,15),\"\")","v":""},{"$f":"IF(AND($C31>=1,$C31<33),VLOOKUP($C31,ПодгОТ!$A$8:$P$39,6),\"\")","v":""}]
[null,null,null,null,null,null,{"$f":"IF(G34=0,CONCATENATE(\"поб.\", D31,\"/\", D33),IF(G34=1,D31,IF(G34=2,D33,\"Х\")))","v":"поб./"},null,null,{"$f":"IF(G34=1,E31,IF(G34=2,E33,\"\"))","v":""},null,null,null,null,null,null,null,null,null,null,null,null,null,null,null,null,null,{"$f":"IF(OR(K32=0,K32=3),0,IF(K32=1,Z30,Z34))","v":0},{"$f":"IF(OR(K32=0,K32=3),0,IF(K32=1,Z34,Z30))","v":0}]
[{"$f":"IF($C33=\"\",\"\",IF(AND($C33>=1,$C33<33),INDEX(ПодгОТ!$P$8:$P$39,C33),\"\"))","v":""},12,null,{"$f":"IF($C33=\"\",\"\",IF(AND($C33>=1,$C33<33),VLOOKUP($C33,ПодгОТ!$A$8:$AA$39,27),\"Х\"))","v":""},{"$f":"IF(AND($C33>=1,$C33<33),VLOOKUP($C33,ПодгОТ!$A$8:$P$39,15),\"\")","v":""},{"$f":"IF(AND($C33>=1,$C33<33),VLOOKUP($C33,ПодгОТ!$A$8:$P$39,6),\"\")","v":""},null,null,null,null,null,"Судья на вышке"]
[null,null,null,null,null,null,null,null,null,null,null,null,null,null,{"$f":"IF(O36=0,CONCATENATE(\"поб.\",K30,\"/\",K38 ),IF(O36=1,K30,IF(O36=2,K38,\"Х\")))","v":"поб.поб./поб.//поб.поб.//"},null,null,{"$f":"IF(O36=1,N30,IF(O36=2,N38,\"\"))","v":""},null,null,null,null,null,null,null,{"$f":"IF(OR(G34=3,G34=0),0,(IF(G34=1,C31,C33)))","v":0},{"$f":"IF(OR(G34=3,G34=0),0,(IF(G34=1,C33,C31)))","v":0}]
[{"$f":"IF($C35=\"\",\"\",IF(AND($C35>=1,$C35<33),INDEX(ПодгОТ!$P$8:$P$39,C35),\"\"))","v":""},13,null,{"$f":"IF($C35=\"\",\"\",IF(AND($C35>=1,$C35<33),VLOOKUP($C35,ПодгОТ!$A$8:$AA$39,27),\"Х\"))","v":""},{"$f":"IF(AND($C35>=1,$C35<33),VLOOKUP($C35,ПодгОТ!$A$8:$P$39,15),\"\")","v":""},{"$f":"IF(AND($C35>=1,$C35<33),VLOOKUP($C35,ПодгОТ!$A$8:$P$39,6),\"\")","v":""},null,"Судья на вышке"]
[null,null,null,null,null,null,{"$f":"IF(G38=0,CONCATENATE(\"поб.\", D35,\"/\", D37),IF(G38=1,D35,IF(G38=2,D37,\"Х\")))","v":"поб./"},null,null,{"$f":"IF(G38=1,E35,IF(G38=2,E37,\"\"))","v":""},null,null,null,null,null,null,null,null,null,null,null,null,null,null,null,null,null,null,null,{"$f":"IF(OR(O36=0,O36=3),0,IF(O36=1,AB32,AB40))","v":0},{"$f":"IF(OR(O36=0,O36=3),0,IF(O36=1,AB40,AB32))","v":0}]
[{"$f":"IF($C37=\"\",\"\",IF(AND($C37>=1,$C37<33),INDEX(ПодгОТ!$P$8:$P$39,C37),\"\"))","v":""},14,null,{"$f":"IF($C37=\"\",\"\",IF(AND($C37>=1,$C37<33),VLOOKUP($C37,ПодгОТ!$A$8:$AA$39,27),\"Х\"))","v":""},{"$f":"IF(AND($C37>=1,$C37<33),VLOOKUP($C37,ПодгОТ!$A$8:$P$39,15),\"\")","v":""},{"$f":"IF(AND($C37>=1,$C37<33),VLOOKUP($C37,ПодгОТ!$A$8:$P$39,6),\"\")","v":""},null,null,null,null,null,null,null,null,null,"Судья на вышке"]
[null,null,null,null,null,null,null,null,null,null,{"$f":"IF(K40=0,CONCATENATE(\"поб.\",G36,\"/\",G40 ),IF(K40=1,G36,IF(K40=2,G40,\"Х\")))","v":"поб.поб.//"},null,null,{"$f":"IF(K40=1,J36,IF(K40=2,J40,\"\"))","v":""},null,null,null,null,null,null,null,null,null,null,null,{"$f":"IF(OR(G38=3,G38=0),0,(IF(G38=1,C35,C37)))","v":0},{"$f":"IF(OR(G38=3,G38=0),0,(IF(G38=1,C37,C35)))","v":0}]
[{"$f":"IF($C39=\"\",\"\",IF(AND($C39>=1,$C39<33),INDEX(ПодгОТ!$P$8:$P$39,C39),\"\"))","v":""},15,"Х",{"$f":"IF($C39=\"\",\"\",IF(AND($C39>=1,$C39<33),VLOOKUP($C39,ПодгОТ!$A$8:$AA$39,27),\"Х\"))","v":"Х"},{"$f":"IF(AND($C39>=1,$C39<33),VLOOKUP($C39,ПодгОТ!$A$8:$P$39,15),\"\")","v":""},{"$f":"IF(AND($C39>=1,$C39<33),VLOOKUP($C39,ПодгОТ!$A$8:$P$39,6),\"\")","v":""},null,"Судья на вышке"]
[null,null,null,null,null,null,{"$f":"IF(G42=0,CONCATENATE(\"поб.\", D39,\"/\", D41),IF(G42=1,D39,IF(G42=2,D41,\"Х\")))","v":""},null,null,{"$f":"IF(G42=1,E39,IF(G42=2,E41,\"\"))","v":""},null,null,null,null,null,null,null,null,null,null,null,null,null,null,null,null,null,{"$f":"IF(OR(K40=0,K40=3),0,IF(K40=1,Z38,Z42))","v":0},{"$f":"IF(OR(K40=0,K40=3),0,IF(K40=1,Z42,Z38))","v":0}]
[{"$f":"IF($C41=\"\",\"5-8\",IF(AND($C41>=1,$C41<33),INDEX(ПодгОТ!$P$8:$P$39,C41),\"\"))","v":"5-8"},16,null,{"$f":"IF($C41=\"\",\"\",IF(AND($C41>=1,$C41<33),VLOOKUP($C41,ПодгОТ!$A$8:$AA$39,27),\"Х\"))","v":""},{"$f":"IF(AND($C41>=1,$C41<33),VLOOKUP($C41,ПодгОТ!$A$8:$P$39,15),\"\")","v":""},{"$f":"IF(AND($C41>=1,$C41<33),VLOOKUP($C41,ПодгОТ!$A$8:$P$39,6),\"\")","v":""},null,null,null,null,null,"Судья на вышке"]
[null,null,null,null,null,null,2,null,null,null,null,null,null,null,null,null,null,null,null,null,null,null,null,null,null,{"$f":"IF(OR(G42=3,G42=0),0,(IF(G42=1,C39,C41)))","v":0},{"$f":"IF(OR(G42=3,G42=0),0,(IF(G42=1,C41,C39)))","v":"Х"}]
[{"$f":"IF($C43=\"\",\"5-8\",IF(AND($C43>=1,$C43<33),INDEX(ПодгОТ!$P$8:$P$39,C43),\"\"))","v":"5-8"},17,null,{"$f":"IF($C43=\"\",\"\",IF(AND($C43>=1,$C43<33),VLOOKUP($C43,ПодгОТ!$A$8:$AA$39,27),\"Х\"))","v":""},{"$f":"IF(AND($C43>=1,$C43<33),VLOOKUP($C43,ПодгОТ!$A$8:$P$39,15),\"\")","v":""},{"$f":"IF(AND($C43>=1,$C43<33),VLOOKUP($C43,ПодгОТ!$A$8:$P$39,6),\"\")","v":""},null,null,null,null,null,null,null,null,null,null,null,null,null,{"$f":"IF(V45=0,CONCATENATE(\"поб.\",S26,\"/\",S58 ),IF(V45=1,S26,IF(V45=2,S58,\"Х\")))","v":"поб.поб.поб.поб.КРАТЮК/поб.//поб.поб.///поб.поб./поб.//поб.поб.///поб.поб.поб./поб.//поб.поб.///поб.поб./поб.//поб.поб.//СМИРНОВА"}]
[null,null,null,null,null,null,{"$f":"IF(G46=0,CONCATENATE(\"поб.\", D43,\"/\", D45),IF(G46=1,D43,IF(G46=2,D45,\"Х\")))","v":""},null,null,{"$f":"IF(G46=1,E43,IF(G46=2,E45,\"\"))","v":""}]
[{"$f":"IF($C45=\"\",\"\",IF(AND($C45>=1,$C45<33),INDEX(ПодгОТ!$P$8:$P$39,C45),\"\"))","v":""},18,"Х",{"$f":"IF($C45=\"\",\"\",IF(AND($C45>=1,$C45<33),VLOOKUP($C45,ПодгОТ!$A$8:$AA$39,27),\"Х\"))","v":"Х"},{"$f":"IF(AND($C45>=1,$C45<33),VLOOKUP($C45,ПодгОТ!$A$8:$P$39,15),\"\")","v":""},{"$f":"IF(AND($C45>=1,$C45<33),VLOOKUP($C45,ПодгОТ!$A$8:$P$39,6),\"\")","v":""}]
[null,null,null,null,null,null,1,null,null,null,{"$f":"IF(K48=0,CONCATENATE(\"поб.\",G44,\"/\",G48 ),IF(K48=1,G44,IF(K48=2,G48,\"Х\")))","v":"поб./поб./"},null,null,{"$f":"IF(K48=1,J44,IF(K48=2,J48,\"\"))","v":""},null,null,null,null,null,"Судья на вышке",null,null,null,null,null,{"$f":"IF(OR(G46=3,G46=0),0,(IF(G46=1,C43,C45)))","v":0},{"$f":"IF(OR(G46=3,G46=0),0,(IF(G46=1,C45,C43)))","v":"Х"}]
[{"$f":"IF($C47=\"\",\"\",IF(AND($C47>=1,$C47<33),INDEX(ПодгОТ!$P$8:$P$39,C47),\"\"))","v":""},19,null,{"$f":"IF($C47=\"\",\"\",IF(AND($C47>=1,$C47<33),VLOOKUP($C47,ПодгОТ!$A$8:$AA$39,27),\"Х\"))","v":""},{"$f":"IF(AND($C47>=1,$C47<33),VLOOKUP($C47,ПодгОТ!$A$8:$P$39,15),\"\")","v":""},{"$f":"IF(AND($C47>=1,$C47<33),VLOOKUP($C47,ПодгОТ!$A$8:$P$39,6),\"\")","v":""}]
[null,null,null,null,null,null,{"$f":"IF(G50=0,CONCATENATE(\"поб.\", D47,\"/\", D49),IF(G50=1,D47,IF(G50=2,D49,\"Х\")))","v":"поб./"},null,null,{"$f":"IF(G50=1,E47,IF(G50=2,E49,\"\"))","v":""},null,null,null,null,null,null,null,null,null,null,null,null,null,null,null,null,null,{"$f":"IF(OR(K48=0,K48=3),0,IF(K48=1,Z46,Z50))","v":0},{"$f":"IF(OR(K48=0,K48=3),0,IF(K48=1,Z50,Z46))","v":0}]
[{"$f":"IF($C49=\"\",\"\",IF(AND($C49>=1,$C49<33),INDEX(ПодгОТ!$P$8:$P$39,C49),\"\"))","v":""},20,null,{"$f":"IF($C49=\"\",\"\",IF(AND($C49>=1,$C49<33),VLOOKUP($C49,ПодгОТ!$A$8:$AA$39,27),\"Х\"))","v":""},{"$f":"IF(AND($C49>=1,$C49<33),VLOOKUP($C49,ПодгОТ!$A$8:$P$39,15),\"\")","v":""},{"$f":"IF(AND($C49>=1,$C49<33),VLOOKUP($C49,ПодгОТ!$A$8:$P$39,6),\"\")","v":""},null,null,null,null,null,"Судья на вышке"]
[null,null,null,null,null,null,null,null,null,null,null,null,null,null,{"$f":"IF(O52=0,CONCATENATE(\"поб.\",K46,\"/\",K54 ),IF(O52=1,K46,IF(O52=2,K54,\"Х\")))","v":"поб.поб./поб.//поб.поб.//"},null,null,{"$f":"IF(O52=1,N46,IF(O52=2,N54,\"\"))","v":""},null,null,null,null,null,null,null,{"$f":"IF(OR(G50=3,G50=0),0,(IF(G50=1,C47,C49)))","v":0},{"$f":"IF(OR(G50=3,G50=0),0,(IF(G50=1,C49,C47)))","v":0}]
[{"$f":"IF($C51=\"\",\"\",IF(AND($C51>=1,$C51<33),INDEX(ПодгОТ!$P$8:$P$39,C51),\"\"))","v":""},21,null,{"$f":"IF($C51=\"\",\"\",IF(AND($C51>=1,$C51<33),VLOOKUP($C51,ПодгОТ!$A$8:$AA$39,27),\"Х\"))","v":""},{"$f":"IF(AND($C51>=1,$C51<33),VLOOKUP($C51,ПодгОТ!$A$8:$P$39,15),\"\")","v":""},{"$f":"IF(AND($C51>=1,$C51<33),VLOOKUP($C51,ПодгОТ!$A$8:$P$39,6),\"\")","v":""},null,"Судья на вышке"]
[null,null,null,null,null,null,{"$f":"IF(G54=0,CONCATENATE(\"поб.\", D51,\"/\", D53),IF(G54=1,D51,IF(G54=2,D53,\"Х\")))","v":"поб./"},null,null,{"$f":"IF(G54=1,E51,IF(G54=2,E53,\"\"))","v":""},null,null,null,null,null,null,null,null,null,null,null,null,null,null,null,null,null,null,null,{"$f":"IF(OR(O52=0,O52=3),0,IF(O52=1,AB48,AB56))","v":0},{"$f":"IF(OR(O52=0,O52=3),0,IF(O52=1,AB56,AB48))","v":0}]
[{"$f":"IF($C53=\"\",\"\",IF(AND($C53>=1,$C53<33),INDEX(ПодгОТ!$P$8:$P$39,C53),\"\"))","v":""},22,null,{"$f":"IF($C53=\"\",\"\",IF(AND($C53>=1,$C53<33),VLOOKUP($C53,ПодгОТ!$A$8:$AA$39,27),\"Х\"))","v":""},{"$f":"IF(AND($C53>=1,$C53<33),VLOOKUP($C53,ПодгОТ!$A$8:$P$39,15),\"\")","v":""},{"$f":"IF(AND($C53>=1,$C53<33),VLOOKUP($C53,ПодгОТ!$A$8:$P$39,6),\"\")","v":""},null,null,null,null,null,null,null,null,null,"Судья на вышке"]
[null,null,null,null,null,null,null,null,null,null,{"$f":"IF(K56=0,CONCATENATE(\"поб.\",G52,\"/\",G56 ),IF(K56=1,G52,IF(K56=2,G56,\"Х\")))","v":"поб.поб.//"},null,null,{"$f":"IF(K56=1,J52,IF(K56=2,J56,\"\"))","v":""},null,null,null,null,null,null,null,null,null,null,null,{"$f":"IF(OR(G54=3,G54=0),0,(IF(G54=1,C51,C53)))","v":0},{"$f":"IF(OR(G54=3,G54=0),0,(IF(G54=1,C53,C51)))","v":0}]
[{"$f":"IF($C55=\"\",\"\",IF(AND($C55>=1,$C55<33),INDEX(ПодгОТ!$P$8:$P$39,C55),\"\"))","v":""},23,"Х",{"$f":"IF($C55=\"\",\"\",IF(AND($C55>=1,$C55<33),VLOOKUP($C55,ПодгОТ!$A$8:$AA$39,27),\"Х\"))","v":"Х"},{"$f":"IF(AND($C55>=1,$C55<33),VLOOKUP($C55,ПодгОТ!$A$8:$P$39,15),\"\")","v":""},{"$f":"IF(AND($C55>=1,$C55<33),VLOOKUP($C55,ПодгОТ!$A$8:$P$39,6),\"\")","v":""},null,"Судья на вышке"]
[null,null,null,null,null,null,{"$f":"IF(G58=0,CONCATENATE(\"поб.\", D55,\"/\", D57),IF(G58=1,D55,IF(G58=2,D57,\"Х\")))","v":""},null,null,{"$f":"IF(G58=1,E55,IF(G58=2,E57,\"\"))","v":""},null,null,null,null,null,null,null,null,null,null,null,null,null,null,null,null,null,{"$f":"IF(OR(K56=0,K56=3),0,IF(K56=1,Z54,Z58))","v":0},{"$f":"IF(OR(K56=0,K56=3),0,IF(K56=1,Z58,Z54))","v":0}]
[{"$f":"IF($C57=\"\",\"3-4\",IF(AND($C57>=1,$C57<33),INDEX(ПодгОТ!$P$8:$P$39,C57),\"\"))","v":"3-4"},24,null,{"$f":"IF($C57=\"\",\"\",IF(AND($C57>=1,$C57<33),VLOOKUP($C57,ПодгОТ!$A$8:$AA$39,27),\"Х\"))","v":""},{"$f":"IF(AND($C57>=1,$C57<33),VLOOKUP($C57,ПодгОТ!$A$8:$P$39,15),\"\")","v":""},{"$f":"IF(AND($C57>=1,$C57<33),VLOOKUP($C57,ПодгОТ!$A$8:$P$39,6),\"\")","v":""},null,null,null,null,null,"Судья на вышке"]
[null,null,null,null,null,null,2,null,null,null,null,null,null,null,null,null,null,null,{"$f":"IF(S60=0,CONCATENATE(\"поб.\",O50,\"/\", O66),IF(S60=1,O50,IF(S60=2,O66,\"Х\")))","v":"поб.поб.поб./поб.//поб.поб.///поб.поб./поб.//поб.поб.//СМИРНОВА"},null,null,null,null,null,null,{"$f":"IF(OR(G58=3,G58=0),0,(IF(G58=1,C55,C57)))","v":0},{"$f":"IF(OR(G58=3,G58=0),0,(IF(G58=1,C57,C55)))","v":"Х"}]
[{"$f":"IF($C59=\"\",\"5-8\",IF(AND($C59>=1,$C59<33),INDEX(ПодгОТ!$P$8:$P$39,C59),\"\"))","v":"5-8"},25,null,{"$f":"IF($C59=\"\",\"\",IF(AND($C59>=1,$C59<33),VLOOKUP($C59,ПодгОТ!$A$8:$AA$39,27),\"Х\"))","v":""},{"$f":"IF(AND($C59>=1,$C59<33),VLOOKUP($C59,ПодгОТ!$A$8:$P$39,15),\"\")","v":""},{"$f":"IF(AND($C59>=1,$C59<33),VLOOKUP($C59,ПодгОТ!$A$8:$P$39,6),\"\")","v":""}]
[null,null,null,null,null,null,{"$f":"IF(G62=0,CONCATENATE(\"поб.\", D59,\"/\", D61),IF(G62=1,D59,IF(G62=2,D61,\"Х\")))","v":""},null,null,{"$f":"IF(G62=1,E59,IF(G62=2,E61,\"\"))","v":""}]
[{"$f":"IF($C61=\"\",\"\",IF(AND($C61>=1,$C61<33),INDEX(ПодгОТ!$P$8:$P$39,C61),\"\"))","v":""},26,"Х",{"$f":"IF($C61=\"\",\"\",IF(AND($C61>=1,$C61<33),VLOOKUP($C61,ПодгОТ!$A$8:$AA$39,27),\"Х\"))","v":"Х"},{"$f":"IF(AND($C61>=1,$C61<33),VLOOKUP($C61,ПодгОТ!$A$8:$P$39,15),\"\")","v":""},{"$f":"IF(AND($C61>=1,$C61<33),VLOOKUP($C61,ПодгОТ!$A$8:$P$39,6),\"\")","v":""},null,null,null,null,null,null,null,null,null,null,null,null,null,"Судья на вышке"]
[null,null,null,null,null,null,1,null,null,null,{"$f":"IF(K64=0,CONCATENATE(\"поб.\",G60,\"/\",G64 ),IF(K64=1,G60,IF(K64=2,G64,\"Х\")))","v":"поб./поб./"},null,null,{"$f":"IF(K64=1,J60,IF(K64=2,J64,\"\"))","v":""},null,null,null,null,null,null,null,null,null,null,null,{"$f":"IF(OR(G62=3,G62=0),0,(IF(G62=1,C59,C61)))","v":0},{"$f":"IF(OR(G62=3,G62=0),0,(IF(G62=1,C61,C59)))","v":"Х"}]
[{"$f":"IF($C63=\"\",\"\",IF(AND($C63>=1,$C63<33),INDEX(ПодгОТ!$P$8:$P$39,C63),\"\"))","v":""},27,null,{"$f":"IF($C63=\"\",\"\",IF(AND($C63>=1,$C63<33),VLOOKUP($C63,ПодгОТ!$A$8:$AA$39,27),\"Х\"))","v":""},{"$f":"IF(AND($C63>=1,$C63<33),VLOOKUP($C63,ПодгОТ!$A$8:$P$39,15),\"\")","v":""},{"$f":"IF(AND($C63>=1,$C63<33),VLOOKUP($C63,ПодгОТ!$A$8:$P$39,6),\"\")","v":""}]
[null,null,null,null,null,null,{"$f":"IF(G66=0,CONCATENATE(\"поб.\", D63,\"/\", D65),IF(G66=1,D63,IF(G66=2,D65,\"Х\")))","v":"поб./"},null,null,{"$f":"IF(G66=1,E63,IF(G66=2,E65,\"\"))","v":""},null,null,null,null,null,null,null,null,null,null,null,null,null,null,null,null,null,{"$f":"IF(OR(K64=0,K64=3),0,IF(K64=1,Z62,Z66))","v":0},{"$f":"IF(OR(K64=0,K64=3),0,IF(K64=1,Z66,Z62))","v":0}]
[{"$f":"IF($C65=\"\",\"\",IF(AND($C65>=1,$C65<33),INDEX(ПодгОТ!$P$8:$P$39,C65),\"\"))","v":""},28,null,{"$f":"IF($C65=\"\",\"\",IF(AND($C65>=1,$C65<33),VLOOKUP($C65,ПодгОТ!$A$8:$AA$39,27),\"Х\"))","v":""},{"$f":"IF(AND($C65>=1,$C65<33),VLOOKUP($C65,ПодгОТ!$A$8:$P$39,15),\"\")","v":""},{"$f":"IF(AND($C65>=1,$C65<33),VLOOKUP($C65,ПодгОТ!$A$8:$P$39,6),\"\")","v":""},null,null,null,null,null,"Судья на вышке"]
[null,null,null,null,null,null,null,null,null,null,null,null,null,null,{"$f":"IF(O68=0,CONCATENATE(\"поб.\",K62,\"/\",K70 ),IF(O68=1,K62,IF(O68=2,K70,\"Х\")))","v":"поб.поб./поб.//поб.поб.//СМИРНОВА"},null,null,{"$f":"IF(O68=1,N62,IF(O68=2,N70,\"\"))","v":""},null,null,null,null,null,null,null,{"$f":"IF(OR(G66=3,G66=0),0,(IF(G66=1,C63,C65)))","v":0},{"$f":"IF(OR(G66=3,G66=0),0,(IF(G66=1,C65,C63)))","v":0}]
[{"$f":"IF($C67=\"\",\"\",IF(AND($C67>=1,$C67<33),INDEX(ПодгОТ!$P$8:$P$39,C67),\"\"))","v":""},29,null,{"$f":"IF($C67=\"\",\"\",IF(AND($C67>=1,$C67<33),VLOOKUP($C67,ПодгОТ!$A$8:$AA$39,27),\"Х\"))","v":""},{"$f":"IF(AND($C67>=1,$C67<33),VLOOKUP($C67,ПодгОТ!$A$8:$P$39,15),\"\")","v":""},{"$f":"IF(AND($C67>=1,$C67<33),VLOOKUP($C67,ПодгОТ!$A$8:$P$39,6),\"\")","v":""},null,"Судья на вышке"]
[null,null,null,null,null,null,{"$f":"IF(G70=0,CONCATENATE(\"поб.\", D67,\"/\", D69),IF(G70=1,D67,IF(G70=2,D69,\"Х\")))","v":"поб./"},null,null,{"$f":"IF(G70=1,E67,IF(G70=2,E69,\"\"))","v":""},null,null,null,null,null,null,null,null,null,null,null,null,null,null,null,null,null,null,null,{"$f":"IF(OR(O68=0,O68=3),0,IF(O68=1,AB64,AB72))","v":0},{"$f":"IF(OR(O68=0,O68=3),0,IF(O68=1,AB72,AB64))","v":0}]
[{"$f":"IF($C69=\"\",\"\",IF(AND($C69>=1,$C69<33),INDEX(ПодгОТ!$P$8:$P$39,C69),\"\"))","v":""},30,null,{"$f":"IF($C69=\"\",\"\",IF(AND($C69>=1,$C69<33),VLOOKUP($C69,ПодгОТ!$A$8:$AA$39,27),\"Х\"))","v":""},{"$f":"IF(AND($C69>=1,$C69<33),VLOOKUP($C69,ПодгОТ!$A$8:$P$39,15),\"\")","v":""},{"$f":"IF(AND($C69>=1,$C69<33),VLOOKUP($C69,ПодгОТ!$A$8:$P$39,6),\"\")","v":""},null,null,null,null,null,null,null,null,null,"Судья на вышке"]
[null,null,null,null,null,null,null,null,null,null,{"$f":"IF(K72=0,CONCATENATE(\"поб.\",G68,\"/\",G72 ),IF(K72=1,G68,IF(K72=2,G72,\"Х\")))","v":"поб.поб.//СМИРНОВА"},null,null,{"$f":"IF(K72=1,J68,IF(K72=2,J72,\"\"))","v":""},null,null,null,null,null,null,null,null,null,null,null,{"$f":"IF(OR(G70=3,G70=0),0,(IF(G70=1,C67,C69)))","v":0},{"$f":"IF(OR(G70=3,G70=0),0,(IF(G70=1,C69,C67)))","v":0}]
[{"$f":"IF($C71=\"\",\"\",IF(AND($C71>=1,$C71<33),INDEX(ПодгОТ!$P$8:$P$39,C71),\"\"))","v":""},31,"Х",{"$f":"IF($C71=\"\",\"\",IF(AND($C71>=1,$C71<33),VLOOKUP($C71,ПодгОТ!$A$8:$AA$39,27),\"Х\"))","v":"Х"},{"$f":"IF(AND($C71>=1,$C71<33),VLOOKUP($C71,ПодгОТ!$A$8:$P$39,15),\"\")","v":""},{"$f":"IF(AND($C71>=1,$C71<33),VLOOKUP($C71,ПодгОТ!$A$8:$P$39,6),\"\")","v":""},null,"Судья на вышке",null,null,null,null,null,null,{"$f":"IF(ПолуфиналНеявка(T28),\"Х\",IF(S28=0,CONCATENATE(\"пр.\",O18,\"/\",O34),IF(S28=1,O34,IF(S28=2,O18,\"Х\"))))","v":"пр.поб.поб.КРАТЮК/поб.//поб.поб.///поб.поб./поб.//поб.поб.//"},null,null,null,"3 место"]
[null,null,null,null,null,null,{"$f":"IF(G74=0,CONCATENATE(\"поб.\", D71,\"/\", D73),IF(G74=1,D71,IF(G74=2,D73,\"Х\")))","v":"СМИРНОВА"},null,null,{"$f":"IF(G74=1,E71,IF(G74=2,E73,\"\"))","v":"С.А."},null,null,null,null,null,null,null,null,{"$f":"IF(S74=0,\"\",IF(S74=1,O71,IF(S74=2,O73,\"Х\")))","v":"пр.поб.поб.КРАТЮК/поб.//поб.поб.///поб.поб./поб.//поб.поб.//"},null,null,null,null,null,null,null,null,{"$f":"IF(OR(K72=0,K72=3),0,IF(K72=1,Z70,Z74))","v":0},{"$f":"IF(OR(K72=0,K72=3),0,IF(K72=1,Z74,Z70))","v":0}]
[{"$f":"IF($C73=\"\",\"2\",IF(AND($C73>=1,$C73<33),INDEX(ПодгОТ!$P$8:$P$39,C73),\"\"))","v":"2 "},32,2,{"$f":"IF($C73=\"\",\"\",IF(AND($C73>=1,$C73<33),VLOOKUP($C73,ПодгОТ!$A$8:$AA$39,27),\"Х\"))","v":"СМИРНОВА"},{"$f":"IF(AND($C73>=1,$C73<33),VLOOKUP($C73,ПодгОТ!$A$8:$P$39,15),\"\")","v":"С.А."},{"$f":"IF(AND($C73>=1,$C73<33),VLOOKUP($C73,ПодгОТ!$A$8:$P$39,6),\"\")","v":"Казань"},null,null,null,null,null,"Судья на вышке",null,null,{"$f":"IF(ПолуфиналНеявка(T60),\"Х\",IF(S60=0,CONCATENATE(\"пр.\",O50,\"/\",O66 ),IF(S60=1,O66,IF(S60=2,O50,\"Х\"))))","v":"пр.поб.поб./поб.//поб.поб.///поб.поб./поб.//поб.поб.//СМИРНОВА"}]
[null,null,null,null,null,null,2,null,null,null,null,null,null,null,null,null,null,null,1,null,null,null,null,null,null,{"$f":"IF(OR(G74=3,G74=0),0,(IF(G74=1,C71,C73)))","v":2},{"$f":"IF(OR(G74=3,G74=0),0,(IF(G74=1,C73,C71)))","v":"Х"}]
[null,null,null,null,null,null,null,null,null,null,null,null,null,null,null,null,null,null,null,"Судья на вышке"]
[]
["№","Сеяные игроки",null,null,null,"Очки","№","Ожидающий игрок",null,null,null,null,"Замененный игрок",null,null,null,"Присутствовали на жеребьевке"]
[1,{"$f":"IF(ПодгОТ!AD8=0,IF(ПодгОТ!B8=0,\"\",ПодгОТ!AA8),IF(ПодгОТ!AF8=0,\"\",ПодгОТ!AE8))","v":"КРАТЮК"},null,null,null,{"$f":"IF(ПодгОТ!AD8=0,IF(ПодгОТ!B8=0,\"\",ПодгОТ!B8),IF(ПодгОТ!AF8=0,\"\",ПодгОТ!AF8))","v":228}]
[2,{"$f":"IF(ПодгОТ!AD9=0,IF(ПодгОТ!B9=0,\"\",ПодгОТ!AA9),IF(ПодгОТ!AF9=0,\"\",ПодгОТ!AE9))","v":"СМИРНОВА"},null,null,null,{"$f":"IF(ПодгОТ!AD9=0,IF(ПодгОТ!B9=0,\"\",ПодгОТ!B9),IF(ПодгОТ!AF9=0,\"\",ПодгОТ!AF9))","v":112}]
[3,{"$f":"IF(ПодгОТ!AD10=0,IF(ПодгОТ!B10=0,\"\",ПодгОТ!AA10),IF(ПодгОТ!AF10=0,\"\",ПодгОТ!AE10))","v":"ШАФИГУЛЛИНА"},null,null,null,{"$f":"IF(ПодгОТ!AD10=0,IF(ПодгОТ!B10=0,\"\",ПодгОТ!B10),IF(ПодгОТ!AF10=0,\"\",ПодгОТ!AF10))","v":109},null,null,null,null,null,null,null,null,null,null,"Дата жеребьевки",null,null,null,"Время жеребьевки"]
[4,{"$f":"IF(ПодгОТ!AD11=0,IF(ПодгОТ!B11=0,\"\",ПодгОТ!AA11),IF(ПодгОТ!AF11=0,\"\",ПодгОТ!AE11))","v":"СЕДОВА"},null,null,null,{"$f":"IF(ПодгОТ!AD11=0,IF(ПодгОТ!B11=0,\"\",ПодгОТ!B11),IF(ПодгОТ!AF11=0,\"\",ПодгОТ!AF11))","v":107}]
[5,{"$f":"IF(ПодгОТ!AD12=0,IF(ПодгОТ!B12=0,\"\",ПодгОТ!AA12),IF(ПодгОТ!AF12=0,\"\",ПодгОТ!AE12))","v":"ГАВРИЛОВА"},null,null,null,{"$f":"IF(ПодгОТ!AD12=0,IF(ПодгОТ!B12=0,\"\",ПодгОТ!B12),IF(ПодгОТ!AF12=0,\"\",ПодгОТ!AF12))","v":96},null,null,null,null,null,null,null,null,null,null,"Главный судья"]
[6,{"$f":"IF(ПодгОТ!AD13=0,IF(ПодгОТ!B13=0,\"\",ПодгОТ!AA13),IF(ПодгОТ!AF13=0,\"\",ПодгОТ!AE13))","v":"ЕГОРОВА АЛИНА"},null,null,null,{"$f":"IF(ПодгОТ!AD13=0,IF(ПодгОТ!B13=0,\"\",ПодгОТ!B13),IF(ПодгОТ!AF13=0,\"\",ПодгОТ!AF13))","v":96},null,null,null,null,null,null,null,null,null,null,null,null,null,null,{"$f":"UPPER(Установка!C11)","v":"СИТНИКОВ Д.В."}]
[7,{"$f":"IF(ПодгОТ!AD14=0,IF(ПодгОТ!B14=0,\"\",ПодгОТ!AA14),IF(ПодгОТ!AF14=0,\"\",ПодгОТ!AE14))","v":"ЛИЗУНОВА"},null,null,null,{"$f":"IF(ПодгОТ!AD14=0,IF(ПодгОТ!B14=0,\"\",ПодгОТ!B14),IF(ПодгОТ!AF14=0,\"\",ПодгОТ!AF14))","v":79}]
[8,{"$f":"IF(ПодгОТ!AD15=0,IF(ПодгОТ!B15=0,\"\",ПодгОТ!AA15),IF(ПодгОТ!AF15=0,\"\",ПодгОТ!AE15))","v":"РАЕВСКАЯ"},null,null,null,{"$f":"IF(ПодгОТ!AD15=0,IF(ПодгОТ!B15=0,\"\",ПодгОТ!B15),IF(ПодгОТ!AF15=0,\"\",ПодгОТ!AF15))","v":75},null,null,null,null,null,null,null,null,null,null,"Подпись",null,null,null,"Фамилия И.О."]
[]
[]
[]
[]
[]
[]
[]
[]
[]
[]
[]
[]
[]
[]
[]
[]
[]
[]
[]
[]
[]
[]
[]
[]
[]
[]
[]
[]
[]
[]
[]
[]
[]
[]
[]
[]
[]
[]
[]
[]
[]
[]
[]
[]
[]
[]
[]
[]
[]
[]
[]
[]
[]
[]
[]
[]
[]
[]
[]
[]
[]
[]
[]
[null,null,"Матч за 3м",null,null,null,null,"Замен в таблице ДИ"]
[null,null,false,null,null,null,null,{"$f":"COUNTA(H78:L85)","v":0}]
[]
[]
[]
[null,null,null,null,null,null,"Начальные позиции замен"]
[null,null,null,null,null,null,{"$f":"ROW(G78)","v":78},{"$f":"ROW(H78)","v":78},null,null,{"$f":"ROW(M78)","v":78}]
[null,null,null,null,null,null,{"$f":"COLUMN(G78)","v":7},{"$f":"COLUMN(H78)","v":8},null,null,{"$f":"COLUMN(M78)","v":13}]
[]
[]
[]
[]
[]
[]
[]
[]
[]
[]
[]
[]
[]
[]
[]
[]
[]
[]
[]
[]
[]
[]
[]
[]
[]
[]
[]
[]
[]
[]
[]
[]
[]
[]
[]
[]
[]
[]
[]
[]
[]
[]
[]
[]
[]
[]
[]
[]
[]
[]
[]
[]
[]
[]
[]
[]
[]
[]
[]
[]
[]
[]
[]
[]
[]
[]
[]
[]
[]
[]
[]
[]
[]
[]
[]
[]
[]
[]
[]
[]
[]
[]
[]
[]
[]
[]
[]
[]
[]
[]
[]
[]
[]
["ВЗРОСЛЫЕ",{"$f":"IF($G$6=\"ВЗРОСЛЫЕ\",\"МУЖЧИНЫ\",IF($G$6=\"ДО 19 ЛЕТ\",\"ЮНИОРЫ\",\"ЮНОШИ\"))","v":"ЮНОШИ"},"ФТ","-","Судья на вышке",null,null,null,{"$f":"COUNTA(H78:L85)","v":0}]
["ДО 19 ЛЕТ",{"$f":"IF($G$6=\"ВЗРОСЛЫЕ\",\"ЖЕНЩИНЫ\",IF($G$6=\"ДО 19 ЛЕТ\",\"ЮНИОРКИ\",\"ДЕВУШКИ\"))","v":"ДЕВУШКИ"},"I","А",{"$f":"СписокСудей!T5","v":""}]
["ДО 17 ЛЕТ",null,"II","Б",{"$f":"СписокСудей!T6","v":""}]
["ДО 15 ЛЕТ",null,"III","В",{"$f":"СписокСудей!T7","v":""}]
["ДО 13 ЛЕТ",null,"IV","Г",{"$f":"СписокСудей!T8","v":""}]
["9-10 ЛЕТ",null,"V",null,{"$f":"СписокСудей!T9","v":""}]
[null,null,"VI",null,{"$f":"СписокСудей!T10","v":""}]
[null,null,null,null,{"$f":"СписокСудей!T11","v":""}]
[null,null,null,null,{"$f":"СписокСудей!T12","v":""}]
[null,null,null,null,{"$f":"СписокСудей!T13","v":""}]
[null,null,null,null,{"$f":"СписокСудей!T14","v":""}]
[null,null,null,null,{"$f":"СписокСудей!T15","v":""}]
[null,null,null,null,{"$f":"СписокСудей!T16","v":""}]
[null,null,null,null,{"$f":"СписокСудей!T17","v":""}]
[null,null,null,null,{"$f":"СписокСудей!T18","v":""}]
[null,null,null,null,{"$f":"СписокСудей!T19","v":""}]
[null,null,null,null,{"$f":"СписокСудей!T20","v":""}]
[null,null,null,null,{"$f":"СписокСудей!T21","v":""}]
[null,null,null,null,{"$f":"СписокСудей!T22","v":""}]
[null,null,null,null,{"$f":"СписокСудей!T23","v":""}]
[null,null,null,null,{"$f":"СписокСудей!T24","v":""}]
[null,null,null,null,{"$f":"СписокСудей!T25","v":""}]
[null,null,null,null,{"$f":"СписокСудей!T26","v":""}]
[null,null,null,null,{"$f":"СписокСудей!T27","v":""}]
[null,null,null,null,{"$f":"СписокСудей!T28","v":""}]
[null,null,null,null,{"$f":"СписокСудей!T29","v":""}]
[null,null,null,null,{"$f":"СписокСудей!T30","v":""}]
[null,null,null,null,{"$f":"СписокСудей!T31","v":""}]
[null,null,null,null,{"$f":"СписокСудей!T32","v":""}]
[null,null,null,null,{"$f":"СписокСудей!T33","v":""}]
[null,null,null,null,{"$f":"СписокСудей!T34","v":""}]
[null,null,null,null,2]

{"sheet":"ОТ16","index":10,"n_rows":231,"n_cols":31,"rows_kept":231,"cut":false,"hidden":false,"merged":[[47,7,47,10],[55,7,55,10],[54,7,54,10],[51,19,51,21],[49,7,49,10],[53,15,54,18],[50,11,50,14],[49,11,49,14],[55,15,55,18],[55,19,55,21],[47,15,47,21],[49,15,49,21],[51,15,51,18],[50,7,50,10],[50,15,50,18],[50,19,50,21],[36,0,37,0],[36,1,37,1],[34,0,35,0],[40,0,41,0],[40,1,41,1],[40,2,41,2],[38,0,39,0],[38,1,39,1],[38,3,39,3],[34,1,35,1],[34,3,35,3],[36,4,37,4],[34,4,35,4],[34,5,35,5],[32,2,33,2],[32,3,33,3],[32,5,33,5],[38,4,39,4],[36,3,37,3],[32,4,33,4],[32,1,33,1],[43,19,43,21],[41,7,41,9],[39,6,40,8],[39,9,40,9],[40,18,40,21],[41,18,42,21],[36,5,37,5],[39,11,39,13],[38,19,38,21],[37,19,37,21],[39,15,39,17],[38,15,38,17],[37,13,38,13],[38,5,39,5],[38,7,38,9],[37,7,37,9],[42,7,43,8],[37,10,38,12],[37,15,37,17],[36,19,36,21],[34,7,34,9],[34,11,34,13],[35,11,35,13],[35,6,36,8],[40,11,40,12],[34,2,35,2],[38,2,39,2],[36,2,37,2],[36,15,36,17],[30,4,31,4],[32,19,32,21],[31,11,31,13],[31,15,31,17],[32,11,32,13],[32,15,32,17],[30,5,31,5],[30,7,30,9],[33,19,33,21],[35,19,35,21],[35,9,36,9],[36,11,36,13],[34,19,34,21],[33,11,33,13],[33,17,34,17],[33,14,34,16],[35,15,35,17],[40,13,41,16],[30,0,31,0],[30,1,31,1],[30,2,31,2],[30,3,31,3],[26,0,27,0],[29,19,29,21],[30,19,30,21],[31,19,31,21],[29,7,29,9],[29,10,30,12],[29,13,30,13],[29,15,29,17],[30,15,30,17],[31,6,32,8],[31,9,32,9],[32,0,33,0],[26,1,27,1],[26,2,27,2],[26,3,27,3],[28,4,29,4],[28,5,29,5],[26,4,27,4],[26,5,27,5],[28,0,29,0],[28,1,29,1],[28,2,29,2],[28,3,29,3],[27,19,27,21],[28,11,28,13],[28,15,28,17],[27,11,27,13],[27,15,27,17],[26,7,26,9],[27,6,28,8],[26,11,26,13],[26,15,26,17],[28,19,28,21],[22,15,22,17],[21,10,22,12],[21,13,22,13],[21,15,21,17],[23,15,23,17],[20,4,21,4],[19,6,20,8],[25,7,25,9],[25,11,25,13],[25,15,25,17],[24,5,25,5],[24,11,24,13],[24,15,24,17],[23,9,24,9],[23,11,23,13],[22,5,23,5],[23,6,24,8],[24,4,25,4],[22,1,23,1],[22,2,23,2],[22,3,23,3],[24,0,25,0],[24,1,25,1],[24,2,25,2],[24,3,25,3],[22,0,23,0],[22,4,23,4],[20,0,21,0],[20,1,21,1],[20,2,21,2],[18,0,19,0],[18,1,19,1],[18,2,19,2],[16,0,17,0],[16,1,17,1],[16,2,17,2],[12,0,13,0],[14,0,15,0],[14,1,15,1],[14,2,15,2],[0,0,0,21],[2,0,2,21],[3,0,3,21],[1,0,1,21],[5,18,5,19],[10,2,11,2],[7,0,9,0],[7,1,9,1],[8,16,9,19],[5,0,5,3],[8,12,8,15],[7,2,9,2],[7,3,9,3],[10,3,11,3],[4,20,4,21],[4,18,4,19],[4,0,4,3],[4,6,4,11],[10,5,11,5],[10,0,11,0],[10,1,11,1],[4,12,4,16],[9,8,9,11],[8,30,9,30],[8,25,9,25],[8,26,9,26],[8,27,9,27],[8,28,9,28],[8,29,9,29],[4,4,4,5],[5,4,5,5],[7,4,9,4],[9,12,9,15],[5,12,5,16],[5,6,5,11],[7,5,9,5],[15,19,15,21],[14,19,14,21],[5,20,5,21],[22,19,22,21],[25,18,26,21],[23,19,23,21],[24,19,24,21],[18,7,18,9],[15,9,16,9],[16,11,16,13],[15,11,15,13],[17,14,18,16],[19,11,19,13],[20,11,20,13],[19,9,20,9],[21,7,21,9],[22,7,22,9],[17,17,18,17],[18,11,18,13],[14,15,14,17],[15,15,15,17],[12,19,12,21],[11,19,11,21],[12,15,12,17],[16,5,17,5],[17,7,17,9],[12,5,13,5],[11,9,12,9],[14,7,14,9],[21,19,21,21],[19,19,19,21],[19,15,19,17],[16,15,16,17],[16,19,16,21],[18,19,18,21],[17,19,17,21],[17,11,17,13],[11,15,11,17],[13,10,14,12],[12,11,12,13],[11,11,11,13],[20,5,21,5],[18,5,19,5],[13,19,13,21],[13,15,13,17],[13,13,14,13],[20,15,20,17],[20,19,20,21],[12,4,13,4],[11,6,12,8],[10,4,11,4],[48,7,48,10],[8,8,8,11],[47,1,47,4],[48,1,48,4],[27,9,28,9],[33,7,33,9],[48,11,48,14],[47,11,47,12],[40,3,41,3],[12,3,13,3],[13,7,13,9],[12,1,13,1],[12,2,13,2],[14,5,15,5],[18,3,19,3],[18,4,19,4],[14,3,15,3],[20,3,21,3],[40,5,41,5],[14,4,15,4],[16,3,17,3],[16,4,17,4],[15,6,16,8],[229,4,229,6],[230,4,230,6],[224,4,224,6],[225,4,225,6],[226,4,226,6],[227,4,227,6],[40,4,41,4],[202,4,202,6],[50,1,50,4],[55,1,55,4],[54,1,54,4],[51,1,51,4],[53,1,53,4],[52,1,52,4],[49,1,49,4],[228,4,228,6],[217,4,217,6],[218,4,218,6],[219,4,219,6],[204,4,204,6],[205,4,205,6],[221,4,221,6],[206,4,206,6],[220,4,220,6],[211,4,211,6],[223,4,223,6],[216,4,216,6],[207,4,207,6],[208,4,208,6],[209,4,209,6],[214,4,214,6],[215,4,215,6],[210,4,210,6],[222,4,222,6],[212,4,212,6],[213,4,213,6],[42,13,43,16],[203,4,203,6],[199,4,199,6],[200,4,200,6],[201,4,201,6],[55,11,55,14],[54,11,54,14],[52,11,52,14],[53,11,53,14],[51,7,51,10],[52,15,52,21],[53,7,53,10],[52,7,52,10],[51,11,51,14],[53,19,54,21],[44,19,45,21],[155,7,155,8],[155,10,155,11],[148,7,148,11],[149,7,149,11],[153,6,153,11],[154,7,154,8],[154,10,154,11],[48,15,48,21]]}
["ОСНОВНОЙ ТУРНИР ЛИЧНОГО ТУРНИРА РТТ В ОДИНОЧНОМ РАЗРЯДЕ"]
["Название турнира"]
[{"$f":"UPPER(Установка!C3)","v":"ПЕРВЕНСТВО РЕСПУБЛИКИ ТАТАРСТАН"}]
[]
["Место проведения",null,null,null,"Сроки проведения",null,"Возрастная группа",null,null,null,null,null,"Пол игроков",null,null,null,null,null,"Категория",null,"Класс"]
[{"$f":"UPPER(Установка!C6)","v":"КАЗАНЬ"},null,null,null,{"$f":"UPPER(Установка!C7)","v":"18-24.11.2017."},null,{"$f":"UPPER(Установка!C4)","v":"9-10 ЛЕТ"},null,null,null,null,null,{"$f":"IF(Установка!$C$5=\"\",\"Ю/Д/М/Ж\",UPPER(Установка!$C$5))","v":"ДЕВУШКИ"},null,null,null,null,null,{"$f":"UPPER(Установка!D8)","v":"IV"},null,{"$f":"UPPER(Установка!E8)","v":"Б"}]
[null,null,0]
["Статус игрока","№ строк",{"$f":"MAX(C11:C42)+1","v":3},"Фамилия","И.О.","Город (страна)"]
[null,null,null,null,null,null,null,null,"1/4",null,null,null,"1/2",null,null,null,"Финал",null,null,null,null,null,null,null,null,"Победители 1/16","Проигравшие 1/16","Победители \n1/8","Проигравшие 1/8","Победители 1/4","Проигравшие 1/4"]
[null,null,null,null,null,null,null,null,"финала",null,null,null,"финала"]
[{"$f":"IF($C11=\"\",\"1\",IF(AND($C11>=1,$C11<17),INDEX(ПодгОТ!$P$8:$P$23,C11),\"\"))","v":"1 "},1,1,{"$f":"IF($C11=\"\",\"\",IF(AND($C11>=1,$C11<17),VLOOKUP($C11,ПодгОТ!$A$8:$AA$23,27),\"Х\"))","v":"КРАТЮК"},{"$f":"IF(AND($C11>=1,$C11<17),VLOOKUP($C11,ПодгОТ!$A$8:$P$23,15),\"\")","v":"П.А."},{"$f":"IF(AND($C11>=1,$C11<17),VLOOKUP($C11,ПодгОТ!$A$8:$P$23,6),\"\")","v":"Казань"}]
[null,null,null,null,null,null,{"$f":"IF(G14=0,CONCATENATE(\"поб.\",D11, \"/\",D13),IF(G14=1,D11,IF(G14=2,D13,\"Х\")))","v":"поб.КРАТЮК/"},null,null,{"$f":"IF(G14=1,E11,IF(G14=2,E13,\"\"))","v":""}]
[{"$f":"IF($C13=\"\",\"\",IF(AND($C13>=1,$C13<17),INDEX(ПодгОТ!$P$8:$P$23,C13),\"\"))","v":""},2,null,{"$f":"IF($C13=\"\",\"\",IF(AND($C13>=1,$C13<17),VLOOKUP($C13,ПодгОТ!$A$8:$AA$23,27),\"Х\"))","v":""},{"$f":"IF(AND($C13>=1,$C13<17),VLOOKUP($C13,ПодгОТ!$A$8:$P$23,15),\"\")","v":""},{"$f":"IF(AND($C13>=1,$C13<17),VLOOKUP($C13,ПодгОТ!$A$8:$P$23,6),\"\")","v":""}]
[null,null,null,null,null,null,null,null,null,null,{"$f":"IF(K16=0,CONCATENATE(\"поб.\",G12, \"/\",G16),IF(K16=1,G12,IF(K16=2,G16,\"Х\")))","v":"поб.поб.КРАТЮК//поб./"},null,null,{"$f":"IF(K16=1,J12,IF(K16=2,J16,\"\"))","v":""},null,null,null,null,null,null,null,null,null,null,null,{"$f":"IF(OR(G14=3,G14=0),0,(IF(G14=1,C11,C13)))","v":0},{"$f":"IF(OR(G14=3,G14=0),0,(IF(G14=1,C13,C11)))","v":0}]
[{"$f":"IF($C15=\"\",\"\",IF(AND($C15>=1,$C15<17),INDEX(ПодгОТ!$P$8:$P$23,C15),\"\"))","v":""},3,null,{"$f":"IF($C15=\"\",\"\",IF(AND($C15>=1,$C15<17),VLOOKUP($C15,ПодгОТ!$A$8:$AA$23,27),\"Х\"))","v":""},{"$f":"IF(AND($C15>=1,$C15<17),VLOOKUP($C15,ПодгОТ!$A$8:$P$23,15),\"\")","v":""},{"$f":"IF(AND($C15>=1,$C15<17),VLOOKUP($C15,ПодгОТ!$A$8:$P$23,6),\"\")","v":""},null,"Судья на вышке"]
[null,null,null,null,null,null,{"$f":"IF(G18=0,CONCATENATE(\"поб.\",D15, \"/\",D17),IF(G18=1,D15,IF(G18=2,D17,\"Х\")))","v":"поб./"},null,null,{"$f":"IF(G18=1,E15,IF(G18=2,E17,\"\"))","v":""},null,null,null,null,null,null,null,null,null,null,null,null,null,null,null,null,null,{"$f":"IF(OR(G14=3,G14=0),0,(IF(G14=1,C11,C13)))","v":0},{"$f":"IF(OR(G14=3,G14=0),0,(IF(G14=1,C13,C11)))","v":0}]
[{"$f":"IF($C17=\"\",\"\",IF(AND($C17>=1,$C17<17),INDEX(ПодгОТ!$P$8:$P$23,C17),\"\"))","v":""},4,null,{"$f":"IF($C17=\"\",\"\",IF(AND($C17>=1,$C17<17),VLOOKUP($C17,ПодгОТ!$A$8:$AA$23,27),\"Х\"))","v":""},{"$f":"IF(AND($C17>=1,$C17<17),VLOOKUP($C17,ПодгОТ!$A$8:$P$23,15),\"\")","v":""},{"$f":"IF(AND($C17>=1,$C17<17),VLOOKUP($C17,ПодгОТ!$A$8:$P$23,6),\"\")","v":""},null,null,null,null,null,"Судья на вышке"]
[null,null,null,null,null,null,null,null,null,null,null,null,null,null,{"$f":"IF(O20=0,CONCATENATE(\"поб.\",K14, \"/\",K22),IF(O20=1,K14,IF(O20=2,K22,\"Х\")))","v":"поб.поб.поб.КРАТЮК//поб.//поб.поб.//поб./"},null,null,{"$f":"IF(O20=1,N14,IF(O20=2,N22,\"\"))","v":""},null,null,null,null,null,null,null,{"$f":"IF(OR(G18=3,G18=0),0,(IF(G18=1,C15,C17)))","v":0},{"$f":"IF(OR(G18=3,G18=0),0,(IF(G18=1,C17,C15)))","v":0}]
[{"$f":"IF($C19=\"\",\"3 или 4\",IF(AND($C19>=1,$C19<17),INDEX(ПодгОТ!$P$8:$P$23,C19),\"\"))","v":"3 или 4"},5,null,{"$f":"IF($C19=\"\",\"\",IF(AND($C19>=1,$C19<17),VLOOKUP($C19,ПодгОТ!$A$8:$AA$23,27),\"Х\"))","v":""},{"$f":"IF(AND($C19>=1,$C19<17),VLOOKUP($C19,ПодгОТ!$A$8:$P$23,15),\"\")","v":""},{"$f":"IF(AND($C19>=1,$C19<17),VLOOKUP($C19,ПодгОТ!$A$8:$P$23,6),\"\")","v":""},null,"Судья на вышке"]
[null,null,null,null,null,null,{"$f":"IF(G22=0,CONCATENATE(\"поб.\",D19, \"/\",D21),IF(G22=1,D19,IF(G22=2,D21,\"Х\")))","v":"поб./"},null,null,{"$f":"IF(G22=1,E19,IF(G22=2,E21,\"\"))","v":""},null,null,null,null,null,null,null,null,null,null,null,null,null,null,null,null,null,null,null,{"$f":"IF(OR(K16=0,K16=3),0,IF(K16=1,Z14,Z18))","v":0},{"$f":"IF(OR(K16=0,K16=3),0,IF(K16=1,Z18,Z14))","v":0}]
[{"$f":"IF($C21=\"\",\"\",IF(AND($C21>=1,$C21<17),INDEX(ПодгОТ!$P$8:$P$23,C21),\"\"))","v":""},6,null,{"$f":"IF($C21=\"\",\"\",IF(AND($C21>=1,$C21<17),VLOOKUP($C21,ПодгОТ!$A$8:$AA$23,27),\"Х\"))","v":""},{"$f":"IF(AND($C21>=1,$C21<17),VLOOKUP($C21,ПодгОТ!$A$8:$P$23,15),\"\")","v":""},{"$f":"IF(AND($C21>=1,$C21<17),VLOOKUP($C21,ПодгОТ!$A$8:$P$23,6),\"\")","v":""},null,null,null,null,null,null,null,null,null,"Судья на вышке"]
[null,null,null,null,null,null,null,null,null,null,{"$f":"IF(K24=0,CONCATENATE(\"поб.\",G20, \"/\",G24),IF(K24=1,G20,IF(K24=2,G24,\"Х\")))","v":"поб.поб.//поб./"},null,null,{"$f":"IF(K24=1,J20,IF(K24=2,J24,\"\"))","v":""},null,null,null,null,null,null,null,null,null,null,null,{"$f":"IF(OR(G22=3,G22=0),0,(IF(G22=1,C19,C21)))","v":0},{"$f":"IF(OR(G22=3,G22=0),0,(IF(G22=1,C21,C19)))","v":0}]
[{"$f":"IF($C23=\"\",\"\",IF(AND($C23>=1,$C23<17),INDEX(ПодгОТ!$P$8:$P$23,C23),\"\"))","v":""},7,null,{"$f":"IF($C23=\"\",\"\",IF(AND($C23>=1,$C23<17),VLOOKUP($C23,ПодгОТ!$A$8:$AA$23,27),\"Х\"))","v":""},{"$f":"IF(AND($C23>=1,$C23<17),VLOOKUP($C23,ПодгОТ!$A$8:$P$23,15),\"\")","v":""},{"$f":"IF(AND($C23>=1,$C23<17),VLOOKUP($C23,ПодгОТ!$A$8:$P$23,6),\"\")","v":""},null,"Судья на вышке"]
[null,null,null,null,null,null,{"$f":"IF(G26=0,CONCATENATE(\"поб.\",D23, \"/\",D25),IF(G26=1,D23,IF(G26=2,D25,\"Х\")))","v":"поб./"},null,null,{"$f":"IF(G26=1,E23,IF(G26=2,E25,\"\"))","v":""},null,null,null,null,null,null,null,null,null,null,null,null,null,null,null,null,null,{"$f":"IF(OR(G18=3,G18=0),0,(IF(G18=1,C15,C17)))","v":0},{"$f":"IF(OR(G18=3,G18=0),0,(IF(G18=1,C17,C15)))","v":0}]
[{"$f":"IF($C25=\"\",\"\",IF(AND($C25>=1,$C25<17),INDEX(ПодгОТ!$P$8:$P$23,C25),\"\"))","v":""},8,null,{"$f":"IF($C25=\"\",\"\",IF(AND($C25>=1,$C25<17),VLOOKUP($C25,ПодгОТ!$A$8:$AA$23,27),\"Х\"))","v":""},{"$f":"IF(AND($C25>=1,$C25<17),VLOOKUP($C25,ПодгОТ!$A$8:$P$23,15),\"\")","v":""},{"$f":"IF(AND($C25>=1,$C25<17),VLOOKUP($C25,ПодгОТ!$A$8:$P$23,6),\"\")","v":""},null,null,null,null,null,"Судья на вышке"]
[null,null,null,null,null,null,null,null,null,null,null,null,null,null,null,null,null,null,{"$f":"IF(S28=0,CONCATENATE(\"поб.\",O18, \"/\",O34),IF(S28=1,O18,IF(S28=2,O34,\"Х\")))","v":"поб.поб.поб.поб.КРАТЮК//поб.//поб.поб.//поб.//поб.поб.поб.//поб.//поб.поб.//поб./СМИРНОВА"},null,null,null,null,null,null,{"$f":"IF(OR(G26=3,G26=0),0,(IF(G26=1,C23,C25)))","v":0},{"$f":"IF(OR(G26=3,G26=0),0,(IF(G26=1,C25,C23)))","v":0}]
[{"$f":"IF($C27=\"\",\"\",IF(AND($C27>=1,$C27<17),INDEX(ПодгОТ!$P$8:$P$23,C27),\"\"))","v":""},9,null,{"$f":"IF($C27=\"\",\"\",IF(AND($C27>=1,$C27<17),VLOOKUP($C27,ПодгОТ!$A$8:$AA$23,27),\"Х\"))","v":""},{"$f":"IF(AND($C27>=1,$C27<17),VLOOKUP($C27,ПодгОТ!$A$8:$P$23,15),\"\")","v":""},{"$f":"IF(AND($C27>=1,$C27<17),VLOOKUP($C27,ПодгОТ!$A$8:$P$23,6),\"\")","v":""},null,"Судья на вышке"]
[null,null,null,null,null,null,{"$f":"IF(G30=0,CONCATENATE(\"поб.\",D27, \"/\",D29),IF(G30=1,D27,IF(G30=2,D29,\"Х\")))","v":"поб./"},null,null,{"$f":"IF(G30=1,E27,IF(G30=2,E29,\"\"))","v":""}]
[{"$f":"IF($C29=\"\",\"\",IF(AND($C29>=1,$C29<17),INDEX(ПодгОТ!$P$8:$P$23,C29),\"\"))","v":""},10,null,{"$f":"IF($C29=\"\",\"\",IF(AND($C29>=1,$C29<17),VLOOKUP($C29,ПодгОТ!$A$8:$AA$23,27),\"Х\"))","v":""},{"$f":"IF(AND($C29>=1,$C29<17),VLOOKUP($C29,ПодгОТ!$A$8:$P$23,15),\"\")","v":""},{"$f":"IF(AND($C29>=1,$C29<17),VLOOKUP($C29,ПодгОТ!$A$8:$P$23,6),\"\")","v":""},null,null,null,null,null,null,null,null,null,null,null,null,null,"Судья на вышке"]
[null,null,null,null,null,null,null,null,null,null,{"$f":"IF(K32=0,CONCATENATE(\"поб.\",G28, \"/\",G32),IF(K32=1,G28,IF(K32=2,G32,\"Х\")))","v":"поб.поб.//поб./"},null,null,{"$f":"IF(K32=1,J28,IF(K32=2,J32,\"\"))","v":""},null,null,null,null,null,null,null,null,null,null,null,{"$f":"IF(OR(G30=3,G30=0),0,(IF(G30=1,C27,C29)))","v":0},{"$f":"IF(OR(G30=3,G30=0),0,(IF(G30=1,C29,C27)))","v":0}]
[{"$f":"IF($C31=\"\",\"\",IF(AND($C31>=1,$C31<17),INDEX(ПодгОТ!$P$8:$P$23,C31),\"\"))","v":""},11,null,{"$f":"IF($C31=\"\",\"\",IF(AND($C31>=1,$C31<17),VLOOKUP($C31,ПодгОТ!$A$8:$AA$23,27),\"Х\"))","v":""},{"$f":"IF(AND($C31>=1,$C31<17),VLOOKUP($C31,ПодгОТ!$A$8:$P$23,15),\"\")","v":""},{"$f":"IF(AND($C31>=1,$C31<17),VLOOKUP($C31,ПодгОТ!$A$8:$P$23,6),\"\")","v":""},null,"Судья на вышке"]
[null,null,null,null,null,null,{"$f":"IF(G34=0,CONCATENATE(\"поб.\",D31, \"/\",D33),IF(G34=1,D31,IF(G34=2,D33,\"Х\")))","v":"поб./"},null,null,{"$f":"IF(G34=1,E31,IF(G34=2,E33,\"\"))","v":""},null,null,null,null,null,null,null,null,null,null,null,null,null,null,null,null,null,{"$f":"IF(OR(G22=3,G22=0),0,(IF(G22=1,C19,C21)))","v":0},{"$f":"IF(OR(G22=3,G22=0),0,(IF(G22=1,C21,C19)))","v":0}]
[{"$f":"IF($C33=\"\",\"3 или 4\",IF(AND($C33>=1,$C33<17),INDEX(ПодгОТ!$P$8:$P$23,C33),\"\"))","v":"3 или 4"},12,null,{"$f":"IF($C33=\"\",\"\",IF(AND($C33>=1,$C33<17),VLOOKUP($C33,ПодгОТ!$A$8:$AA$23,27),\"Х\"))","v":""},{"$f":"IF(AND($C33>=1,$C33<17),VLOOKUP($C33,ПодгОТ!$A$8:$P$23,15),\"\")","v":""},{"$f":"IF(AND($C33>=1,$C33<17),VLOOKUP($C33,ПодгОТ!$A$8:$P$23,6),\"\")","v":""},null,null,null,null,null,"Судья на вышке"]
[null,null,null,null,null,null,null,null,null,null,null,null,null,null,{"$f":"IF(O36=0,CONCATENATE(\"поб.\",K30, \"/\",K38),IF(O36=1,K30,IF(O36=2,K38,\"Х\")))","v":"поб.поб.поб.//поб.//поб.поб.//поб./СМИРНОВА"},null,null,{"$f":"IF(O36=1,N30,IF(O36=2,N38,\"\"))","v":""},null,null,null,null,null,null,null,{"$f":"IF(OR(G34=3,G34=0),0,(IF(G34=1,C31,C33)))","v":0},{"$f":"IF(OR(G34=3,G34=0),0,(IF(G34=1,C33,C31)))","v":0}]
[{"$f":"IF($C35=\"\",\"\",IF(AND($C35>=1,$C35<17),INDEX(ПодгОТ!$P$8:$P$23,C35),\"\"))","v":""},13,null,{"$f":"IF($C35=\"\",\"\",IF(AND($C35>=1,$C35<17),VLOOKUP($C35,ПодгОТ!$A$8:$AA$23,27),\"Х\"))","v":""},{"$f":"IF(AND($C35>=1,$C35<17),VLOOKUP($C35,ПодгОТ!$A$8:$P$23,15),\"\")","v":""},{"$f":"IF(AND($C35>=1,$C35<17),VLOOKUP($C35,ПодгОТ!$A$8:$P$23,6),\"\")","v":""},null,"Судья на вышке"]
[null,null,null,null,null,null,{"$f":"IF(G38=0,CONCATENATE(\"поб.\",D35, \"/\",D37),IF(G38=1,D35,IF(G38=2,D37,\"Х\")))","v":"поб./"},null,null,{"$f":"IF(G38=1,E35,IF(G38=2,E37,\"\"))","v":""},null,null,null,null,null,null,null,null,null,null,null,null,null,null,null,null,null,null,null,{"$f":"IF(OR(K24=0,K24=3),0,IF(K24=1,Z22,Z26))","v":0},{"$f":"IF(OR(K24=0,K24=3),0,IF(K24=1,Z26,Z22))","v":0}]
[{"$f":"IF($C37=\"\",\"\",IF(AND($C37>=1,$C37<17),INDEX(ПодгОТ!$P$8:$P$23,C37),\"\"))","v":""},14,null,{"$f":"IF($C37=\"\",\"\",IF(AND($C37>=1,$C37<17),VLOOKUP($C37,ПодгОТ!$A$8:$AA$23,27),\"Х\"))","v":""},{"$f":"IF(AND($C37>=1,$C37<17),VLOOKUP($C37,ПодгОТ!$A$8:$P$23,15),\"\")","v":""},{"$f":"IF(AND($C37>=1,$C37<17),VLOOKUP($C37,ПодгОТ!$A$8:$P$23,6),\"\")","v":""},null,null,null,null,null,null,null,null,null,"Судья на вышке"]
[null,null,null,null,null,null,null,null,null,null,{"$f":"IF(K40=0,CONCATENATE(\"поб.\",G36, \"/\",G40),IF(K40=1,G36,IF(K40=2,G40,\"Х\")))","v":"поб.поб.//поб./СМИРНОВА"},null,null,{"$f":"IF(K40=1,J36,IF(K40=2,J40,\"\"))","v":""},null,null,null,null,null,null,null,null,null,null,null,{"$f":"IF(OR(G38=3,G38=0),0,(IF(G38=1,C35,C37)))","v":0},{"$f":"IF(OR(G38=3,G38=0),0,(IF(G38=1,C37,C35)))","v":0}]
[{"$f":"IF($C39=\"\",\"\",IF(AND($C39>=1,$C39<17),INDEX(ПодгОТ!$P$8:$P$23,C39),\"\"))","v":""},15,null,{"$f":"IF($C39=\"\",\"\",IF(AND($C39>=1,$C39<17),VLOOKUP($C39,ПодгОТ!$A$8:$AA$23,27),\"Х\"))","v":""},{"$f":"IF(AND($C39>=1,$C39<17),VLOOKUP($C39,ПодгОТ!$A$8:$P$23,15),\"\")","v":""},{"$f":"IF(AND($C39>=1,$C39<17),VLOOKUP($C39,ПодгОТ!$A$8:$P$23,6),\"\")","v":""},null,"Судья на вышке"]
[null,null,null,null,null,null,{"$f":"IF(G42=0,CONCATENATE(\"поб.\",D39, \"/\",D41),IF(G42=1,D39,IF(G42=2,D41,\"Х\")))","v":"поб./СМИРНОВА"},null,null,{"$f":"IF(G42=1,E39,IF(G42=2,E41,\"\"))","v":""},null,null,null,null,null,null,null,null,null,null,null,null,null,null,null,null,null,{"$f":"IF(OR(G26=3,G26=0),0,(IF(G26=1,C23,C25)))","v":0},{"$f":"IF(OR(G26=3,G26=0),0,(IF(G26=1,C25,C23)))","v":0}]
[{"$f":"IF($C41=\"\",\"2\",IF(AND($C41>=1,$C41<17),INDEX(ПодгОТ!$P$8:$P$23,C41),\"\"))","v":"2 "},16,2,{"$f":"IF($C41=\"\",\"\",IF(AND($C41>=1,$C41<17),VLOOKUP($C41,ПодгОТ!$A$8:$AA$23,27),\"Х\"))","v":"СМИРНОВА"},{"$f":"IF(AND($C41>=1,$C41<17),VLOOKUP($C41,ПодгОТ!$A$8:$P$23,15),\"\")","v":"С.А."},{"$f":"IF(AND($C41>=1,$C41<17),VLOOKUP($C41,ПодгОТ!$A$8:$P$23,6),\"\")","v":"Казань"},null,null,null,null,null,"Судья на вышке",null,{"$f":"IF(ПолуфиналНеявка(P20),\"Х\",IF(O20=0,CONCATENATE(\"пр.\",K14, \"/\",K22),IF(O20=1,K22,IF(O20=2,K14,\"Х\"))))","v":"пр.поб.поб.КРАТЮК//поб.//поб.поб.//поб./"},null,null,null,null,"3 место"]
[null,null,null,null,null,null,null,null,null,null,null,null,null,null,null,null,null,null,{"$f":"IF(S44=0,\"\",IF(S44=1,N41,IF(S44=2,N43,\"Х\")))","v":""},null,null,null,null,null,null,{"$f":"IF(OR(G42=3,G42=0),0,(IF(G42=1,C39,C41)))","v":0},{"$f":"IF(OR(G42=3,G42=0),0,(IF(G42=1,C41,C39)))","v":0}]
[null,null,null,null,null,null,null,"Судья на вышке",null,null,null,null,null,{"$f":"IF(ПолуфиналНеявка(P36),\"Х\",IF(O36=0,CONCATENATE(\"пр.\",K30, \"/\",K38),IF(O36=1,K38,IF(O36=2,K30,\"Х\"))))","v":"пр.поб.поб.//поб.//поб.поб.//поб./СМИРНОВА"}]
[]
[null,null,null,null,null,null,null,null,null,null,null,null,null,null,null,null,null,null,null,"Судья на вышке"]
[null,null,null,null,null,null,null,null,null,null,null,null,null,null,null,null,null,null,null,null,null,null,null,null,null,{"$f":"IF(OR(G46=3,G46=0),0,(IF(G46=1,C43,C45)))","v":0},{"$f":"IF(OR(G46=3,G46=0),0,(IF(G46=1,C45,C43)))","v":0}]
[]
["№","Сеяные игроки",null,null,null,"Очки","№","Ожидающий игрок",null,null,null,"Замененный игрок",null,null,null,"Присутствовали на жеребьевке",null,null,null,null,null,null,null,null,null,null,null,{"$f":"IF(OR(G30=3,G30=0),0,(IF(G30=1,C27,C29)))","v":0},{"$f":"IF(OR(G30=3,G30=0),0,(IF(G30=1,C29,C27)))","v":0}]
[1,{"$f":"IF(ПодгОТ!AD8=0,IF(ПодгОТ!B8=0,\"\",ПодгОТ!AA8),IF(ПодгОТ!AF8=0,\"\",ПодгОТ!AE8))","v":"КРАТЮК"},null,null,null,{"$f":"IF(ПодгОТ!AD8=0,IF(ПодгОТ!B8=0,\"\",ПодгОТ!B8),IF(ПодгОТ!AF8=0,\"\",ПодгОТ!AF8))","v":228},null,null,null,null,null,null,null,null,null,null,null,null,null,null,null,null,null,null,null,null,null,{"$f":"IF(OR(K49=0,K49=3),0,IF(K49=1,Z46,Z51))","v":0},{"$f":"IF(OR(K49=0,K49=3),0,IF(K49=1,Z51,Z46))","v":0}]
[2,{"$f":"IF(ПодгОТ!AD9=0,IF(ПодгОТ!B9=0,\"\",ПодгОТ!AA9),IF(ПодгОТ!AF9=0,\"\",ПодгОТ!AE9))","v":"СМИРНОВА"},null,null,null,{"$f":"IF(ПодгОТ!AD9=0,IF(ПодгОТ!B9=0,\"\",ПодгОТ!B9),IF(ПодгОТ!AF9=0,\"\",ПодгОТ!AF9))","v":112}]
[3,{"$f":"IF(ПодгОТ!AD10=0,IF(ПодгОТ!B10=0,\"\",ПодгОТ!AA10),IF(ПодгОТ!AF10=0,\"\",ПодгОТ!AE10))","v":"ШАФИГУЛЛИНА"},null,null,null,{"$f":"IF(ПодгОТ!AD10=0,IF(ПодгОТ!B10=0,\"\",ПодгОТ!B10),IF(ПодгОТ!AF10=0,\"\",ПодгОТ!AF10))","v":109},null,null,null,null,null,null,null,null,null,"Дата жеребьевки",null,null,null,"Время жеребьевки",null,null,null,null,null,{"$f":"IF(OR(G51=3,G51=0),0,(IF(G51=1,C48,C50)))","v":0},{"$f":"IF(OR(G51=3,G51=0),0,(IF(G51=1,C50,C48)))","v":0}]
[4,{"$f":"IF(ПодгОТ!AD11=0,IF(ПодгОТ!B11=0,\"\",ПодгОТ!AA11),IF(ПодгОТ!AF11=0,\"\",ПодгОТ!AE11))","v":"СЕДОВА"},null,null,null,{"$f":"IF(ПодгОТ!AD11=0,IF(ПодгОТ!B11=0,\"\",ПодгОТ!B11),IF(ПодгОТ!AF11=0,\"\",ПодгОТ!AF11))","v":107},null,null,null,null,null,null,null,null,null,null,null,null,null,null,null,null,null,null,null,null,null,null,null,{"$f":"IF(OR(K32=0,K32=3),0,IF(K32=1,Z30,Z34))","v":0},{"$f":"IF(OR(K32=0,K32=3),0,IF(K32=1,Z34,Z30))","v":0}]
[null,null,null,null,null,null,null,null,null,null,null,null,null,null,null,"Главный судья",null,null,null,null,null,null,null,null,null,null,null,null,null,{"$f":"IF(OR(O53=0,O53=3),0,IF(O53=1,AB49,AB57))","v":0},{"$f":"IF(OR(O53=0,O53=3),0,IF(O53=1,AB57,AB49))","v":0}]
[null,null,null,null,null,null,null,null,null,null,null,null,null,null,null,null,null,null,null,{"$f":"UPPER(Установка!C11)","v":"СИТНИКОВ Д.В."}]
[null,null,null,null,null,null,null,null,null,null,null,null,null,null,null,null,null,null,null,null,null,null,null,null,null,{"$f":"IF(OR(G55=3,G55=0),0,(IF(G55=1,C52,C54)))","v":0},{"$f":"IF(OR(G55=3,G55=0),0,(IF(G55=1,C54,C52)))","v":0}]
[null,null,null,null,null,null,null,null,null,null,null,null,null,null,null,"Подпись",null,null,null,"Фамилия И.О.",null,null,null,null,null,null,null,{"$f":"IF(OR(G34=3,G34=0),0,(IF(G34=1,C31,C33)))","v":0},{"$f":"IF(OR(G34=3,G34=0),0,(IF(G34=1,C33,C31)))","v":0}]
[null,null,null,null,null,null,null,null,null,null,null,null,null,null,null,null,null,null,null,null,null,null,null,null,null,null,null,{"$f":"IF(OR(K57=0,K57=3),0,IF(K57=1,Z55,Z59))","v":0},{"$f":"IF(OR(K57=0,K57=3),0,IF(K57=1,Z59,Z55))","v":0}]
[]
[null,null,null,null,null,null,null,null,null,null,null,null,null,null,null,null,null,null,null,null,null,null,null,null,null,{"$f":"IF(OR(G59=3,G59=0),0,(IF(G59=1,C56,C58)))","v":0},{"$f":"IF(OR(G59=3,G59=0),0,(IF(G59=1,C58,C56)))","v":0}]
[]
[]
[]
[null,null,null,null,null,null,null,null,null,null,null,null,null,null,null,null,null,null,null,null,null,null,null,null,null,{"$f":"IF(OR(G63=3,G63=0),0,(IF(G63=1,C60,C62)))","v":0},{"$f":"IF(OR(G63=3,G63=0),0,(IF(G63=1,C62,C60)))","v":0}]
[null,null,null,null,null,null,null,null,null,null,null,null,null,null,null,null,null,null,null,null,null,null,null,null,null,null,null,{"$f":"IF(OR(G38=3,G38=0),0,(IF(G38=1,C35,C37)))","v":0},{"$f":"IF(OR(G38=3,G38=0),0,(IF(G38=1,C37,C35)))","v":0}]
[null,null,null,null,null,null,null,null,null,null,null,null,null,null,null,null,null,null,null,null,null,null,null,null,null,null,null,{"$f":"IF(OR(K65=0,K65=3),0,IF(K65=1,Z63,Z67))","v":0},{"$f":"IF(OR(K65=0,K65=3),0,IF(K65=1,Z67,Z63))","v":0}]
[]
[null,null,null,null,null,null,null,null,null,null,null,null,null,null,null,null,null,null,null,null,null,null,null,null,null,{"$f":"IF(OR(G67=3,G67=0),0,(IF(G67=1,C64,C66)))","v":0},{"$f":"IF(OR(G67=3,G67=0),0,(IF(G67=1,C66,C64)))","v":0}]
[null,null,null,null,null,null,null,null,null,null,null,null,null,null,null,null,null,null,null,null,null,null,null,null,null,null,null,null,null,{"$f":"IF(OR(K40=0,K40=3),0,IF(K40=1,Z38,Z42))","v":0},{"$f":"IF(OR(K40=0,K40=3),0,IF(K40=1,Z42,Z38))","v":0}]
[null,null,null,null,null,null,null,null,null,null,null,null,null,null,null,null,null,null,null,null,null,null,null,null,null,null,null,null,null,{"$f":"IF(OR(O69=0,O69=3),0,IF(O69=1,AB65,AB73))","v":0},{"$f":"IF(OR(O69=0,O69=3),0,IF(O69=1,AB73,AB65))","v":0}]
[]
[null,null,null,null,null,null,null,null,null,null,null,null,null,null,null,null,null,null,null,null,null,null,null,null,null,{"$f":"IF(OR(G71=3,G71=0),0,(IF(G71=1,C68,C70)))","v":0},{"$f":"IF(OR(G71=3,G71=0),0,(IF(G71=1,C70,C68)))","v":0}]
[null,null,null,null,null,null,null,null,null,null,null,null,null,null,null,null,null,null,null,null,null,null,null,null,null,null,null,{"$f":"IF(OR(G42=3,G42=0),0,(IF(G42=1,C39,C41)))","v":0},{"$f":"IF(OR(G42=3,G42=0),0,(IF(G42=1,C41,C39)))","v":0}]
[null,null,null,null,null,null,null,null,null,null,null,null,null,null,null,null,null,null,null,null,null,null,null,null,null,null,null,{"$f":"IF(OR(K73=0,K73=3),0,IF(K73=1,Z71,Z75))","v":0},{"$f":"IF(OR(K73=0,K73=3),0,IF(K73=1,Z75,Z71))","v":0}]
[]
[null,null,null,null,null,null,null,null,null,null,null,null,null,null,null,null,null,null,null,null,null,null,null,null,null,{"$f":"IF(OR(G75=3,G75=0),0,(IF(G75=1,C72,C74)))","v":0},{"$f":"IF(OR(G75=3,G75=0),0,(IF(G75=1,C74,C72)))","v":0}]
[]
[]
[]
[]
[]
[]
[]
[]
[]
[]
[]
[]
[]
[]
[]
[]
[]
[]
[]
[]
[]
[]
[]
[]
[]
[]
[]
[]
[]
[]
[]
[]
[]
[]
[]
[]
[]
[]
[]
[]
[]
[]
[]
[]
[]
[]
[]
[]
[]
[]
[]
[]
[]
[]
[]
[]
[]
[]
[]
[]
[]
[]
[]
[]
[]
[]
[]
[]
[]
[]
[]
[]
[]
[null,null,"Матч за 3м",null,null,null,null,"Замен в таблице ДИ"]
[null,null,false,null,null,null,null,{"$f":"COUNTA(H49:K56)","v":0}]
[]
[]
[]
[null,null,null,null,null,null,"Начальные позиции замен"]
[null,null,null,null,null,null,49,49,null,null,49]
[null,null,null,null,null,null,{"$f":"COLUMN(G78)","v":7},{"$f":"COLUMN(H78)","v":8},null,null,12]
[]
[]
[]
[]
[]
[]
[]
[]
[]
[]
[]
[]
[]
[]
[]
[]
[]
[]
[]
[]
[]
[]
[]
[]
[]
[]
[]
[]
[]
[]
[]
[]
[]
[]
[]
[]
[]
[]
[]
[]
[]
[]
[]
["ВЗРОСЛЫЕ",{"$f":"IF($G$6=\"ВЗРОСЛЫЕ\",\"МУЖЧИНЫ\",IF($G$6=\"ДО 19 ЛЕТ\",\"ЮНИОРЫ\",\"ЮНОШИ\"))","v":"ЮНОШИ"},"ФТ","-","Судья на вышке"]
["ДО 19 ЛЕТ",{"$f":"IF($G$6=\"ВЗРОСЛЫЕ\",\"ЖЕНЩИНЫ\",IF($G$6=\"ДО 19 ЛЕТ\",\"ЮНИОРКИ\",\"ДЕВУШКИ\"))","v":"ДЕВУШКИ"},"I","А",{"$f":"СписокСудей!T5","v":""}]
["ДО 17 ЛЕТ",null,"II","Б",{"$f":"СписокСудей!T6","v":""}]
["ДО 15 ЛЕТ",null,"III","В",{"$f":"СписокСудей!T7","v":""}]
["ДО 13 ЛЕТ",null,"IV","Г",{"$f":"СписокСудей!T8","v":""}]
["9-10 ЛЕТ",null,"V",null,{"$f":"СписокСудей!T9","v":""}]
[null,null,"VI",null,{"$f":"СписокСудей!T10","v":""}]
[null,null,null,null,{"$f":"СписокСудей!T11","v":""}]
[null,null,null,null,{"$f":"СписокСудей!T12","v":""}]
[null,null,null,null,{"$f":"СписокСудей!T13","v":""}]
[null,null,null,null,{"$f":"СписокСудей!T14","v":""}]
[null,null,null,null,{"$f":"СписокСудей!T15","v":""}]
[null,null,null,null,{"$f":"СписокСудей!T16","v":""}]
[null,null,null,null,{"$f":"СписокСудей!T17","v":""}]
[null,null,null,null,{"$f":"СписокСудей!T18","v":""}]
[null,null,null,null,{"$f":"СписокСудей!T19","v":""}]
[null,null,null,null,{"$f":"СписокСудей!T20","v":""}]
[null,null,null,null,{"$f":"СписокСудей!T21","v":""}]
[null,null,null,null,{"$f":"СписокСудей!T22","v":""}]
[null,null,null,null,{"$f":"СписокСудей!T23","v":""}]
[null,null,null,null,{"$f":"СписокСудей!T24","v":""}]
[null,null,null,null,{"$f":"СписокСудей!T25","v":""}]
[null,null,null,null,{"$f":"СписокСудей!T26","v":""}]
[null,null,null,null,{"$f":"СписокСудей!T27","v":""}]
[null,null,null,null,{"$f":"СписокСудей!T28","v":""}]
[null,null,null,null,{"$f":"СписокСудей!T29","v":""}]
[null,null,null,null,{"$f":"СписокСудей!T30","v":""}]
[null,null,null,null,{"$f":"СписокСудей!T31","v":""}]
[null,null,null,null,{"$f":"СписокСудей!T32","v":""}]
[null,null,null,null,{"$f":"СписокСудей!T33","v":""}]
[null,null,null,null,{"$f":"СписокСудей!T34","v":""}]
[null,null,null,null,2]

{"sheet":"ПодгДТ32","index":11,"n_rows":67,"n_cols":32,"rows_kept":67,"cut":false,"hidden":false,"merged":[[35,30,36,30],[35,26,36,26],[35,27,36,27],[35,28,36,28],[35,29,36,29],[33,30,34,30],[31,26,32,26],[31,27,32,27],[31,28,32,28],[31,29,32,29],[31,30,32,30],[33,26,34,26],[33,27,34,27],[33,28,34,28],[33,29,34,29],[29,30,30,30],[27,26,28,26],[27,27,28,27],[27,28,28,28],[27,29,28,29],[27,30,28,30],[29,26,30,26],[29,27,30,27],[29,28,30,28],[29,29,30,29],[25,30,26,30],[23,26,24,26],[23,27,24,27],[23,28,24,28],[23,29,24,29],[23,30,24,30],[25,26,26,26],[25,27,26,27],[25,28,26,28],[25,29,26,29],[19,31,20,31],[21,26,22,26],[21,27,22,27],[21,30,22,30],[19,26,20,26],[19,27,20,27],[19,28,20,28],[19,29,20,29],[19,30,20,30],[15,30,16,30],[15,31,16,31],[17,26,18,26],[17,27,18,27],[17,30,18,30],[15,26,16,26],[15,27,16,27],[15,28,16,28],[15,29,16,29],[11,30,12,30],[11,31,12,31],[13,26,14,26],[13,27,14,27],[11,26,12,26],[11,27,12,27],[11,28,12,28],[11,29,12,29],[7,30,8,30],[7,31,8,31],[9,26,10,26],[9,27,10,27],[7,26,8,26],[7,27,8,27],[7,28,8,28],[7,29,8,29],[6,0,6,6],[23,0,23,6],[32,0,32,6],[0,0,0,6],[1,0,1,6],[2,0,2,6],[3,0,3,1],[4,0,4,1],[37,28,38,28],[37,29,38,29],[37,30,38,30],[40,0,40,1],[40,3,40,4],[40,5,40,6],[37,26,38,26],[37,27,38,27],[38,0,39,1],[38,2,39,2],[38,3,39,4],[38,5,39,6],[37,0,37,2],[37,3,37,6]]}
["ЛИСТ ЗАПИСИ ИГРОКОВ НА УЧАСТИЕ В ДОПОЛНИТЕЛЬНЫХ ТУРНИРАХ\nЛИЧНОГО ТУРНИРА РТТ В ОДИНОЧНОМ РАЗРЯДЕ"]
["Название турнира"]
[{"$f":"UPPER(Установка!C3)","v":"ПЕРВЕНСТВО РЕСПУБЛИКИ ТАТАРСТАН"}]
["Место проведения",null,"Сроки проведения","Возрастная группа","Пол игроков","Категория","Класс"]
[{"$f":"UPPER(Установка!C6)","v":"КАЗАНЬ"},null,{"$f":"IF(Установка!C7=\"\",\"\",TEXT(Установка!C7,\"ДД,ММ,ГГГГ\"))","v":"18-24.11.2017."},{"$f":"UPPER(Установка!C4)","v":"9-10 ЛЕТ"},{"$f":"IF(Установка!$C$5=\"\",\"\",UPPER(Установка!$C$5))","v":"ДЕВУШКИ"},{"$f":"UPPER(Установка!D8)","v":"IV"},{"$f":"UPPER(Установка!E8)","v":"Б"}]
["№","Очки РТТ","Фамилия Имя Отчество игрока","РНИ","Дата\nрождения","Город","Подпись",null,null,null,null,null,null,null,null,1,null,null,null,null,null,null,null,null,null,null,"проигравшие в 1/16 - без жеребьевки",null,"проигравшие в 1/8 - без жеребьевки",null,"проигравшие в 1/4 - без жеребьевки"]
["ПРОИГРАВШИЕ В 1/16 ФИНАЛА",null,null,null,null,null,null,null,null,null,null,null,null,null,null,null,null,null,null,null,null,null,null,null,null,{"$f":"OR(AA7,AC7,AE7)","v":false},false,null,false,null,false]
[{"$f":"ROW()-7","v":1},47,"Мутрюкова Агния Игоревна",35479,"2007-01-03","Казань",null,null,{"$f":"LEN(C8)","v":24},{"$f":"IF((I8)=0,0,FIND(\" \",C8))","v":10},{"$f":"IF(OR(ISERR(J8),I8=0),\"\",CONCATENATE(UPPER(MID(C8,J8+1,1)),\".\"))","v":"А."},{"$f":"IF(LEN(C8)=0,0,FIND(\" \",C8,J8+1))","v":16},{"$f":"IF(OR(I8=0,ISERR(L8)),\"\",CONCATENATE(MID(C8,L8+1,1),\".\"))","v":"И."},{"$f":"IF(C8=\"\",\"\",IF(ISERR(J8),UPPER(C8),UPPER(MID(C8,1,J8-1))))","v":"МУТРЮКОВА"},{"$f":"CONCATENATE(K8,M8)","v":"А.И."},{"$f":"IF(N8=\"\",\"\",N8)","v":"МУТРЮКОВА"},{"$f":"IF(LEN(C8)<2,\"\",IF(ISERR(J8),\"\",IF(ISERR(L8),UPPER(MID(C8,J8,I8-J8+1)),UPPER(MID(C8,J8,L8-J8)))))","v":" АГНИЯ"},{"$f":"IF(N8=\"\",0,COUNTIF(ПодгОТ!$N$8:$N$39,N8))","v":1},{"$f":"IF(R8>1,CONCATENATE(N8,Q8),N8)","v":"МУТРЮКОВА"},null,null,null,null,null,null,null,{"$f":"IF(ОТ32!G14=0,CONCATENATE(\"пр.\",ОТ32!D11,\"/\",ОТ32!D13),IF(ОТ32!G14=1,ОТ32!D13,IF(ОТ32!G14=2,ОТ32!D11,\"Х\")))","v":"Х"},{"$f":"IF(ОТ32!G14=0,\"\",IF(ОТ32!G14=1,ОТ32!E13,IF(ОТ32!G14=2,ОТ32!E11,\"\")))","v":""},{"$f":"IF(ОТ32!K16=0,CONCATENATE(\"пр.\",ОТ32!G12,\"/\",ОТ32!G16),IF(ОТ32!K16=1,ОТ32!G16,IF(ОТ32!K16=2,ОТ32!G12,\"Х\")))","v":"КАЦ"},{"$f":"IF(ОТ32!K16=0,\"\",IF(ОТ32!K16=1,ОТ32!J16,IF(ОТ32!K16=2,ОТ32!J12,\"\")))","v":"Э.В."},{"$f":"IF(ОТ32!O20=0,CONCATENATE(\"пр.\",ОТ32!K14,\"/\",ОТ32!K22),IF(ОТ32!O20=1,ОТ32!K22,IF(ОТ32!O20=2,ОТ32!K14,\"Х\")))","v":"ЕГОРОВА АЛИНА"},{"$f":"IF(ОТ32!O20=0,\"\",IF(ОТ32!O20=1,ОТ32!N22,IF(ОТ32!O20=2,ОТ32!N14,\"\")))","v":"А.А."}]
[2,33,"Гурылева Влада Владиславовна",37974,"2008-06-27","Казань",null,null,28,9,{"$f":"IF(OR(ISERR(J9),I9=0),\"\",CONCATENATE(UPPER(MID(C9,J9+1,1)),\".\"))","v":"В."},15,"В.","ГУРЫЛЕВА","В.В.",{"$f":"IF(N9=\"\",\"\",N9)","v":"ГУРЫЛЕВА"},{"$f":"IF(LEN(C9)<2,\"\",IF(ISERR(J9),\"\",IF(ISERR(L9),UPPER(MID(C9,J9,I9-J9+1)),UPPER(MID(C9,J9,L9-J9)))))","v":" ВЛАДА"},{"$f":"IF(N9=\"\",0,COUNTIF(ПодгОТ!$N$8:$N$39,N9))","v":1},"ГУРЫЛЕВА"]
[3,30,"Зверева София Михайловна",39463,"2007-03-13","Киров",null,null,24,8,"С.",14,"М.","ЗВЕРЕВА","С.М.","ЗВЕРЕВА"," СОФИЯ",{"$f":"IF(N10=\"\",0,COUNTIF(ПодгОТ!$N$8:$N$39,N10))","v":1},"ЗВЕРЕВА",null,null,null,null,null,null,null,{"$f":"IF(ОТ32!G18=0,CONCATENATE(\"пр.\",ОТ32!D15,\"/\",ОТ32!D17),IF(ОТ32!G18=1,ОТ32!D17,IF(ОТ32!G18=2,ОТ32!D15,\"Х\")))","v":"МУТРЮКОВА"},{"$f":"IF(ОТ32!G18=0,\"\",IF(ОТ32!G18=1,ОТ32!E17,IF(ОТ32!G18=2,ОТ32!E15,\"\")))","v":"А.И."}]
[4,30,"Баранова Ксения Викторовна",35679,"2007-07-01","Казань",null,null,{"$f":"LEN(C11)","v":26},{"$f":"IF((I11)=0,0,FIND(\" \",C11))","v":9},"К.",{"$f":"IF(LEN(C11)=0,0,FIND(\" \",C11,J11+1))","v":16},{"$f":"IF(OR(I11=0,ISERR(L11)),\"\",CONCATENATE(MID(C11,L11+1,1),\".\"))","v":"В."},{"$f":"IF(C11=\"\",\"\",IF(ISERR(J11),UPPER(C11),UPPER(MID(C11,1,J11-1))))","v":"БАРАНОВА"},{"$f":"CONCATENATE(K11,M11)","v":"К.В."},"БАРАНОВА"," КСЕНИЯ",{"$f":"IF(N11=\"\",0,COUNTIF(ПодгОТ!$N$8:$N$39,N11))","v":1},"БАРАНОВА"]
[5,20,"Давлеева Элина Оскаровна",36341,"2017-10-04","Казань",null,null,24,9,"Э.",15,"О.","ДАВЛЕЕВА","Э.О.","ДАВЛЕЕВА"," ЭЛИНА",{"$f":"IF(N12=\"\",0,COUNTIF(ПодгОТ!$N$8:$N$39,N12))","v":1},"ДАВЛЕЕВА",null,null,null,null,null,null,null,{"$f":"IF(ОТ32!G22=0,CONCATENATE(\"пр.\",ОТ32!D19,\"/\",ОТ32!D21),IF(ОТ32!G22=1,ОТ32!D21,IF(ОТ32!G22=2,ОТ32!D19,\"Х\")))","v":"ДАВЛЕЕВА"},{"$f":"IF(ОТ32!G22=0,\"\",IF(ОТ32!G22=1,ОТ32!E21,IF(ОТ32!G22=2,ОТ32!E19,\"\")))","v":"Э.О."},{"$f":"IF(ОТ32!K24=0,CONCATENATE(\"пр.\",ОТ32!G20,\"/\",ОТ32!G24),IF(ОТ32!K24=1,ОТ32!G24,IF(ОТ32!K24=2,ОТ32!G20,\"Х\")))","v":"АГЕЕВА"},{"$f":"IF(ОТ32!K24=0,\"\",IF(ОТ32!K24=1,ОТ32!J24,IF(ОТ32!K24=2,ОТ32!J20,\"\")))","v":"Т.А."},{"$f":"IF(ОТ32!O36=0,CONCATENATE(\"пр.\",ОТ32!K30,\"/\",ОТ32!K38),IF(ОТ32!O36=1,ОТ32!K38,IF(ОТ32!O36=2,ОТ32!K30,\"Х\")))","v":"СЕДОВА"},{"$f":"IF(ОТ32!O36=0,\"\",IF(ОТ32!O36=1,ОТ32!N38,IF(ОТ32!O36=2,ОТ32!N30,\"\")))","v":"В.Д."}]
[6,11,"Варданян Ванесса Аркадьевна",38200,"2008-04-28","Киров",null,null,27,9,"В.",17,"А.","ВАРДАНЯН","В.А.","ВАРДАНЯН"," ВАНЕССА",{"$f":"IF(N13=\"\",0,COUNTIF(ПодгОТ!$N$8:$N$39,N13))","v":1},"ВАРДАНЯН"]
[7,0,"Тарасова Софья Сергеевна",39542,"2008-09-16","Самара",null,null,24,9,"С.",15,"С.","ТАРАСОВА","С.С.","ТАРАСОВА"," СОФЬЯ",{"$f":"IF(N14=\"\",0,COUNTIF(ПодгОТ!$N$8:$N$39,N14))","v":1},"ТАРАСОВА",null,null,null,null,null,null,null,{"$f":"IF(ОТ32!G26=0,CONCATENATE(\"пр.\",ОТ32!D23,\"/\",ОТ32!D25),IF(ОТ32!G26=1,ОТ32!D25,IF(ОТ32!G26=2,ОТ32!D23,\"Х\")))","v":"ВАРДАНЯН"},{"$f":"IF(ОТ32!G26=0,\"\",IF(ОТ32!G26=1,ОТ32!E25,IF(ОТ32!G26=2,ОТ32!E23,\"\")))","v":"В.А."}]
[8,"х",null,null,null,null,null,null,0,0,"",0,"","","","","",{"$f":"IF(N15=\"\",0,COUNTIF(ПодгОТ!$N$8:$N$39,N15))","v":0},""]
[9,"х",null,null,null,null,null,null,0,0,"",0,"","","","","",{"$f":"IF(N16=\"\",0,COUNTIF(ПодгОТ!$N$8:$N$39,N16))","v":0},"",null,null,null,null,null,null,null,{"$f":"IF(ОТ32!G30=0,CONCATENATE(\"пр.\",ОТ32!D27,\"/\",ОТ32!D29),IF(ОТ32!G30=1,ОТ32!D29,IF(ОТ32!G30=2,ОТ32!D27,\"Х\")))","v":"Х"},{"$f":"IF(ОТ32!G30=0,\"\",IF(ОТ32!G30=1,ОТ32!E29,IF(ОТ32!G30=2,ОТ32!E27,\"\")))","v":""},{"$f":"IF(ОТ32!K32=0,CONCATENATE(\"пр.\",ОТ32!G28,\"/\",ОТ32!G32),IF(ОТ32!K32=1,ОТ32!G32,IF(ОТ32!K32=2,ОТ32!G28,\"Х\")))","v":"ЗАКИРОВА"},{"$f":"IF(ОТ32!K32=0,\"\",IF(ОТ32!K32=1,ОТ32!J32,IF(ОТ32!K32=2,ОТ32!J28,\"\")))","v":"А.Н."},{"$f":"IF(ОТ32!O52=0,CONCATENATE(\"пр.\",ОТ32!K46,\"/\",ОТ32!K54),IF(ОТ32!O52=1,ОТ32!K54,IF(ОТ32!O52=2,ОТ32!K46,\"Х\")))","v":"ШАФИГУЛЛИНА"},{"$f":"IF(ОТ32!O52=0,\"\",IF(ОТ32!O52=1,ОТ32!N54,IF(ОТ32!O52=2,ОТ32!N46,\"\")))","v":"К.А."}]
[10,"х",null,null,null,null,null,null,0,0,"",0,"","","","","",{"$f":"IF(N17=\"\",0,COUNTIF(ПодгОТ!$N$8:$N$39,N17))","v":0},""]
[11,"х",null,null,null,null,null,null,0,0,"",0,"","","","","",{"$f":"IF(N18=\"\",0,COUNTIF(ПодгОТ!$N$8:$N$39,N18))","v":0},"",null,null,null,null,null,null,null,{"$f":"IF(ОТ32!G34=0,CONCATENATE(\"пр.\",ОТ32!D31,\"/\",ОТ32!D33),IF(ОТ32!G34=1,ОТ32!D33,IF(ОТ32!G34=2,ОТ32!D31,\"Х\")))","v":"БАРАНОВА"},{"$f":"IF(ОТ32!G34=0,\"\",IF(ОТ32!G34=1,ОТ32!E33,IF(ОТ32!G34=2,ОТ32!E31,\"\")))","v":"К.В."}]
[12,"х",null,null,null,null,null,null,0,0,"",0,"","","","","",{"$f":"IF(N19=\"\",0,COUNTIF(ПодгОТ!$N$8:$N$39,N19))","v":0},""]
[13,"х",null,null,null,null,null,null,0,0,"",0,"","","","","",{"$f":"IF(N20=\"\",0,COUNTIF(ПодгОТ!$N$8:$N$39,N20))","v":0},"",null,null,null,null,null,null,null,{"$f":"IF(ОТ32!G38=0,CONCATENATE(\"пр.\",ОТ32!D35,\"/\",ОТ32!D37),IF(ОТ32!G38=1,ОТ32!D37,IF(ОТ32!G38=2,ОТ32!D35,\"Х\")))","v":"ЛЕОНОВА"},{"$f":"IF(ОТ32!G38=0,\"\",IF(ОТ32!G38=1,ОТ32!E37,IF(ОТ32!G38=2,ОТ32!E35,\"\")))","v":"Э.К."},{"$f":"IF(ОТ32!K40=0,CONCATENATE(\"пр.\",ОТ32!G36,\"/\",ОТ32!G40),IF(ОТ32!K40=1,ОТ32!G40,IF(ОТ32!K40=2,ОТ32!G36,\"Х\")))","v":"ХАРЛАМОВА"},{"$f":"IF(ОТ32!K40=0,\"\",IF(ОТ32!K40=1,ОТ32!J40,IF(ОТ32!K40=2,ОТ32!J36,\"\")))","v":"С.А."},{"$f":"IF(ОТ32!O68=0,CONCATENATE(\"пр.\",ОТ32!K62,\"/\",ОТ32!K70),IF(ОТ32!O68=1,ОТ32!K70,IF(ОТ32!O68=2,ОТ32!K62,\"Х\")))","v":"РАЕВСКАЯ"},{"$f":"IF(ОТ32!O68=0,\"\",IF(ОТ32!O68=1,ОТ32!N70,IF(ОТ32!O68=2,ОТ32!N62,\"\")))","v":"А.А."}]
[14,"х",null,null,null,null,null,null,0,0,"",0,"","","","","",{"$f":"IF(N21=\"\",0,COUNTIF(ПодгОТ!$N$8:$N$39,N21))","v":0},""]
[15,"х",null,null,null,null,null,null,0,0,"",0,"","","","","",{"$f":"IF(N22=\"\",0,COUNTIF(ПодгОТ!$N$8:$N$39,N22))","v":0},"",null,null,null,null,null,null,null,{"$f":"IF(ОТ32!G42=0,CONCATENATE(\"пр.\",ОТ32!D39,\"/\",ОТ32!D41),IF(ОТ32!G42=1,ОТ32!D41,IF(ОТ32!G42=2,ОТ32!D39,\"Х\")))","v":"ЛИЗУНОВА"},{"$f":"IF(ОТ32!G42=0,\"\",IF(ОТ32!G42=1,ОТ32!E41,IF(ОТ32!G42=2,ОТ32!E39,\"\")))","v":"А.А."}]
[16,"х",null,null,null,null,null,null,0,0,"",0,"","","","","",{"$f":"IF(N23=\"\",0,COUNTIF(ПодгОТ!$N$8:$N$39,N23))","v":0},""]
["ПРОИГРАВШИЕ В 1/8 ФИНАЛА",null,null,null,null,null,null,null,null,null,null,null,null,null,null,null,null,null,null,null,null,null,null,null,null,null,{"$f":"IF(ОТ32!G46=0,CONCATENATE(\"пр.\",ОТ32!D43,\"/\",ОТ32!D45),IF(ОТ32!G46=1,ОТ32!D45,IF(ОТ32!G46=2,ОТ32!D43,\"Х\")))","v":"Х"},{"$f":"IF(ОТ32!G46=0,\"\",IF(ОТ32!G46=1,ОТ32!E45,IF(ОТ32!G46=2,ОТ32!E43,\"\")))","v":""},{"$f":"IF(ОТ32!K48=0,CONCATENATE(\"пр.\",ОТ32!G44,\"/\",ОТ32!G48),IF(ОТ32!K48=1,ОТ32!G48,IF(ОТ32!K48=2,ОТ32!G44,\"Х\")))","v":"ЕГОРОВА ТАИСИЯ"},{"$f":"IF(ОТ32!K48=0,\"\",IF(ОТ32!K48=1,ОТ32!J48,IF(ОТ32!K48=2,ОТ32!J44,\"\")))","v":"Т.А."}]
[{"$f":"ROW()-24","v":1},null,null,null,null,null,null,null,0,0,{"$f":"IF(OR(ISERR(J25),I25=0),\"\",CONCATENATE(UPPER(MID(C25,J25+1,1)),\".\"))","v":""},0,"","","","","",{"$f":"IF(N25=\"\",0,COUNTIF(ПодгОТ!$N$8:$N$39,N25))","v":0},{"$f":"IF(R25>1,CONCATENATE(N25,Q25),N25)","v":""}]
[{"$f":"ROW()-24","v":2},null,null,null,null,null,null,null,0,0,"",0,"","","","","",{"$f":"IF(N26=\"\",0,COUNTIF(ПодгОТ!$N$8:$N$39,N26))","v":0},"",null,null,null,null,null,null,null,{"$f":"IF(ОТ32!G50=0,CONCATENATE(\"пр.\",ОТ32!D47,\"/\",ОТ32!D49),IF(ОТ32!G50=1,ОТ32!D49,IF(ОТ32!G50=2,ОТ32!D47,\"Х\")))","v":"ГУРЫЛЕВА"},{"$f":"IF(ОТ32!G50=0,\"\",IF(ОТ32!G50=1,ОТ32!E49,IF(ОТ32!G50=2,ОТ32!E47,\"\")))","v":"В.В."}]
[3,null,null,null,null,null,null,null,0,0,"",0,"","","","","",{"$f":"IF(N27=\"\",0,COUNTIF(ПодгОТ!$N$8:$N$39,N27))","v":0},""]
[4,null,null,null,null,null,null,null,0,0,"",0,"","","","","",{"$f":"IF(N28=\"\",0,COUNTIF(ПодгОТ!$N$8:$N$39,N28))","v":0},"",null,null,null,null,null,null,null,{"$f":"IF(ОТ32!G54=0,CONCATENATE(\"пр.\",ОТ32!D51,\"/\",ОТ32!D53),IF(ОТ32!G54=1,ОТ32!D53,IF(ОТ32!G54=2,ОТ32!D51,\"Х\")))","v":"ЗВЕРЕВА"},{"$f":"IF(ОТ32!G54=0,\"\",IF(ОТ32!G54=1,ОТ32!E53,IF(ОТ32!G54=2,ОТ32!E51,\"\")))","v":"С.М."},{"$f":"IF(ОТ32!K56=0,CONCATENATE(\"пр.\",ОТ32!G52,\"/\",ОТ32!G56),IF(ОТ32!K56=1,ОТ32!G56,IF(ОТ32!K56=2,ОТ32!G52,\"Х\")))","v":"АХМЕТОВА"},{"$f":"IF(ОТ32!K56=0,\"\",IF(ОТ32!K56=1,ОТ32!J56,IF(ОТ32!K56=2,ОТ32!J52,\"\")))","v":"Л.И."}]
[5,null,null,null,null,null,null,null,0,0,"",0,"","","","","",{"$f":"IF(N29=\"\",0,COUNTIF(ПодгОТ!$N$8:$N$39,N29))","v":0},""]
[6,null,null,null,null,null,null,null,0,0,"",0,"","","","","",{"$f":"IF(N30=\"\",0,COUNTIF(ПодгОТ!$N$8:$N$39,N30))","v":0},"",null,null,null,null,null,null,null,{"$f":"IF(ОТ32!G58=0,CONCATENATE(\"пр.\",ОТ32!D55,\"/\",ОТ32!D57),IF(ОТ32!G58=1,ОТ32!D57,IF(ОТ32!G58=2,ОТ32!D55,\"Х\")))","v":"Х"},{"$f":"IF(ОТ32!G58=0,\"\",IF(ОТ32!G58=1,ОТ32!E57,IF(ОТ32!G58=2,ОТ32!E55,\"\")))","v":""}]
[7,null,null,null,null,null,null,null,0,0,"",0,"","","","","",{"$f":"IF(N31=\"\",0,COUNTIF(ПодгОТ!$N$8:$N$39,N31))","v":0},""]
[8,null,null,null,null,null,null,null,0,0,"",0,"","","","","",{"$f":"IF(N32=\"\",0,COUNTIF(ПодгОТ!$N$8:$N$39,N32))","v":0},"",null,null,null,null,null,null,null,{"$f":"IF(ОТ32!G62=0,CONCATENATE(\"пр.\",ОТ32!D59,\"/\",ОТ32!D61),IF(ОТ32!G62=1,ОТ32!D61,IF(ОТ32!G62=2,ОТ32!D59,\"Х\")))","v":"НИГМЕДЗЯНОВА"},{"$f":"IF(ОТ32!G62=0,\"\",IF(ОТ32!G62=1,ОТ32!E61,IF(ОТ32!G62=2,ОТ32!E59,\"\")))","v":"К.И."},{"$f":"IF(ОТ32!K64=0,CONCATENATE(\"пр.\",ОТ32!G60,\"/\",ОТ32!G64),IF(ОТ32!K64=1,ОТ32!G64,IF(ОТ32!K64=2,ОТ32!G60,\"Х\")))","v":"ЕРМОЛАЕВА"},{"$f":"IF(ОТ32!K64=0,\"\",IF(ОТ32!K64=1,ОТ32!J64,IF(ОТ32!K64=2,ОТ32!J60,\"\")))","v":"Л.В."}]
["ПРОИГРАВШИЕ В 1/4 ФИНАЛА"]
[{"$f":"ROW()-33","v":1},null,null,null,null,null,null,null,0,0,"",0,"","","","","",{"$f":"IF(N34=\"\",0,COUNTIF(ПодгОТ!$N$8:$N$39,N34))","v":0},{"$f":"IF(R34>1,CONCATENATE(N34,Q34),N34)","v":""},null,null,null,null,null,null,null,{"$f":"IF(ОТ32!G66=0,CONCATENATE(\"пр.\",ОТ32!D63,\"/\",ОТ32!D65),IF(ОТ32!G66=1,ОТ32!D65,IF(ОТ32!G66=2,ОТ32!D63,\"Х\")))","v":"ТАРАСОВА"},{"$f":"IF(ОТ32!G66=0,\"\",IF(ОТ32!G66=1,ОТ32!E65,IF(ОТ32!G66=2,ОТ32!E63,\"\")))","v":"С.С."}]
[{"$f":"ROW()-33","v":2},null,null,null,null,null,null,null,0,0,"",0,"","","","","",{"$f":"IF(N35=\"\",0,COUNTIF(ПодгОТ!$N$8:$N$39,N35))","v":0},{"$f":"IF(R35>1,CONCATENATE(N35,Q35),N35)","v":""}]
[{"$f":"ROW()-33","v":3},null,null,null,null,null,null,null,0,0,"",0,"","","","","",{"$f":"IF(N36=\"\",0,COUNTIF(ПодгОТ!$N$8:$N$39,N36))","v":0},{"$f":"IF(R36>1,CONCATENATE(N36,Q36),N36)","v":""},null,null,null,null,null,null,null,{"$f":"IF(ОТ32!G70=0,CONCATENATE(\"пр.\",ОТ32!D67,\"/\",ОТ32!D69),IF(ОТ32!G70=1,ОТ32!D69,IF(ОТ32!G70=2,ОТ32!D67,\"Х\")))","v":"ГАФУРОВА"},{"$f":"IF(ОТ32!G70=0,\"\",IF(ОТ32!G70=1,ОТ32!E69,IF(ОТ32!G70=2,ОТ32!E67,\"\")))","v":"К.М."},{"$f":"IF(ОТ32!K72=0,CONCATENATE(\"пр.\",ОТ32!G68,\"/\",ОТ32!G72),IF(ОТ32!K72=1,ОТ32!G72,IF(ОТ32!K72=2,ОТ32!G68,\"Х\")))","v":"ГАТИНА"},{"$f":"IF(ОТ32!K72=0,\"\",IF(ОТ32!K72=1,ОТ32!J72,IF(ОТ32!K72=2,ОТ32!J68,\"\")))","v":"А.А."}]
[{"$f":"ROW()-33","v":4},null,null,null,null,null,null,null,0,0,"",0,"","","","","",{"$f":"IF(N37=\"\",0,COUNTIF(ПодгОТ!$N$8:$N$39,N37))","v":0},{"$f":"IF(R37>1,CONCATENATE(N37,Q37),N37)","v":""}]
["Запись закрыта",null,null,"Главный судья",null,null,null,null,null,null,null,null,null,null,null,null,null,null,null,null,null,null,null,null,null,null,{"$f":"IF(ОТ32!G74=0,CONCATENATE(\"пр.\",ОТ32!D71,\"/\",ОТ32!D73),IF(ОТ32!G74=1,ОТ32!D73,IF(ОТ32!G74=2,ОТ32!D71,\"Х\")))","v":"Х"},{"$f":"IF(ОТ32!G74=0,\"\",IF(ОТ32!G74=1,ОТ32!E73,IF(ОТ32!G74=2,ОТ32!E71,\"\")))","v":""}]
[null,null,null,null,null,{"$f":"UPPER(Установка!C11)","v":"СИТНИКОВ Д.В."}]
[]
["Дата",null,"Время","Подпись",null,"Фамилия И.О."]
[]
[]
[]
[]
[]
[]
[]
[]
[null,{"$f":"COUNTA(C8:C23)","v":7}]
[null,{"$f":"COUNTA(C25:C32)","v":0}]
[null,{"$f":"COUNTA(C34:C37)","v":0}]
[null,{"$f":"SUM(B50:B52)","v":7}]
[]
[]
[]
[]
[]
[null,"1-я секция",null,{"$f":"IF(E59,0,1)","v":1},false,{"$f":"IF(E59,\"\",\" 1/16\")","v":" 1/16"},null,{"$f":"IF(OR(F59=\"\",$D$62=D59,D60+D61=0),\"\",\",\")","v":""}]
[null,"2-я секция",null,{"$f":"IF(E60,0,1)","v":0},true,{"$f":"IF(OR(E60),\"\",\" 1/8\")","v":""},0,{"$f":"IF(OR(F60=\"\",$D$62=D60,D61=0),\"\",\",\")","v":""}]
[null,"3-я секция",null,{"$f":"IF(E61,0,1)","v":0},true,{"$f":"IF(E61,\"\",\" 1/4\")","v":""},1]
[null,null,null,{"$f":"SUM(D59:D61)","v":1}]
[null,null,{"$f":"CONCATENATE(F59,H59,F60,H60,F61,D63)","v":" 1/16 финала"}," финала"]
[]
[null,null,"ВЫСОТА ЯЧЕЕК",684]
[null,null,"КОЛИЧЕСТВО ЯЧЕЕК",{"$f":"32*D59+30*D60+14*D61","v":32}]
[null,null,"ВЫСОТА ОДНОЙ ЯЧЕЙКИ",{"$f":"IF(D66=0,0,D65/D66)","v":21.375}]

{"sheet":"ДТ32","index":12,"n_rows":121,"n_cols":18,"rows_kept":121,"cut":false,"hidden":false,"merged":[[92,14,93,15],[90,13,91,15],[77,3,78,3],[84,6,85,6],[82,2,83,17],[79,3,80,3],[84,9,85,9],[55,10,56,12],[71,10,72,12],[71,3,72,3],[69,6,70,6],[55,3,56,3],[57,3,58,3],[59,3,60,3],[61,3,62,3],[73,3,74,3],[75,3,76,3],[61,5,62,5],[67,5,68,6],[61,8,62,9],[69,8,70,9],[59,5,60,6],[57,11,58,12],[73,11,74,12],[14,0,15,0],[16,0,17,0],[18,0,19,0],[20,0,21,0],[22,0,23,0],[24,0,25,0],[26,0,27,0],[28,0,29,0],[38,0,39,0],[40,0,41,0],[42,0,43,0],[44,0,45,0],[30,0,31,0],[32,0,33,0],[34,0,35,0],[36,0,37,0],[43,8,44,9],[49,6,50,6],[41,5,42,6],[35,4,36,6],[33,5,34,6],[35,8,36,9],[32,3,33,3],[34,3,35,3],[42,2,43,2],[37,5,38,6],[45,5,46,6],[39,4,40,6],[43,4,44,6],[47,2,48,17],[29,5,30,6],[38,3,39,3],[40,3,41,3],[98,8,99,9],[75,5,76,6],[77,5,78,5],[79,5,80,6],[77,8,78,9],[84,8,85,8],[75,7,76,9],[94,6,95,6],[96,6,97,6],[86,6,87,6],[90,6,91,6],[92,6,93,6],[88,6,89,6],[77,6,78,6],[96,11,97,12],[88,8,89,8],[86,8,87,9],[96,9,97,9],[88,9,89,9],[92,9,93,9],[90,8,91,9],[92,8,93,8],[94,8,95,9],[96,8,97,8],[88,11,89,12],[86,10,87,12],[94,10,95,12],[28,3,29,3],[40,2,41,2],[32,2,33,2],[29,13,30,15],[53,6,54,6],[71,5,72,6],[73,5,74,5],[65,6,66,6],[69,5,70,5],[73,6,74,6],[59,7,60,9],[67,7,68,9],[55,5,56,6],[57,5,58,5],[63,3,64,3],[51,7,52,9],[53,8,54,9],[65,14,66,15],[63,13,64,15],[69,3,70,3],[34,2,35,2],[36,2,37,2],[33,7,34,9],[41,7,42,9],[19,4,20,6],[25,5,26,6],[22,2,23,2],[18,2,19,2],[21,5,22,6],[24,2,25,2],[14,3,15,3],[16,3,17,3],[18,3,19,3],[20,3,21,3],[22,3,23,3],[24,3,25,3],[26,3,27,3],[0,0,0,18],[1,0,1,18],[2,0,2,18],[3,0,3,18],[9,15,9,16],[9,17,9,18],[8,0,8,3],[8,4,8,6],[9,0,9,3],[9,4,9,6],[8,15,8,16],[8,17,8,18],[9,7,9,9],[9,10,9,14],[8,7,8,9],[8,10,8,14],[105,8,105,12],[105,13,105,18],[101,2,101,4],[101,6,101,8],[101,9,101,12],[102,8,102,18],[103,8,104,12],[103,13,104,18],[26,2,27,2],[25,7,26,9],[65,3,66,3],[67,3,68,3],[49,5,50,5],[49,3,50,3],[61,6,62,6],[63,5,64,6],[65,5,66,5],[57,6,58,6],[51,3,52,3],[53,3,54,3],[51,5,52,6],[53,5,54,5],[42,3,43,3],[44,3,45,3],[12,2,13,17],[44,2,45,2],[38,2,39,2],[28,2,29,2],[30,2,31,2],[30,16,31,16],[19,8,20,9],[27,8,28,9],[17,7,18,9],[21,10,22,12],[23,4,24,6],[20,2,21,2],[16,2,17,2],[17,5,18,6],[31,14,32,15],[39,11,40,12],[37,10,38,12],[31,4,32,6],[36,3,37,3],[30,3,31,3],[27,4,28,6],[23,11,24,12],[14,2,15,2],[15,4,16,6]]}
["ДОПОЛНИТЕЛЬНЫЙ ТУРНИР ЛИЧНОГО ТУРНИРА РТТ В ОДИНОЧНОМ РАЗРЯДЕ"]
["Название турнира"]
[{"$f":"UPPER(Установка!C3)","v":"ПЕРВЕНСТВО РЕСПУБЛИКИ ТАТАРСТАН"}]
[]
[]
[]
[]
[]
["Место проведения",null,null,null,"Сроки проведения",null,null,"Возрастная группа",null,null,"Пол игроков",null,null,null,null,"Категория",null,"Класс"]
[{"$f":"UPPER(Установка!C6)","v":"КАЗАНЬ"},null,null,null,{"$f":"IF(Установка!C7=\"\",\"\",TEXT(Установка!C7,\"ДД,ММ,ГГГГ\"))","v":"18-24.11.2017."},null,null,{"$f":"UPPER(Установка!C4)","v":"9-10 ЛЕТ"},null,null,{"$f":"IF(Установка!$C$5=\"\",\"\",UPPER(Установка!$C$5))","v":"ДЕВУШКИ"},null,null,null,null,{"$f":"UPPER(Установка!D8)","v":"IV"},null,{"$f":"UPPER(Установка!E8)","v":"Б"}]
[]
[]
[null,null,"Для проигравших в 1/16 финала"]
[]
[1,null,{"$f":"IF(ПодгДТ32!$AA$7,ПодгДТ32!AA8,IF($A15=\"\",\"\",IF(AND($A15<17,$A15>=1),INDEX(ПодгДТ32!$S$8:$S$23,$A15),\"Х\")))","v":"МУТРЮКОВА"},{"$f":"IF(ПодгДТ32!$AA$7,ПодгДТ32!AB8,IF($A15=\"\",\"\",IF(AND($A15<17,$A15>=1),INDEX(ПодгДТ32!$O$8:$O$23,$A15),\"\")))","v":"А.И."}]
[null,null,null,null,{"$f":"IF(E18=0,CONCATENATE(\"поб.\",C15,\"/\",C17 ),IF(E18=1,C15,IF(E18=2,C17,\"Х\")))","v":"МУТРЮКОВА"}]
["х",null,{"$f":"IF(ПодгДТ32!$AA$7,ПодгДТ32!AA10,IF($A17=\"\",\"\",IF(AND($A17<17,$A17>=1),INDEX(ПодгДТ32!$S$8:$S$23,$A17),\"Х\")))","v":"Х"},{"$f":"IF(ПодгДТ32!$AA$7,ПодгДТ32!AB10,IF($A17=\"\",\"\",IF(AND($A17<17,$A17>=1),INDEX(ПодгДТ32!$O$8:$O$23,$A17),\"\")))","v":""}]
[null,null,null,null,1,null,null,{"$f":"IF(H20=0,CONCATENATE(\"поб.\",E16,\"/\", E20),IF(H20=1,E16,IF(H20=2,E20,\"Х\")))","v":"МУТРЮКОВА"}]
["х",null,{"$f":"IF(ПодгДТ32!$AA$7,ПодгДТ32!AA12,IF($A19=\"\",\"\",IF(AND($A19<17,$A19>=1),INDEX(ПодгДТ32!$S$8:$S$23,$A19),\"Х\")))","v":"Х"},{"$f":"IF(ПодгДТ32!$AA$7,ПодгДТ32!AB12,IF($A19=\"\",\"\",IF(AND($A19<17,$A19>=1),INDEX(ПодгДТ32!$O$8:$O$23,$A19),\"\")))","v":""}]
[null,null,null,null,{"$f":"IF(E22=0,CONCATENATE(\"поб.\",C19,\"/\",C21 ),IF(E22=1,C19,IF(E22=2,C21,\"Х\")))","v":"Х"},null,null,1]
["х",null,{"$f":"IF(ПодгДТ32!$AA$7,ПодгДТ32!AA14,IF($A21=\"\",\"\",IF(AND($A21<17,$A21>=1),INDEX(ПодгДТ32!$S$8:$S$23,$A21),\"Х\")))","v":"Х"},{"$f":"IF(ПодгДТ32!$AA$7,ПодгДТ32!AB14,IF($A21=\"\",\"\",IF(AND($A21<17,$A21>=1),INDEX(ПодгДТ32!$O$8:$O$23,$A21),\"\")))","v":""}]
[null,null,null,null,1,null,null,null,null,null,{"$f":"IF(K24=0,CONCATENATE(\"поб.\",H18,\"/\",H26 ),IF(K24=1,H18,IF(K24=2,H26,\"Х\")))","v":"МУТРЮКОВА"}]
[4,null,{"$f":"IF(ПодгДТ32!$AA$7,ПодгДТ32!AA16,IF($A23=\"\",\"\",IF(AND($A23<17,$A23>=1),INDEX(ПодгДТ32!$S$8:$S$23,$A23),\"Х\")))","v":"БАРАНОВА"},{"$f":"IF(ПодгДТ32!$AA$7,ПодгДТ32!AB16,IF($A23=\"\",\"\",IF(AND($A23<17,$A23>=1),INDEX(ПодгДТ32!$O$8:$O$23,$A23),\"\")))","v":"К.В."}]
[null,null,null,null,{"$f":"IF(E26=0,CONCATENATE(\"поб.\",C23,\"/\",C25 ),IF(E26=1,C23,IF(E26=2,C25,\"Х\")))","v":"БАРАНОВА"},null,null,null,null,null,1,"5-4(3) 4-2"]
["х",null,{"$f":"IF(ПодгДТ32!$AA$7,ПодгДТ32!AA18,IF($A25=\"\",\"\",IF(AND($A25<17,$A25>=1),INDEX(ПодгДТ32!$S$8:$S$23,$A25),\"Х\")))","v":"Х"},{"$f":"IF(ПодгДТ32!$AA$7,ПодгДТ32!AB18,IF($A25=\"\",\"\",IF(AND($A25<17,$A25>=1),INDEX(ПодгДТ32!$O$8:$O$23,$A25),\"\")))","v":""}]
[null,null,null,null,1,null,null,{"$f":"IF(H28=0,CONCATENATE(\"поб.\",E24,\"/\", E28),IF(H28=1,E24,IF(H28=2,E28,\"Х\")))","v":"БАРАНОВА"}]
[7,null,{"$f":"IF(ПодгДТ32!$AA$7,ПодгДТ32!AA20,IF($A27=\"\",\"\",IF(AND($A27<17,$A27>=1),INDEX(ПодгДТ32!$S$8:$S$23,$A27),\"Х\")))","v":"ТАРАСОВА"},{"$f":"IF(ПодгДТ32!$AA$7,ПодгДТ32!AB20,IF($A27=\"\",\"\",IF(AND($A27<17,$A27>=1),INDEX(ПодгДТ32!$O$8:$O$23,$A27),\"\")))","v":"С.С."}]
[null,null,null,null,{"$f":"IF(E30=0,CONCATENATE(\"поб.\",C27,\"/\",C29 ),IF(E30=1,C27,IF(E30=2,C29,\"Х\")))","v":"ТАРАСОВА"},null,null,1,"4-1 5-4(5)"]
["х",null,{"$f":"IF(ПодгДТ32!$AA$7,ПодгДТ32!AA22,IF($A29=\"\",\"\",IF(AND($A29<17,$A29>=1),INDEX(ПодгДТ32!$S$8:$S$23,$A29),\"Х\")))","v":"Х"},{"$f":"IF(ПодгДТ32!$AA$7,ПодгДТ32!AB22,IF($A29=\"\",\"\",IF(AND($A29<17,$A29>=1),INDEX(ПодгДТ32!$O$8:$O$23,$A29),\"\")))","v":""}]
[null,null,null,null,1,null,null,null,null,null,null,null,null,{"$f":"IF(N32=0,CONCATENATE(\"поб.\",K22,\"/\", K38),IF(N32=1,K22,IF(N32=2,K38,\"Х\")))","v":"МУТРЮКОВА"}]
[6,null,{"$f":"IF(ПодгДТ32!$AA$7,ПодгДТ32!AA24,IF($A31=\"\",\"\",IF(AND($A31<17,$A31>=1),INDEX(ПодгДТ32!$S$8:$S$23,$A31),\"Х\")))","v":"ВАРДАНЯН"},{"$f":"IF(ПодгДТ32!$AA$7,ПодгДТ32!AB24,IF($A31=\"\",\"\",IF(AND($A31<17,$A31>=1),INDEX(ПодгДТ32!$O$8:$O$23,$A31),\"\")))","v":"В.А."}]
[null,null,null,null,{"$f":"IF(E34=0,CONCATENATE(\"поб.\",C31,\"/\",C33 ),IF(E34=1,C31,IF(E34=2,C33,\"Х\")))","v":"ВАРДАНЯН"},null,null,null,null,null,null,null,null,1,"4-2 4-1"]
["х",null,{"$f":"IF(ПодгДТ32!$AA$7,ПодгДТ32!AA26,IF($A33=\"\",\"\",IF(AND($A33<17,$A33>=1),INDEX(ПодгДТ32!$S$8:$S$23,$A33),\"Х\")))","v":"Х"},{"$f":"IF(ПодгДТ32!$AA$7,ПодгДТ32!AB26,IF($A33=\"\",\"\",IF(AND($A33<17,$A33>=1),INDEX(ПодгДТ32!$O$8:$O$23,$A33),\"\")))","v":""}]
[null,null,null,null,1,null,null,{"$f":"IF(H36=0,CONCATENATE(\"поб.\",E32,\"/\", E36),IF(H36=1,E32,IF(H36=2,E36,\"Х\")))","v":"ВАРДАНЯН"}]
["х",null,{"$f":"IF(ПодгДТ32!$AA$7,ПодгДТ32!AA28,IF($A35=\"\",\"\",IF(AND($A35<17,$A35>=1),INDEX(ПодгДТ32!$S$8:$S$23,$A35),\"Х\")))","v":"Х"},{"$f":"IF(ПодгДТ32!$AA$7,ПодгДТ32!AB28,IF($A35=\"\",\"\",IF(AND($A35<17,$A35>=1),INDEX(ПодгДТ32!$O$8:$O$23,$A35),\"\")))","v":""}]
[null,null,null,null,{"$f":"IF(E38=0,CONCATENATE(\"поб.\",C35,\"/\",C37 ),IF(E38=1,C35,IF(E38=2,C37,\"Х\")))","v":"ДАВЛЕЕВА"},null,null,1,"5-3 4-1"]
[5,null,{"$f":"IF(ПодгДТ32!$AA$7,ПодгДТ32!AA30,IF($A37=\"\",\"\",IF(AND($A37<17,$A37>=1),INDEX(ПодгДТ32!$S$8:$S$23,$A37),\"Х\")))","v":"ДАВЛЕЕВА"},{"$f":"IF(ПодгДТ32!$AA$7,ПодгДТ32!AB30,IF($A37=\"\",\"\",IF(AND($A37<17,$A37>=1),INDEX(ПодгДТ32!$O$8:$O$23,$A37),\"\")))","v":"Э.О."}]
[null,null,null,null,2,null,null,null,null,null,{"$f":"IF(K40=0,CONCATENATE(\"поб.\",H34,\"/\",H42 ),IF(K40=1,H34,IF(K40=2,H42,\"Х\")))","v":"ГУРЫЛЕВА"}]
["х",null,{"$f":"IF(ПодгДТ32!$AA$7,ПодгДТ32!AA32,IF($A39=\"\",\"\",IF(AND($A39<17,$A39>=1),INDEX(ПодгДТ32!$S$8:$S$23,$A39),\"Х\")))","v":"Х"},{"$f":"IF(ПодгДТ32!$AA$7,ПодгДТ32!AB32,IF($A39=\"\",\"\",IF(AND($A39<17,$A39>=1),INDEX(ПодгДТ32!$O$8:$O$23,$A39),\"\")))","v":""}]
[null,null,null,null,{"$f":"IF(E42=0,CONCATENATE(\"поб.\",C39,\"/\",C41 ),IF(E42=1,C39,IF(E42=2,C41,\"Х\")))","v":"ЗВЕРЕВА"},null,null,null,null,null,2,"4-1 4-1"]
[3,null,{"$f":"IF(ПодгДТ32!$AA$7,ПодгДТ32!AA34,IF($A41=\"\",\"\",IF(AND($A41<17,$A41>=1),INDEX(ПодгДТ32!$S$8:$S$23,$A41),\"Х\")))","v":"ЗВЕРЕВА"},{"$f":"IF(ПодгДТ32!$AA$7,ПодгДТ32!AB34,IF($A41=\"\",\"\",IF(AND($A41<17,$A41>=1),INDEX(ПодгДТ32!$O$8:$O$23,$A41),\"\")))","v":"С.М."}]
[null,null,null,null,2,null,null,{"$f":"IF(H44=0,CONCATENATE(\"поб.\",E40,\"/\", E44),IF(H44=1,E40,IF(H44=2,E44,\"Х\")))","v":"ГУРЫЛЕВА"}]
["х",null,{"$f":"IF(ПодгДТ32!$AA$7,ПодгДТ32!AA36,IF($A43=\"\",\"\",IF(AND($A43<17,$A43>=1),INDEX(ПодгДТ32!$S$8:$S$23,$A43),\"Х\")))","v":"Х"},{"$f":"IF(ПодгДТ32!$AA$7,ПодгДТ32!AB36,IF($A43=\"\",\"\",IF(AND($A43<17,$A43>=1),INDEX(ПодгДТ32!$O$8:$O$23,$A43),\"\")))","v":""}]
[null,null,null,null,{"$f":"IF(E46=0,CONCATENATE(\"поб.\",C43,\"/\",C45 ),IF(E46=1,C43,IF(E46=2,C45,\"Х\")))","v":"ГУРЫЛЕВА"},null,null,2,"4-0 4-0"]
[2,null,{"$f":"IF(ПодгДТ32!$AA$7,ПодгДТ32!AA38,IF($A45=\"\",\"\",IF(AND($A45<17,$A45>=1),INDEX(ПодгДТ32!$S$8:$S$23,$A45),\"Х\")))","v":"ГУРЫЛЕВА"},{"$f":"IF(ПодгДТ32!$AA$7,ПодгДТ32!AB38,IF($A45=\"\",\"\",IF(AND($A45<17,$A45>=1),INDEX(ПодгДТ32!$O$8:$O$23,$A45),\"\")))","v":"В.В."}]
[null,null,null,null,2]
[]
[null,null,{"$f":"CONCATENATE(\"Для проигравших в\",ПодгДТ32!F60,\" финала\")","v":"Для проигравших в финала"}]
[]
[null,null,null,null,null,{"$f":"IF(ПодгДТ32!$AC$7,ПодгДТ32!AC8,IF($D50=\"\",\"\",IF(AND($D50<9,$D50>=1),INDEX(ПодгДТ32!$S$25:$S$32,$D50),\"Х\")))","v":""},{"$f":"IF(ПодгДТ32!$AC$7,ПодгДТ32!AD8,IF($D50=\"\",\"\",IF(AND($D50<9,$D50>=1),INDEX(ПодгДТ32!$O$25:$O$32,$D50),\"\")))","v":""}]
[]
[null,null,null,null,null,null,null,{"$f":"IF(H54=0,CONCATENATE(\"поб.\",F50,\"/\",F54 ),IF(H54=1,F50,IF(H54=2,F54,\"Х\")))","v":"поб./"}]
[]
[null,null,null,null,null,{"$f":"IF(ПодгДТ32!$AC$7,ПодгДТ32!AC12,IF($D54=\"\",\"\",IF(AND($D54<9,$D54>=1),INDEX(ПодгДТ32!$S$25:$S$32,$D54),\"Х\")))","v":""},{"$f":"IF(ПодгДТ32!$AC$7,ПодгДТ32!AD12,IF($D54=\"\",\"\",IF(AND($D54<9,$D54>=1),INDEX(ПодгДТ32!$O$25:$O$32,$D54),\"\")))","v":""}]
[]
[null,null,null,null,null,null,null,null,null,null,{"$f":"IF(K58=0,CONCATENATE(\"поб.\",H52,\"/\",H60 ),IF(K58=1,H52,IF(K58=2,H60,\"Х\")))","v":"поб.поб.//поб./"}]
[]
[null,null,null,null,null,{"$f":"IF(ПодгДТ32!$AC$7,ПодгДТ32!AC16,IF($D58=\"\",\"\",IF(AND($D58<9,$D58>=1),INDEX(ПодгДТ32!$S$25:$S$32,$D58),\"Х\")))","v":""},{"$f":"IF(ПодгДТ32!$AC$7,ПодгДТ32!AD16,IF($D58=\"\",\"\",IF(AND($D58<9,$D58>=1),INDEX(ПодгДТ32!$O$25:$O$32,$D58),\"\")))","v":""}]
[]
[null,null,null,null,null,null,null,{"$f":"IF(H62=0,CONCATENATE(\"поб.\",F58,\"/\",F62 ),IF(H62=1,F58,IF(H62=2,F62,\"Х\")))","v":"поб./"}]
[]
[null,null,null,null,null,{"$f":"IF(ПодгДТ32!$AC$7,ПодгДТ32!AC20,IF($D62=\"\",\"\",IF(AND($D62<9,$D62>=1),INDEX(ПодгДТ32!$S$25:$S$32,$D62),\"Х\")))","v":""},{"$f":"IF(ПодгДТ32!$AC$7,ПодгДТ32!AD20,IF($D62=\"\",\"\",IF(AND($D62<9,$D62>=1),INDEX(ПодгДТ32!$O$25:$O$32,$D62),\"\")))","v":""}]
[]
[null,null,null,null,null,null,null,null,null,null,null,null,null,{"$f":"IF(N66=0,CONCATENATE(\"поб.\",K56,\"/\",K72 ),IF(N66=1,K56,IF(N66=2,K72,\"Х\")))","v":"поб.поб.поб.//поб.//поб.поб.//поб./"}]
[]
[null,null,null,null,null,{"$f":"IF(ПодгДТ32!$AC$7,ПодгДТ32!AC24,IF($D66=\"\",\"\",IF(AND($D66<9,$D66>=1),INDEX(ПодгДТ32!$S$25:$S$32,$D66),\"Х\")))","v":""},{"$f":"IF(ПодгДТ32!$AC$7,ПодгДТ32!AD24,IF($D66=\"\",\"\",IF(AND($D66<9,$D66>=1),INDEX(ПодгДТ32!$O$25:$O$32,$D66),\"\")))","v":""}]
[]
[null,null,null,null,null,null,null,{"$f":"IF(H70=0,CONCATENATE(\"поб.\",F66,\"/\",F70 ),IF(H70=1,F66,IF(H70=2,F70,\"Х\")))","v":"поб./"}]
[]
[null,null,null,null,null,{"$f":"IF(ПодгДТ32!$AC$7,ПодгДТ32!AC28,IF($D70=\"\",\"\",IF(AND($D70<9,$D70>=1),INDEX(ПодгДТ32!$S$25:$S$32,$D70),\"Х\")))","v":""},{"$f":"IF(ПодгДТ32!$AC$7,ПодгДТ32!AD28,IF($D70=\"\",\"\",IF(AND($D70<9,$D70>=1),INDEX(ПодгДТ32!$O$25:$O$32,$D70),\"\")))","v":""}]
[]
[null,null,null,null,null,null,null,null,null,null,{"$f":"IF(K74=0,CONCATENATE(\"поб.\",H68,\"/\",H76 ),IF(K74=1,H68,IF(K74=2,H76,\"Х\")))","v":"поб.поб.//поб./"}]
[]
[null,null,null,null,null,{"$f":"IF(ПодгДТ32!$AC$7,ПодгДТ32!AC32,IF($D74=\"\",\"\",IF(AND($D74<9,$D74>=1),INDEX(ПодгДТ32!$S$25:$S$32,$D74),\"Х\")))","v":""},{"$f":"IF(ПодгДТ32!$AC$7,ПодгДТ32!AD32,IF($D74=\"\",\"\",IF(AND($D74<9,$D74>=1),INDEX(ПодгДТ32!$O$25:$O$32,$D74),\"\")))","v":""}]
[]
[null,null,null,null,null,null,null,{"$f":"IF(H78=0,CONCATENATE(\"поб.\",F74,\"/\",F78 ),IF(H78=1,F74,IF(H78=2,F78,\"Х\")))","v":"поб./"}]
[]
[null,null,null,null,null,{"$f":"IF(ПодгДТ32!$AC$7,ПодгДТ32!AC36,IF($D78=\"\",\"\",IF(AND($D78<9,$D78>=1),INDEX(ПодгДТ32!$S$25:$S$32,$D78),\"Х\")))","v":""},{"$f":"IF(ПодгДТ32!$AC$7,ПодгДТ32!AD36,IF($D78=\"\",\"\",IF(AND($D78<9,$D78>=1),INDEX(ПодгДТ32!$O$25:$O$32,$D78),\"\")))","v":""}]
[]
[]
[]
[]
[null,null,{"$f":"CONCATENATE(\"Для проигравших в\",ПодгДТ32!F61,\" финала\")","v":"Для проигравших в финала"}]
[]
[null,null,null,null,null,null,null,null,{"$f":"IF(ПодгДТ32!$AE$7,ПодгДТ32!AE8,IF($G85=\"\",\"\",IF(AND($G85<5,$G85>=1),INDEX(ПодгДТ32!$S$34:$S$37,$G85),\"Х\")))","v":""},{"$f":"IF(ПодгДТ32!$AE$7,ПодгДТ32!AF8,IF($G85=\"\",\"\",IF(AND($G85<5,$G85>=1),INDEX(ПодгДТ32!$O$34:$O$37,$G85),\"\")))","v":""}]
[]
[null,null,null,null,null,null,null,null,null,null,{"$f":"IF(K89=0,CONCATENATE(\"поб.\", I85,\"/\", I89),IF(K89=1,I85,IF(K89=2,I89,\"Х\")))","v":"поб./"}]
[]
[null,null,null,null,null,null,null,null,{"$f":"IF(ПодгДТ32!$AE$7,ПодгДТ32!AE12,IF($G89=\"\",\"\",IF(AND($G89<5,$G89>=1),INDEX(ПодгДТ32!$S$34:$S$37,$G89),\"Х\")))","v":""},{"$f":"IF(ПодгДТ32!$AE$7,ПодгДТ32!AF12,IF($G89=\"\",\"\",IF(AND($G89<5,$G89>=1),INDEX(ПодгДТ32!$O$34:$O$37,$G89),\"\")))","v":""}]
[]
[null,null,null,null,null,null,null,null,null,null,null,null,null,{"$f":"IF(N93=0,CONCATENATE(\"поб.\",K87,\"/\",K95 ),IF(N93=1,K87,IF(N93=2,K95,\"Х\")))","v":"поб.поб.//поб./"}]
[]
[null,null,null,null,null,null,null,null,{"$f":"IF(ПодгДТ32!$AE$7,ПодгДТ32!AE16,IF($G93=\"\",\"\",IF(AND($G93<5,$G93>=1),INDEX(ПодгДТ32!$S$34:$S$37,$G93),\"Х\")))","v":""},{"$f":"IF(ПодгДТ32!$AE$7,ПодгДТ32!AF16,IF($G93=\"\",\"\",IF(AND($G93<5,$G93>=1),INDEX(ПодгДТ32!$O$34:$O$37,$G93),\"\")))","v":""}]
[]
[null,null,null,null,null,null,null,null,null,null,{"$f":"IF(K97=0,CONCATENATE(\"поб.\", I93,\"/\", I97),IF(K97=1,I93,IF(K97=2,I97,\"Х\")))","v":"поб./"}]
[]
[null,null,null,null,null,null,null,null,{"$f":"IF(ПодгДТ32!$AE$7,ПодгДТ32!AE20,IF($G97=\"\",\"\",IF(AND($G97<5,$G97>=1),INDEX(ПодгДТ32!$S$34:$S$37,$G97),\"Х\")))","v":""},{"$f":"IF(ПодгДТ32!$AE$7,ПодгДТ32!AF20,IF($G97=\"\",\"\",IF(AND($G97<5,$G97>=1),INDEX(ПодгДТ32!$O$34:$O$37,$G97),\"\")))","v":""}]
[]
[]
[]
[]
[]
[null,null,null,null,null,null,null,null,"Главный судья"]
[null,null,null,null,null,null,null,null,null,null,null,null,null,{"$f":"UPPER(Установка!C11)","v":"СИТНИКОВ Д.В."}]
[]
[null,null,null,null,null,null,null,null,"Подпись",null,null,null,null,"Фамилия И.О."]
[]
[]
[]
[]
[]
[]
[]
[]
[]
[]
[]
[]
[]
[]
[false]

{"sheet":"ПодгДТ24","index":13,"n_rows":67,"n_cols":32,"rows_kept":67,"cut":false,"hidden":false,"merged":[[40,0,40,1],[40,3,40,4],[40,5,40,6],[37,26,38,26],[37,27,38,27],[38,0,39,1],[38,2,39,2],[38,3,39,4],[38,5,39,6],[6,0,6,6],[23,0,23,6],[32,0,32,6],[7,30,8,30],[7,31,8,31],[11,31,12,31],[15,30,16,30],[15,31,16,31],[17,30,18,30],[19,30,20,30],[19,31,20,31],[21,30,22,30],[19,27,20,27],[19,28,20,28],[19,29,20,29],[23,30,24,30],[4,0,4,1],[37,0,37,2],[37,3,37,6],[37,28,38,28],[37,29,38,29],[11,28,12,28],[11,29,12,29],[17,26,18,26],[17,27,18,27],[15,26,16,26],[15,27,16,27],[15,28,16,28],[15,29,16,29],[21,26,22,26],[21,27,22,27],[19,26,20,26],[37,30,38,30],[7,29,8,29],[0,0,0,6],[1,0,1,6],[2,0,2,6],[3,0,3,1],[9,26,10,26],[9,27,10,27],[7,26,8,26],[7,27,8,27],[7,28,8,28],[11,30,12,30],[13,26,14,26],[13,27,14,27],[11,26,12,26],[11,27,12,27],[23,26,24,26],[23,27,24,27],[23,28,24,28],[23,29,24,29],[27,30,28,30],[27,26,28,26],[27,27,28,27],[27,28,28,28],[27,29,28,29],[25,26,26,26],[25,27,26,27],[25,28,26,28],[25,29,26,29],[25,30,26,30],[29,26,30,26],[29,27,30,27],[29,28,30,28],[29,29,30,29],[29,30,30,30],[31,30,32,30],[33,26,34,26],[33,27,34,27],[33,28,34,28],[33,29,34,29],[33,30,34,30],[31,26,32,26],[31,27,32,27],[31,28,32,28],[31,29,32,29],[35,30,36,30],[35,26,36,26],[35,27,36,27],[35,28,36,28],[35,29,36,29]]}
["ЛИСТ ЗАПИСИ ИГРОКОВ НА УЧАСТИЕ В ДОПОЛНИТЕЛЬНЫХ ТУРНИРАХ\nЛИЧНОГО ТУРНИРА РТТ В ОДИНОЧНОМ РАЗРЯДЕ"]
["Название турнира"]
[{"$f":"UPPER(Установка!C3)","v":"ПЕРВЕНСТВО РЕСПУБЛИКИ ТАТАРСТАН"}]
["Место проведения",null,"Сроки проведения","Возрастная группа","Пол игроков","Категория","Класс"]
[{"$f":"UPPER(Установка!C6)","v":"КАЗАНЬ"},null,{"$f":"IF(Установка!C7=\"\",\"\",TEXT(Установка!C7,\"ДД,ММ,ГГГГ\"))","v":"18-24.11.2017."},{"$f":"UPPER(Установка!C4)","v":"9-10 ЛЕТ"},{"$f":"IF(Установка!$C$5=\"\",\"\",UPPER(Установка!$C$5))","v":"ДЕВУШКИ"},{"$f":"UPPER(Установка!D8)","v":"IV"},{"$f":"UPPER(Установка!E8)","v":"Б"}]
["№","Очки РТТ","Фамилия Имя Отчество игрока","РНИ","Дата\nрождения","Город","Подпись",null,null,null,null,null,null,null,null,1,null,null,null,null,null,null,null,null,null,null,"проигравшие в 1/16 - без жеребьевки",null,"проигравшие в 1/8 - без жеребьевки",null,"проигравшие в 1/4 - без жеребьевки"]
["ПРОИГРАВШИЕ В 1/16 ФИНАЛА",null,null,null,null,null,null,null,null,null,null,null,null,null,null,null,null,null,null,null,null,null,null,null,null,{"$f":"OR(AA7,AC7,AE7)","v":false},false,null,false,null,false]
[{"$f":"ROW()-7","v":1},null,null,null,null,null,null,null,{"$f":"LEN(C8)","v":0},{"$f":"IF((I8)=0,0,FIND(\" \",C8))","v":0},{"$f":"IF(OR(ISERR(J8),I8=0),\"\",CONCATENATE(UPPER(MID(C8,J8+1,1)),\".\"))","v":""},{"$f":"IF(LEN(C8)=0,0,FIND(\" \",C8,J8+1))","v":0},{"$f":"IF(OR(I8=0,ISERR(L8)),\"\",CONCATENATE(MID(C8,L8+1,1),\".\"))","v":""},{"$f":"IF(C8=\"\",\"\",IF(ISERR(J8),UPPER(C8),UPPER(MID(C8,1,J8-1))))","v":""},{"$f":"CONCATENATE(K8,M8)","v":""},{"$f":"IF(N8=\"\",\"\",N8)","v":""},{"$f":"IF(LEN(C8)<2,\"\",IF(ISERR(J8),\"\",IF(ISERR(L8),UPPER(MID(C8,J8,I8-J8+1)),UPPER(MID(C8,J8,L8-J8)))))","v":""},{"$f":"IF(N8=\"\",0,COUNTIF(ПодгОТ!$N$8:$N$39,N8))","v":0},{"$f":"IF(R8>1,CONCATENATE(N8,Q8),N8)","v":""},null,null,null,null,null,null,null,{"$f":"IF(ОТ24!G14=0,CONCATENATE(\"пр.\",ОТ24!D11,\"/\",ОТ24!D13),IF(ОТ24!G14=1,ОТ24!D13,IF(ОТ24!G14=2,ОТ24!D11,\"Х\")))","v":"Х"},{"$f":"IF(ОТ24!G14=0,\"\",IF(ОТ24!G14=1,ОТ24!E13,IF(ОТ24!G14=2,ОТ24!E11,\"\")))","v":""},{"$f":"IF(ОТ24!K16=0,CONCATENATE(\"пр.\",ОТ24!G12,\"/\",ОТ24!G16),IF(ОТ24!K16=1,ОТ24!G16,IF(ОТ24!K16=2,ОТ24!G12,\"Х\")))","v":"пр.КРАТЮК/поб./"},{"$f":"IF(ОТ24!K16=0,\"\",IF(ОТ24!K16=1,ОТ24!J16,IF(ОТ24!K16=2,ОТ24!J12,\"\")))","v":""},{"$f":"IF(ОТ24!O20=0,CONCATENATE(\"пр.\",ОТ24!K14,\"/\",ОТ24!K22),IF(ОТ24!O20=1,ОТ24!K22,IF(ОТ24!O20=2,ОТ24!K14,\"Х\")))","v":"пр.поб.КРАТЮК/поб.//поб.поб.//"},{"$f":"IF(ОТ24!O20=0,\"\",IF(ОТ24!O20=1,ОТ24!N22,IF(ОТ24!O20=2,ОТ24!N14,\"\")))","v":""}]
[2,null,null,null,null,null,null,null,0,0,"",0,"","","","","",{"$f":"IF(N9=\"\",0,COUNTIF(ПодгОТ!$N$8:$N$39,N9))","v":0},""]
[3,null,null,null,null,null,null,null,0,0,"",0,"","","","","",{"$f":"IF(N10=\"\",0,COUNTIF(ПодгОТ!$N$8:$N$39,N10))","v":0},"",null,null,null,null,null,null,null,{"$f":"IF(ОТ24!G18=0,CONCATENATE(\"пр.\",ОТ24!D15,\"/\",ОТ24!D17),IF(ОТ24!G18=1,ОТ24!D17,IF(ОТ24!G18=2,ОТ24!D15,\"Х\")))","v":"пр./"},{"$f":"IF(ОТ24!G18=0,\"\",IF(ОТ24!G18=1,ОТ24!E17,IF(ОТ24!G18=2,ОТ24!E15,\"\")))","v":""}]
[4,null,null,null,null,null,null,null,0,0,"",0,"","","","","",{"$f":"IF(N11=\"\",0,COUNTIF(ПодгОТ!$N$8:$N$39,N11))","v":0},""]
[5,null,null,null,null,null,null,null,0,0,"",0,"","","","","",{"$f":"IF(N12=\"\",0,COUNTIF(ПодгОТ!$N$8:$N$39,N12))","v":0},"",null,null,null,null,null,null,null,{"$f":"IF(ОТ24!G22=0,CONCATENATE(\"пр.\",ОТ24!D19,\"/\",ОТ24!D21),IF(ОТ24!G22=1,ОТ24!D21,IF(ОТ24!G22=2,ОТ24!D19,\"Х\")))","v":"пр./"},{"$f":"IF(ОТ24!G22=0,\"\",IF(ОТ24!G22=1,ОТ24!E21,IF(ОТ24!G22=2,ОТ24!E19,\"\")))","v":""},{"$f":"IF(ОТ24!K24=0,CONCATENATE(\"пр.\",ОТ24!G20,\"/\",ОТ24!G24),IF(ОТ24!K24=1,ОТ24!G24,IF(ОТ24!K24=2,ОТ24!G20,\"Х\")))","v":"пр.поб.//"},{"$f":"IF(ОТ24!K24=0,\"\",IF(ОТ24!K24=1,ОТ24!J24,IF(ОТ24!K24=2,ОТ24!J20,\"\")))","v":""},{"$f":"IF(ОТ24!O36=0,CONCATENATE(\"пр.\",ОТ24!K30,\"/\",ОТ24!K38),IF(ОТ24!O36=1,ОТ24!K38,IF(ОТ24!O36=2,ОТ24!K30,\"Х\")))","v":"пр.поб./поб.//поб.поб.//"},{"$f":"IF(ОТ24!O36=0,\"\",IF(ОТ24!O36=1,ОТ24!N38,IF(ОТ24!O36=2,ОТ24!N30,\"\")))","v":""}]
[6,null,null,null,null,null,null,null,0,0,"",0,"","","","","",{"$f":"IF(N13=\"\",0,COUNTIF(ПодгОТ!$N$8:$N$39,N13))","v":0},""]
[7,null,null,null,null,null,null,null,0,0,"",0,"","","","","",{"$f":"IF(N14=\"\",0,COUNTIF(ПодгОТ!$N$8:$N$39,N14))","v":0},"",null,null,null,null,null,null,null,{"$f":"IF(ОТ24!G26=0,CONCATENATE(\"пр.\",ОТ24!D23,\"/\",ОТ24!D25),IF(ОТ24!G26=1,ОТ24!D25,IF(ОТ24!G26=2,ОТ24!D23,\"Х\")))","v":"Х"},{"$f":"IF(ОТ24!G26=0,\"\",IF(ОТ24!G26=1,ОТ24!E25,IF(ОТ24!G26=2,ОТ24!E23,\"\")))","v":""}]
[8,null,null,null,null,null,null,null,0,0,"",0,"","","","","",{"$f":"IF(N15=\"\",0,COUNTIF(ПодгОТ!$N$8:$N$39,N15))","v":0},""]
[9,null,null,null,null,null,null,null,0,0,"",0,"","","","","",{"$f":"IF(N16=\"\",0,COUNTIF(ПодгОТ!$N$8:$N$39,N16))","v":0},"",null,null,null,null,null,null,null,{"$f":"IF(ОТ24!G30=0,CONCATENATE(\"пр.\",ОТ24!D27,\"/\",ОТ24!D29),IF(ОТ24!G30=1,ОТ24!D29,IF(ОТ24!G30=2,ОТ24!D27,\"Х\")))","v":"Х"},{"$f":"IF(ОТ24!G30=0,\"\",IF(ОТ24!G30=1,ОТ24!E29,IF(ОТ24!G30=2,ОТ24!E27,\"\")))","v":""},{"$f":"IF(ОТ24!K32=0,CONCATENATE(\"пр.\",ОТ24!G28,\"/\",ОТ24!G32),IF(ОТ24!K32=1,ОТ24!G32,IF(ОТ24!K32=2,ОТ24!G28,\"Х\")))","v":"пр./поб./"},{"$f":"IF(ОТ24!K32=0,\"\",IF(ОТ24!K32=1,ОТ24!J32,IF(ОТ24!K32=2,ОТ24!J28,\"\")))","v":""},{"$f":"IF(ОТ24!O52=0,CONCATENATE(\"пр.\",ОТ24!K46,\"/\",ОТ24!K54),IF(ОТ24!O52=1,ОТ24!K54,IF(ОТ24!O52=2,ОТ24!K46,\"Х\")))","v":"пр.поб./поб.//поб.поб.//"},{"$f":"IF(ОТ24!O52=0,\"\",IF(ОТ24!O52=1,ОТ24!N54,IF(ОТ24!O52=2,ОТ24!N46,\"\")))","v":""}]
[10,null,null,null,null,null,null,null,0,0,"",0,"","","","","",{"$f":"IF(N17=\"\",0,COUNTIF(ПодгОТ!$N$8:$N$39,N17))","v":0},""]
[11,null,null,null,null,null,null,null,0,0,"",0,"","","","","",{"$f":"IF(N18=\"\",0,COUNTIF(ПодгОТ!$N$8:$N$39,N18))","v":0},"",null,null,null,null,null,null,null,{"$f":"IF(ОТ24!G34=0,CONCATENATE(\"пр.\",ОТ24!D31,\"/\",ОТ24!D33),IF(ОТ24!G34=1,ОТ24!D33,IF(ОТ24!G34=2,ОТ24!D31,\"Х\")))","v":"пр./"},{"$f":"IF(ОТ24!G34=0,\"\",IF(ОТ24!G34=1,ОТ24!E33,IF(ОТ24!G34=2,ОТ24!E31,\"\")))","v":""}]
[12,null,null,null,null,null,null,null,0,0,"",0,"","","","","",{"$f":"IF(N19=\"\",0,COUNTIF(ПодгОТ!$N$8:$N$39,N19))","v":0},""]
[13,null,null,null,null,null,null,null,0,0,"",0,"","","","","",{"$f":"IF(N20=\"\",0,COUNTIF(ПодгОТ!$N$8:$N$39,N20))","v":0},"",null,null,null,null,null,null,null,{"$f":"IF(ОТ24!G38=0,CONCATENATE(\"пр.\",ОТ24!D35,\"/\",ОТ24!D37),IF(ОТ24!G38=1,ОТ24!D37,IF(ОТ24!G38=2,ОТ24!D35,\"Х\")))","v":"пр./"},{"$f":"IF(ОТ24!G38=0,\"\",IF(ОТ24!G38=1,ОТ24!E37,IF(ОТ24!G38=2,ОТ24!E35,\"\")))","v":""},{"$f":"IF(ОТ24!K40=0,CONCATENATE(\"пр.\",ОТ24!G36,\"/\",ОТ24!G40),IF(ОТ24!K40=1,ОТ24!G40,IF(ОТ24!K40=2,ОТ24!G36,\"Х\")))","v":"пр.поб.//"},{"$f":"IF(ОТ24!K40=0,\"\",IF(ОТ24!K40=1,ОТ24!J40,IF(ОТ24!K40=2,ОТ24!J36,\"\")))","v":""},{"$f":"IF(ОТ24!O68=0,CONCATENATE(\"пр.\",ОТ24!K62,\"/\",ОТ24!K70),IF(ОТ24!O68=1,ОТ24!K70,IF(ОТ24!O68=2,ОТ24!K62,\"Х\")))","v":"пр.поб./поб.//поб.поб.//СМИРНОВА"},{"$f":"IF(ОТ24!O68=0,\"\",IF(ОТ24!O68=1,ОТ24!N70,IF(ОТ24!O68=2,ОТ24!N62,\"\")))","v":""}]
[14,null,null,null,null,null,null,null,0,0,"",0,"","","","","",{"$f":"IF(N21=\"\",0,COUNTIF(ПодгОТ!$N$8:$N$39,N21))","v":0},""]
[15,null,null,null,null,null,null,null,0,0,"",0,"","","","","",{"$f":"IF(N22=\"\",0,COUNTIF(ПодгОТ!$N$8:$N$39,N22))","v":0},"",null,null,null,null,null,null,null,{"$f":"IF(ОТ24!G42=0,CONCATENATE(\"пр.\",ОТ24!D39,\"/\",ОТ24!D41),IF(ОТ24!G42=1,ОТ24!D41,IF(ОТ24!G42=2,ОТ24!D39,\"Х\")))","v":"Х"},{"$f":"IF(ОТ24!G42=0,\"\",IF(ОТ24!G42=1,ОТ24!E41,IF(ОТ24!G42=2,ОТ24!E39,\"\")))","v":""}]
[16,null,null,null,null,null,null,null,0,0,"",0,"","","","","",{"$f":"IF(N23=\"\",0,COUNTIF(ПодгОТ!$N$8:$N$39,N23))","v":0},""]
["ПРОИГРАВШИЕ В 1/8 ФИНАЛА",null,null,null,null,null,null,null,null,null,null,null,null,null,null,null,null,null,null,null,null,null,null,null,null,null,{"$f":"IF(ОТ24!G46=0,CONCATENATE(\"пр.\",ОТ24!D43,\"/\",ОТ24!D45),IF(ОТ24!G46=1,ОТ24!D45,IF(ОТ24!G46=2,ОТ24!D43,\"Х\")))","v":"Х"},{"$f":"IF(ОТ24!G46=0,\"\",IF(ОТ24!G46=1,ОТ24!E45,IF(ОТ24!G46=2,ОТ24!E43,\"\")))","v":""},{"$f":"IF(ОТ24!K48=0,CONCATENATE(\"пр.\",ОТ24!G44,\"/\",ОТ24!G48),IF(ОТ24!K48=1,ОТ24!G48,IF(ОТ24!K48=2,ОТ24!G44,\"Х\")))","v":"пр./поб./"},{"$f":"IF(ОТ24!K48=0,\"\",IF(ОТ24!K48=1,ОТ24!J48,IF(ОТ24!K48=2,ОТ24!J44,\"\")))","v":""}]
[{"$f":"ROW()-24","v":1},null,null,null,null,null,null,null,{"$f":"LEN(C25)","v":0},{"$f":"IF((I25)=0,0,FIND(\" \",C25))","v":0},{"$f":"IF(OR(ISERR(J25),I25=0),\"\",CONCATENATE(UPPER(MID(C25,J25+1,1)),\".\"))","v":""},{"$f":"IF(LEN(C25)=0,0,FIND(\" \",C25,J25+1))","v":0},{"$f":"IF(OR(I25=0,ISERR(L25)),\"\",CONCATENATE(MID(C25,L25+1,1),\".\"))","v":""},{"$f":"IF(C25=\"\",\"\",IF(ISERR(J25),UPPER(C25),UPPER(MID(C25,1,J25-1))))","v":""},{"$f":"CONCATENATE(K25,M25)","v":""},{"$f":"IF(N25=\"\",\"\",N25)","v":""},{"$f":"IF(LEN(C25)<2,\"\",IF(ISERR(J25),\"\",IF(ISERR(L25),UPPER(MID(C25,J25,I25-J25+1)),UPPER(MID(C25,J25,L25-J25)))))","v":""},{"$f":"IF(N25=\"\",0,COUNTIF(ПодгОТ!$N$8:$N$39,N25))","v":0},{"$f":"IF(R25>1,CONCATENATE(N25,Q25),N25)","v":""}]
[2,null,null,null,null,null,null,null,0,0,"",0,"","","","","",{"$f":"IF(N26=\"\",0,COUNTIF(ПодгОТ!$N$8:$N$39,N26))","v":0},"",null,null,null,null,null,null,null,{"$f":"IF(ОТ24!G50=0,CONCATENATE(\"пр.\",ОТ24!D47,\"/\",ОТ24!D49),IF(ОТ24!G50=1,ОТ24!D49,IF(ОТ24!G50=2,ОТ24!D47,\"Х\")))","v":"пр./"},{"$f":"IF(ОТ24!G50=0,\"\",IF(ОТ24!G50=1,ОТ24!E49,IF(ОТ24!G50=2,ОТ24!E47,\"\")))","v":""}]
[3,null,null,null,null,null,null,null,0,0,"",0,"","","","","",{"$f":"IF(N27=\"\",0,COUNTIF(ПодгОТ!$N$8:$N$39,N27))","v":0},""]
[4,null,null,null,null,null,null,null,0,0,"",0,"","","","","",{"$f":"IF(N28=\"\",0,COUNTIF(ПодгОТ!$N$8:$N$39,N28))","v":0},"",null,null,null,null,null,null,null,{"$f":"IF(ОТ24!G54=0,CONCATENATE(\"пр.\",ОТ24!D51,\"/\",ОТ24!D53),IF(ОТ24!G54=1,ОТ24!D53,IF(ОТ24!G54=2,ОТ24!D51,\"Х\")))","v":"пр./"},{"$f":"IF(ОТ24!G54=0,\"\",IF(ОТ24!G54=1,ОТ24!E53,IF(ОТ24!G54=2,ОТ24!E51,\"\")))","v":""},{"$f":"IF(ОТ24!K56=0,CONCATENATE(\"пр.\",ОТ24!G52,\"/\",ОТ24!G56),IF(ОТ24!K56=1,ОТ24!G56,IF(ОТ24!K56=2,ОТ24!G52,\"Х\")))","v":"пр.поб.//"},{"$f":"IF(ОТ24!K56=0,\"\",IF(ОТ24!K56=1,ОТ24!J56,IF(ОТ24!K56=2,ОТ24!J52,\"\")))","v":""}]
[5,null,null,null,null,null,null,null,0,0,"",0,"","","","","",{"$f":"IF(N29=\"\",0,COUNTIF(ПодгОТ!$N$8:$N$39,N29))","v":0},""]
[6,null,null,null,null,null,null,null,0,0,"",0,"","","","","",{"$f":"IF(N30=\"\",0,COUNTIF(ПодгОТ!$N$8:$N$39,N30))","v":0},"",null,null,null,null,null,null,null,{"$f":"IF(ОТ24!G58=0,CONCATENATE(\"пр.\",ОТ24!D55,\"/\",ОТ24!D57),IF(ОТ24!G58=1,ОТ24!D57,IF(ОТ24!G58=2,ОТ24!D55,\"Х\")))","v":"Х"},{"$f":"IF(ОТ24!G58=0,\"\",IF(ОТ24!G58=1,ОТ24!E57,IF(ОТ24!G58=2,ОТ24!E55,\"\")))","v":""}]
[7,null,null,null,null,null,null,null,0,0,"",0,"","","","","",{"$f":"IF(N31=\"\",0,COUNTIF(ПодгОТ!$N$8:$N$39,N31))","v":0},""]
[8,null,null,null,null,null,null,null,0,0,"",0,"","","","","",{"$f":"IF(N32=\"\",0,COUNTIF(ПодгОТ!$N$8:$N$39,N32))","v":0},"",null,null,null,null,null,null,null,{"$f":"IF(ОТ24!G62=0,CONCATENATE(\"пр.\",ОТ24!D59,\"/\",ОТ24!D61),IF(ОТ24!G62=1,ОТ24!D61,IF(ОТ24!G62=2,ОТ24!D59,\"Х\")))","v":"Х"},{"$f":"IF(ОТ24!G62=0,\"\",IF(ОТ24!G62=1,ОТ24!E61,IF(ОТ24!G62=2,ОТ24!E59,\"\")))","v":""},{"$f":"IF(ОТ24!K64=0,CONCATENATE(\"пр.\",ОТ24!G60,\"/\",ОТ24!G64),IF(ОТ24!K64=1,ОТ24!G64,IF(ОТ24!K64=2,ОТ24!G60,\"Х\")))","v":"пр./поб./"},{"$f":"IF(ОТ24!K64=0,\"\",IF(ОТ24!K64=1,ОТ24!J64,IF(ОТ24!K64=2,ОТ24!J60,\"\")))","v":""}]
["ПРОИГРАВШИЕ В 1/4 ФИНАЛА"]
[{"$f":"ROW()-33","v":1},null,null,null,null,null,null,null,{"$f":"LEN(C34)","v":0},{"$f":"IF((I34)=0,0,FIND(\" \",C34))","v":0},{"$f":"IF(OR(ISERR(J34),I34=0),\"\",CONCATENATE(UPPER(MID(C34,J34+1,1)),\".\"))","v":""},{"$f":"IF(LEN(C34)=0,0,FIND(\" \",C34,J34+1))","v":0},{"$f":"IF(OR(I34=0,ISERR(L34)),\"\",CONCATENATE(MID(C34,L34+1,1),\".\"))","v":""},{"$f":"IF(C34=\"\",\"\",IF(ISERR(J34),UPPER(C34),UPPER(MID(C34,1,J34-1))))","v":""},{"$f":"CONCATENATE(K34,M34)","v":""},{"$f":"IF(N34=\"\",\"\",N34)","v":""},{"$f":"IF(LEN(C34)<2,\"\",IF(ISERR(J34),\"\",IF(ISERR(L34),UPPER(MID(C34,J34,I34-J34+1)),UPPER(MID(C34,J34,L34-J34)))))","v":""},{"$f":"IF(N34=\"\",0,COUNTIF(ПодгОТ!$N$8:$N$39,N34))","v":0},{"$f":"IF(R34>1,CONCATENATE(N34,Q34),N34)","v":""},null,null,null,null,null,null,null,{"$f":"IF(ОТ24!G66=0,CONCATENATE(\"пр.\",ОТ24!D63,\"/\",ОТ24!D65),IF(ОТ24!G66=1,ОТ24!D65,IF(ОТ24!G66=2,ОТ24!D63,\"Х\")))","v":"пр./"},{"$f":"IF(ОТ24!G66=0,\"\",IF(ОТ24!G66=1,ОТ24!E65,IF(ОТ24!G66=2,ОТ24!E63,\"\")))","v":""}]
[{"$f":"ROW()-33","v":2},null,null,null,null,null,null,null,{"$f":"LEN(C35)","v":0},{"$f":"IF((I35)=0,0,FIND(\" \",C35))","v":0},{"$f":"IF(OR(ISERR(J35),I35=0),\"\",CONCATENATE(UPPER(MID(C35,J35+1,1)),\".\"))","v":""},{"$f":"IF(LEN(C35)=0,0,FIND(\" \",C35,J35+1))","v":0},{"$f":"IF(OR(I35=0,ISERR(L35)),\"\",CONCATENATE(MID(C35,L35+1,1),\".\"))","v":""},{"$f":"IF(C35=\"\",\"\",IF(ISERR(J35),UPPER(C35),UPPER(MID(C35,1,J35-1))))","v":""},{"$f":"CONCATENATE(K35,M35)","v":""},{"$f":"IF(N35=\"\",\"\",N35)","v":""},{"$f":"IF(LEN(C35)<2,\"\",IF(ISERR(J35),\"\",IF(ISERR(L35),UPPER(MID(C35,J35,I35-J35+1)),UPPER(MID(C35,J35,L35-J35)))))","v":""},{"$f":"IF(N35=\"\",0,COUNTIF(ПодгОТ!$N$8:$N$39,N35))","v":0},{"$f":"IF(R35>1,CONCATENATE(N35,Q35),N35)","v":""}]
[{"$f":"ROW()-33","v":3},null,null,null,null,null,null,null,{"$f":"LEN(C36)","v":0},{"$f":"IF((I36)=0,0,FIND(\" \",C36))","v":0},{"$f":"IF(OR(ISERR(J36),I36=0),\"\",CONCATENATE(UPPER(MID(C36,J36+1,1)),\".\"))","v":""},{"$f":"IF(LEN(C36)=0,0,FIND(\" \",C36,J36+1))","v":0},{"$f":"IF(OR(I36=0,ISERR(L36)),\"\",CONCATENATE(MID(C36,L36+1,1),\".\"))","v":""},{"$f":"IF(C36=\"\",\"\",IF(ISERR(J36),UPPER(C36),UPPER(MID(C36,1,J36-1))))","v":""},{"$f":"CONCATENATE(K36,M36)","v":""},{"$f":"IF(N36=\"\",\"\",N36)","v":""},{"$f":"IF(LEN(C36)<2,\"\",IF(ISERR(J36),\"\",IF(ISERR(L36),UPPER(MID(C36,J36,I36-J36+1)),UPPER(MID(C36,J36,L36-J36)))))","v":""},{"$f":"IF(N36=\"\",0,COUNTIF(ПодгОТ!$N$8:$N$39,N36))","v":0},{"$f":"IF(R36>1,CONCATENATE(N36,Q36),N36)","v":""},null,null,null,null,null,null,null,{"$f":"IF(ОТ24!G70=0,CONCATENATE(\"пр.\",ОТ24!D67,\"/\",ОТ24!D69),IF(ОТ24!G70=1,ОТ24!D69,IF(ОТ24!G70=2,ОТ24!D67,\"Х\")))","v":"пр./"},{"$f":"IF(ОТ24!G70=0,\"\",IF(ОТ24!G70=1,ОТ24!E69,IF(ОТ24!G70=2,ОТ24!E67,\"\")))","v":""},{"$f":"IF(ОТ24!K72=0,CONCATENATE(\"пр.\",ОТ24!G68,\"/\",ОТ24!G72),IF(ОТ24!K72=1,ОТ24!G72,IF(ОТ24!K72=2,ОТ24!G68,\"Х\")))","v":"пр.поб.//СМИРНОВА"},{"$f":"IF(ОТ24!K72=0,\"\",IF(ОТ24!K72=1,ОТ24!J72,IF(ОТ24!K72=2,ОТ24!J68,\"\")))","v":""}]
[{"$f":"ROW()-33","v":4},null,null,null,null,null,null,null,{"$f":"LEN(C37)","v":0},{"$f":"IF((I37)=0,0,FIND(\" \",C37))","v":0},{"$f":"IF(OR(ISERR(J37),I37=0),\"\",CONCATENATE(UPPER(MID(C37,J37+1,1)),\".\"))","v":""},{"$f":"IF(LEN(C37)=0,0,FIND(\" \",C37,J37+1))","v":0},{"$f":"IF(OR(I37=0,ISERR(L37)),\"\",CONCATENATE(MID(C37,L37+1,1),\".\"))","v":""},{"$f":"IF(C37=\"\",\"\",IF(ISERR(J37),UPPER(C37),UPPER(MID(C37,1,J37-1))))","v":""},{"$f":"CONCATENATE(K37,M37)","v":""},{"$f":"IF(N37=\"\",\"\",N37)","v":""},{"$f":"IF(LEN(C37)<2,\"\",IF(ISERR(J37),\"\",IF(ISERR(L37),UPPER(MID(C37,J37,I37-J37+1)),UPPER(MID(C37,J37,L37-J37)))))","v":""},{"$f":"IF(N37=\"\",0,COUNTIF(ПодгОТ!$N$8:$N$39,N37))","v":0},{"$f":"IF(R37>1,CONCATENATE(N37,Q37),N37)","v":""}]
["Запись закрыта",null,null,"Главный судья",null,null,null,null,null,null,null,null,null,null,null,null,null,null,null,null,null,null,null,null,null,null,{"$f":"IF(ОТ24!G74=0,CONCATENATE(\"пр.\",ОТ24!D71,\"/\",ОТ24!D73),IF(ОТ24!G74=1,ОТ24!D73,IF(ОТ24!G74=2,ОТ24!D71,\"Х\")))","v":"Х"},{"$f":"IF(ОТ24!G74=0,\"\",IF(ОТ24!G74=1,ОТ24!E73,IF(ОТ24!G74=2,ОТ24!E71,\"\")))","v":""}]
[null,null,null,null,null,{"$f":"UPPER(Установка!C11)","v":"СИТНИКОВ Д.В."}]
[]
["Дата",null,"Время","Подпись",null,"Фамилия И.О."]
[]
[]
[]
[]
[]
[]
[]
[]
[null,{"$f":"COUNTA(C8:C23)","v":0}]
[null,{"$f":"COUNTA(C25:C32)","v":0}]
[null,{"$f":"COUNTA(C34:C37)","v":0}]
[null,{"$f":"SUM(B50:B52)","v":0}]
[]
[]
[]
[]
[]
[null,"1-я секция",null,{"$f":"IF(E59,0,1)","v":1},false,{"$f":"IF(E59,\"\",\" 1/16\")","v":" 1/16"},null,{"$f":"IF(OR(F59=\"\",$D$62=D59,D60+D61=0),\"\",\",\")","v":","}]
[null,"2-я секция",null,{"$f":"IF(E60,0,1)","v":1},false,{"$f":"IF(OR(E60),\"\",\" 1/8\")","v":" 1/8"},0,{"$f":"IF(OR(F60=\"\",$D$62=D60,D61=0),\"\",\",\")","v":","}]
[null,"3-я секция",null,{"$f":"IF(E61,0,1)","v":1},false,{"$f":"IF(E61,\"\",\" 1/4\")","v":" 1/4"},1]
[null,null,null,{"$f":"SUM(D59:D61)","v":3}]
[null,null,{"$f":"CONCATENATE(F59,H59,F60,H60,F61,D63)","v":" 1/16, 1/8, 1/4 финала"}," финала"]
[]
[null,null,"ВЫСОТА ЯЧЕЕК",684]
[null,null,"КОЛИЧЕСТВО ЯЧЕЕК",{"$f":"32*D59+30*D60+14*D61","v":76}]
[null,null,"ВЫСОТА ОДНОЙ ЯЧЕЙКИ",{"$f":"IF(D66=0,0,D65/D66)","v":9}]

{"sheet":"ДТ24","index":14,"n_rows":121,"n_cols":18,"rows_kept":121,"cut":false,"hidden":false,"merged":[[8,7,8,9],[8,10,8,14],[0,0,0,18],[1,0,1,18],[2,0,2,18],[3,0,3,18],[8,15,8,16],[8,17,8,18],[105,8,105,12],[105,13,105,18],[9,15,9,16],[9,17,9,18],[8,0,8,3],[8,4,8,6],[9,0,9,3],[9,4,9,6],[9,7,9,9],[9,10,9,14],[101,2,101,4],[101,6,101,8],[101,9,101,12],[102,8,102,18],[103,8,104,12],[103,13,104,18],[12,2,13,17],[44,2,45,2],[38,2,39,2],[28,2,29,2],[30,2,31,2],[30,16,31,16],[19,8,20,9],[27,8,28,9],[40,2,41,2],[32,2,33,2],[42,2,43,2],[34,2,35,2],[36,2,37,2],[33,7,34,9],[41,7,42,9],[41,5,42,6],[35,4,36,6],[33,5,34,6],[35,8,36,9],[32,3,33,3],[34,3,35,3],[26,2,27,2],[25,7,26,9],[17,7,18,9],[21,5,22,6],[24,2,25,2],[14,3,15,3],[16,3,17,3],[29,13,30,15],[29,5,30,6],[49,5,50,5],[38,3,39,3],[40,3,41,3],[42,3,43,3],[44,3,45,3],[49,3,50,3],[31,14,32,15],[39,11,40,12],[21,10,22,12],[23,4,24,6],[20,2,21,2],[16,2,17,2],[17,5,18,6],[27,4,28,6],[23,11,24,12],[94,10,95,12],[92,14,93,15],[61,8,62,9],[57,6,58,6],[96,11,97,12],[88,8,89,8],[86,8,87,9],[96,9,97,9],[88,9,89,9],[92,9,93,9],[90,8,91,9],[92,8,93,8],[71,5,72,6],[73,5,74,5],[65,6,66,6],[69,5,70,5],[73,6,74,6],[59,7,60,9],[67,7,68,9],[61,6,62,6],[63,5,64,6],[65,5,66,5],[77,6,78,6],[69,8,70,9],[98,8,99,9],[75,5,76,6],[77,5,78,5],[79,5,80,6],[77,8,78,9],[84,8,85,8],[75,7,76,9],[18,3,19,3],[20,3,21,3],[22,3,23,3],[24,3,25,3],[26,3,27,3],[28,3,29,3],[94,8,95,9],[96,8,97,8],[36,3,37,3],[31,4,32,6],[37,5,38,6],[45,5,46,6],[39,4,40,6],[43,4,44,6],[59,5,60,6],[19,4,20,6],[25,5,26,6],[14,0,15,0],[16,0,17,0],[18,0,19,0],[20,0,21,0],[22,0,23,0],[24,0,25,0],[26,0,27,0],[94,6,95,6],[96,6,97,6],[86,6,87,6],[55,3,56,3],[57,3,58,3],[59,3,60,3],[61,3,62,3],[90,6,91,6],[92,6,93,6],[73,3,74,3],[30,3,31,3],[69,3,70,3],[69,6,70,6],[14,2,15,2],[15,4,16,6],[22,2,23,2],[18,2,19,2],[28,0,29,0],[30,0,31,0],[32,0,33,0],[34,0,35,0],[36,0,37,0],[38,0,39,0],[75,3,76,3],[55,10,56,12],[71,10,72,12],[57,11,58,12],[73,11,74,12],[37,10,38,12],[53,6,54,6],[61,5,62,5],[67,5,68,6],[53,5,54,5],[63,3,64,3],[65,3,66,3],[67,3,68,3],[55,5,56,6],[57,5,58,5],[47,2,48,17],[51,7,52,9],[51,5,52,6],[53,8,54,9],[40,0,41,0],[42,0,43,0],[44,0,45,0],[43,8,44,9],[49,6,50,6],[90,13,91,15],[77,3,78,3],[84,6,85,6],[82,2,83,17],[79,3,80,3],[84,9,85,9],[88,6,89,6],[51,3,52,3],[53,3,54,3],[71,3,72,3],[88,11,89,12],[65,14,66,15],[63,13,64,15],[86,10,87,12]]}
["ДОПОЛНИТЕЛЬНЫЙ ТУРНИР ЛИЧНОГО ТУРНИРА РТТ В ОДИНОЧНОМ РАЗРЯДЕ"]
["Название турнира"]
[{"$f":"UPPER(Установка!C3)","v":"ПЕРВЕНСТВО РЕСПУБЛИКИ ТАТАРСТАН"}]
[]
[]
[]
[]
[]
["Место проведения",null,null,null,"Сроки проведения",null,null,"Возрастная группа",null,null,"Пол игроков",null,null,null,null,"Категория",null,"Класс"]
[{"$f":"UPPER(Установка!C6)","v":"КАЗАНЬ"},null,null,null,{"$f":"IF(Установка!C7=\"\",\"\",TEXT(Установка!C7,\"ДД,ММ,ГГГГ\"))","v":"18-24.11.2017."},null,null,{"$f":"UPPER(Установка!C4)","v":"9-10 ЛЕТ"},null,null,{"$f":"IF(Установка!$C$5=\"\",\"\",UPPER(Установка!$C$5))","v":"ДЕВУШКИ"},null,null,null,null,{"$f":"UPPER(Установка!D8)","v":"IV"},null,{"$f":"UPPER(Установка!E8)","v":"Б"}]
[]
[]
[null,null,"Для проигравших в 1/16 финала"]
[]
[null,null,{"$f":"IF(ПодгДТ24!$AA$7,ПодгДТ24!AA8,IF($A15=\"\",\"\",IF(AND($A15<17,$A15>=1),INDEX(ПодгДТ24!$S$8:$S$23,$A15),\"Х\")))","v":""},{"$f":"IF(ПодгДТ24!$AA$7,ПодгДТ24!AB8,IF($A15=\"\",\"\",IF(AND($A15<17,$A15>=1),INDEX(ПодгДТ24!$O$8:$O$23,$A15),\"\")))","v":""}]
[null,null,null,null,{"$f":"IF(E18=0,CONCATENATE(\"поб.\",C15,\"/\",C17 ),IF(E18=1,C15,IF(E18=2,C17,\"Х\")))","v":"поб./"}]
[null,null,{"$f":"IF(ПодгДТ24!$AA$7,ПодгДТ24!AA10,IF($A17=\"\",\"\",IF(AND($A17<17,$A17>=1),INDEX(ПодгДТ24!$S$8:$S$23,$A17),\"Х\")))","v":""},{"$f":"IF(ПодгДТ24!$AA$7,ПодгДТ24!AB10,IF($A17=\"\",\"\",IF(AND($A17<17,$A17>=1),INDEX(ПодгДТ24!$O$8:$O$23,$A17),\"\")))","v":""}]
[null,null,null,null,null,null,null,{"$f":"IF(H20=0,CONCATENATE(\"поб.\",E16,\"/\", E20),IF(H20=1,E16,IF(H20=2,E20,\"Х\")))","v":"поб.поб.//поб./"}]
[null,null,{"$f":"IF(ПодгДТ24!$AA$7,ПодгДТ24!AA12,IF($A19=\"\",\"\",IF(AND($A19<17,$A19>=1),INDEX(ПодгДТ24!$S$8:$S$23,$A19),\"Х\")))","v":""},{"$f":"IF(ПодгДТ24!$AA$7,ПодгДТ24!AB12,IF($A19=\"\",\"\",IF(AND($A19<17,$A19>=1),INDEX(ПодгДТ24!$O$8:$O$23,$A19),\"\")))","v":""}]
[null,null,null,null,{"$f":"IF(E22=0,CONCATENATE(\"поб.\",C19,\"/\",C21 ),IF(E22=1,C19,IF(E22=2,C21,\"Х\")))","v":"поб./"}]
[null,null,{"$f":"IF(ПодгДТ24!$AA$7,ПодгДТ24!AA14,IF($A21=\"\",\"\",IF(AND($A21<17,$A21>=1),INDEX(ПодгДТ24!$S$8:$S$23,$A21),\"Х\")))","v":""},{"$f":"IF(ПодгДТ24!$AA$7,ПодгДТ24!AB14,IF($A21=\"\",\"\",IF(AND($A21<17,$A21>=1),INDEX(ПодгДТ24!$O$8:$O$23,$A21),\"\")))","v":""}]
[null,null,null,null,null,null,null,null,null,null,{"$f":"IF(K24=0,CONCATENATE(\"поб.\",H18,\"/\",H26 ),IF(K24=1,H18,IF(K24=2,H26,\"Х\")))","v":"поб.поб.поб.//поб.//поб.поб.//поб./"}]
[null,null,{"$f":"IF(ПодгДТ24!$AA$7,ПодгДТ24!AA16,IF($A23=\"\",\"\",IF(AND($A23<17,$A23>=1),INDEX(ПодгДТ24!$S$8:$S$23,$A23),\"Х\")))","v":""},{"$f":"IF(ПодгДТ24!$AA$7,ПодгДТ24!AB16,IF($A23=\"\",\"\",IF(AND($A23<17,$A23>=1),INDEX(ПодгДТ24!$O$8:$O$23,$A23),\"\")))","v":""}]
[null,null,null,null,{"$f":"IF(E26=0,CONCATENATE(\"поб.\",C23,\"/\",C25 ),IF(E26=1,C23,IF(E26=2,C25,\"Х\")))","v":"поб./"}]
[null,null,{"$f":"IF(ПодгДТ24!$AA$7,ПодгДТ24!AA18,IF($A25=\"\",\"\",IF(AND($A25<17,$A25>=1),INDEX(ПодгДТ24!$S$8:$S$23,$A25),\"Х\")))","v":""},{"$f":"IF(ПодгДТ24!$AA$7,ПодгДТ24!AB18,IF($A25=\"\",\"\",IF(AND($A25<17,$A25>=1),INDEX(ПодгДТ24!$O$8:$O$23,$A25),\"\")))","v":""}]
[null,null,null,null,null,null,null,{"$f":"IF(H28=0,CONCATENATE(\"поб.\",E24,\"/\", E28),IF(H28=1,E24,IF(H28=2,E28,\"Х\")))","v":"поб.поб.//поб./"}]
[null,null,{"$f":"IF(ПодгДТ24!$AA$7,ПодгДТ24!AA20,IF($A27=\"\",\"\",IF(AND($A27<17,$A27>=1),INDEX(ПодгДТ24!$S$8:$S$23,$A27),\"Х\")))","v":""},{"$f":"IF(ПодгДТ24!$AA$7,ПодгДТ24!AB20,IF($A27=\"\",\"\",IF(AND($A27<17,$A27>=1),INDEX(ПодгДТ24!$O$8:$O$23,$A27),\"\")))","v":""}]
[null,null,null,null,{"$f":"IF(E30=0,CONCATENATE(\"поб.\",C27,\"/\",C29 ),IF(E30=1,C27,IF(E30=2,C29,\"Х\")))","v":"поб./"}]
[null,null,{"$f":"IF(ПодгДТ24!$AA$7,ПодгДТ24!AA22,IF($A29=\"\",\"\",IF(AND($A29<17,$A29>=1),INDEX(ПодгДТ24!$S$8:$S$23,$A29),\"Х\")))","v":""},{"$f":"IF(ПодгДТ24!$AA$7,ПодгДТ24!AB22,IF($A29=\"\",\"\",IF(AND($A29<17,$A29>=1),INDEX(ПодгДТ24!$O$8:$O$23,$A29),\"\")))","v":""}]
[null,null,null,null,null,null,null,null,null,null,null,null,null,{"$f":"IF(N32=0,CONCATENATE(\"поб.\",K22,\"/\", K38),IF(N32=1,K22,IF(N32=2,K38,\"Х\")))","v":"поб.поб.поб.поб.//поб.//поб.поб.//поб.//поб.поб.поб.//поб.//поб.поб.//поб./"}]
[null,null,{"$f":"IF(ПодгДТ24!$AA$7,ПодгДТ24!AA24,IF($A31=\"\",\"\",IF(AND($A31<17,$A31>=1),INDEX(ПодгДТ24!$S$8:$S$23,$A31),\"Х\")))","v":""},{"$f":"IF(ПодгДТ24!$AA$7,ПодгДТ24!AB24,IF($A31=\"\",\"\",IF(AND($A31<17,$A31>=1),INDEX(ПодгДТ24!$O$8:$O$23,$A31),\"\")))","v":""}]
[null,null,null,null,{"$f":"IF(E34=0,CONCATENATE(\"поб.\",C31,\"/\",C33 ),IF(E34=1,C31,IF(E34=2,C33,\"Х\")))","v":"поб./"}]
[null,null,{"$f":"IF(ПодгДТ24!$AA$7,ПодгДТ24!AA26,IF($A33=\"\",\"\",IF(AND($A33<17,$A33>=1),INDEX(ПодгДТ24!$S$8:$S$23,$A33),\"Х\")))","v":""},{"$f":"IF(ПодгДТ24!$AA$7,ПодгДТ24!AB26,IF($A33=\"\",\"\",IF(AND($A33<17,$A33>=1),INDEX(ПодгДТ24!$O$8:$O$23,$A33),\"\")))","v":""}]
[null,null,null,null,null,null,null,{"$f":"IF(H36=0,CONCATENATE(\"поб.\",E32,\"/\", E36),IF(H36=1,E32,IF(H36=2,E36,\"Х\")))","v":"поб.поб.//поб./"}]
[null,null,{"$f":"IF(ПодгДТ24!$AA$7,ПодгДТ24!AA28,IF($A35=\"\",\"\",IF(AND($A35<17,$A35>=1),INDEX(ПодгДТ24!$S$8:$S$23,$A35),\"Х\")))","v":""},{"$f":"IF(ПодгДТ24!$AA$7,ПодгДТ24!AB28,IF($A35=\"\",\"\",IF(AND($A35<17,$A35>=1),INDEX(ПодгДТ24!$O$8:$O$23,$A35),\"\")))","v":""}]
[null,null,null,null,{"$f":"IF(E38=0,CONCATENATE(\"поб.\",C35,\"/\",C37 ),IF(E38=1,C35,IF(E38=2,C37,\"Х\")))","v":"поб./"}]
[null,null,{"$f":"IF(ПодгДТ24!$AA$7,ПодгДТ24!AA30,IF($A37=\"\",\"\",IF(AND($A37<17,$A37>=1),INDEX(ПодгДТ24!$S$8:$S$23,$A37),\"Х\")))","v":""},{"$f":"IF(ПодгДТ24!$AA$7,ПодгДТ24!AB30,IF($A37=\"\",\"\",IF(AND($A37<17,$A37>=1),INDEX(ПодгДТ24!$O$8:$O$23,$A37),\"\")))","v":""}]
[null,null,null,null,null,null,null,null,null,null,{"$f":"IF(K40=0,CONCATENATE(\"поб.\",H34,\"/\",H42 ),IF(K40=1,H34,IF(K40=2,H42,\"Х\")))","v":"поб.поб.поб.//поб.//поб.поб.//поб./"}]
[null,null,{"$f":"IF(ПодгДТ24!$AA$7,ПодгДТ24!AA32,IF($A39=\"\",\"\",IF(AND($A39<17,$A39>=1),INDEX(ПодгДТ24!$S$8:$S$23,$A39),\"Х\")))","v":""},{"$f":"IF(ПодгДТ24!$AA$7,ПодгДТ24!AB32,IF($A39=\"\",\"\",IF(AND($A39<17,$A39>=1),INDEX(ПодгДТ24!$O$8:$O$23,$A39),\"\")))","v":""}]
[null,null,null,null,{"$f":"IF(E42=0,CONCATENATE(\"поб.\",C39,\"/\",C41 ),IF(E42=1,C39,IF(E42=2,C41,\"Х\")))","v":"поб./"}]
[null,null,{"$f":"IF(ПодгДТ24!$AA$7,ПодгДТ24!AA34,IF($A41=\"\",\"\",IF(AND($A41<17,$A41>=1),INDEX(ПодгДТ24!$S$8:$S$23,$A41),\"Х\")))","v":""},{"$f":"IF(ПодгДТ24!$AA$7,ПодгДТ24!AB34,IF($A41=\"\",\"\",IF(AND($A41<17,$A41>=1),INDEX(ПодгДТ24!$O$8:$O$23,$A41),\"\")))","v":""}]
[null,null,null,null,null,null,null,{"$f":"IF(H44=0,CONCATENATE(\"поб.\",E40,\"/\", E44),IF(H44=1,E40,IF(H44=2,E44,\"Х\")))","v":"поб.поб.//поб./"}]
[null,null,{"$f":"IF(ПодгДТ24!$AA$7,ПодгДТ24!AA36,IF($A43=\"\",\"\",IF(AND($A43<17,$A43>=1),INDEX(ПодгДТ24!$S$8:$S$23,$A43),\"Х\")))","v":""},{"$f":"IF(ПодгДТ24!$AA$7,ПодгДТ24!AB36,IF($A43=\"\",\"\",IF(AND($A43<17,$A43>=1),INDEX(ПодгДТ24!$O$8:$O$23,$A43),\"\")))","v":""}]
[null,null,null,null,{"$f":"IF(E46=0,CONCATENATE(\"поб.\",C43,\"/\",C45 ),IF(E46=1,C43,IF(E46=2,C45,\"Х\")))","v":"поб./"}]
[null,null,{"$f":"IF(ПодгДТ24!$AA$7,ПодгДТ24!AA38,IF($A45=\"\",\"\",IF(AND($A45<17,$A45>=1),INDEX(ПодгДТ24!$S$8:$S$23,$A45),\"Х\")))","v":""},{"$f":"IF(ПодгДТ24!$AA$7,ПодгДТ24!AB38,IF($A45=\"\",\"\",IF(AND($A45<17,$A45>=1),INDEX(ПодгДТ24!$O$8:$O$23,$A45),\"\")))","v":""}]
[]
[]
[null,null,{"$f":"CONCATENATE(\"Для проигравших в\",ПодгДТ24!F60,\" финала\")","v":"Для проигравших в 1/8 финала"}]
[]
[null,null,null,null,null,{"$f":"IF(ПодгДТ24!$AC$7,ПодгДТ24!AC8,IF($D50=\"\",\"\",IF(AND($D50<9,$D50>=1),INDEX(ПодгДТ24!$S$25:$S$32,$D50),\"Х\")))","v":""},{"$f":"IF(ПодгДТ24!$AC$7,ПодгДТ24!AD8,IF($D50=\"\",\"\",IF(AND($D50<9,$D50>=1),INDEX(ПодгДТ24!$O$25:$O$32,$D50),\"\")))","v":""}]
[]
[null,null,null,null,null,null,null,{"$f":"IF(H54=0,CONCATENATE(\"поб.\",F50,\"/\",F54 ),IF(H54=1,F50,IF(H54=2,F54,\"Х\")))","v":"поб./"}]
[]
[null,null,null,null,null,{"$f":"IF(ПодгДТ24!$AC$7,ПодгДТ24!AC12,IF($D54=\"\",\"\",IF(AND($D54<9,$D54>=1),INDEX(ПодгДТ24!$S$25:$S$32,$D54),\"Х\")))","v":""},{"$f":"IF(ПодгДТ24!$AC$7,ПодгДТ24!AD12,IF($D54=\"\",\"\",IF(AND($D54<9,$D54>=1),INDEX(ПодгДТ24!$O$25:$O$32,$D54),\"\")))","v":""}]
[]
[null,null,null,null,null,null,null,null,null,null,{"$f":"IF(K58=0,CONCATENATE(\"поб.\",H52,\"/\",H60 ),IF(K58=1,H52,IF(K58=2,H60,\"Х\")))","v":"поб.поб.//поб./"}]
[]
[null,null,null,null,null,{"$f":"IF(ПодгДТ24!$AC$7,ПодгДТ24!AC16,IF($D58=\"\",\"\",IF(AND($D58<9,$D58>=1),INDEX(ПодгДТ24!$S$25:$S$32,$D58),\"Х\")))","v":""},{"$f":"IF(ПодгДТ24!$AC$7,ПодгДТ24!AD16,IF($D58=\"\",\"\",IF(AND($D58<9,$D58>=1),INDEX(ПодгДТ24!$O$25:$O$32,$D58),\"\")))","v":""}]
[]
[null,null,null,null,null,null,null,{"$f":"IF(H62=0,CONCATENATE(\"поб.\",F58,\"/\",F62 ),IF(H62=1,F58,IF(H62=2,F62,\"Х\")))","v":"поб./"}]
[]
[null,null,null,null,null,{"$f":"IF(ПодгДТ24!$AC$7,ПодгДТ24!AC20,IF($D62=\"\",\"\",IF(AND($D62<9,$D62>=1),INDEX(ПодгДТ24!$S$25:$S$32,$D62),\"Х\")))","v":""},{"$f":"IF(ПодгДТ24!$AC$7,ПодгДТ24!AD20,IF($D62=\"\",\"\",IF(AND($D62<9,$D62>=1),INDEX(ПодгДТ24!$O$25:$O$32,$D62),\"\")))","v":""}]
[]
[null,null,null,null,null,null,null,null,null,null,null,null,null,{"$f":"IF(N66=0,CONCATENATE(\"поб.\",K56,\"/\",K72 ),IF(N66=1,K56,IF(N66=2,K72,\"Х\")))","v":"поб.поб.поб.//поб.//поб.поб.//поб./"}]
[]
[null,null,null,null,null,{"$f":"IF(ПодгДТ24!$AC$7,ПодгДТ24!AC24,IF($D66=\"\",\"\",IF(AND($D66<9,$D66>=1),INDEX(ПодгДТ24!$S$25:$S$32,$D66),\"Х\")))","v":""},{"$f":"IF(ПодгДТ24!$AC$7,ПодгДТ24!AD24,IF($D66=\"\",\"\",IF(AND($D66<9,$D66>=1),INDEX(ПодгДТ24!$O$25:$O$32,$D66),\"\")))","v":""}]
[]
[null,null,null,null,null,null,null,{"$f":"IF(H70=0,CONCATENATE(\"поб.\",F66,\"/\",F70 ),IF(H70=1,F66,IF(H70=2,F70,\"Х\")))","v":"поб./"}]
[]
[null,null,null,null,null,{"$f":"IF(ПодгДТ24!$AC$7,ПодгДТ24!AC28,IF($D70=\"\",\"\",IF(AND($D70<9,$D70>=1),INDEX(ПодгДТ24!$S$25:$S$32,$D70),\"Х\")))","v":""},{"$f":"IF(ПодгДТ24!$AC$7,ПодгДТ24!AD28,IF($D70=\"\",\"\",IF(AND($D70<9,$D70>=1),INDEX(ПодгДТ24!$O$25:$O$32,$D70),\"\")))","v":""}]
[]
[null,null,null,null,null,null,null,null,null,null,{"$f":"IF(K74=0,CONCATENATE(\"поб.\",H68,\"/\",H76 ),IF(K74=1,H68,IF(K74=2,H76,\"Х\")))","v":"поб.поб.//поб./"}]
[]
[null,null,null,null,null,{"$f":"IF(ПодгДТ24!$AC$7,ПодгДТ24!AC32,IF($D74=\"\",\"\",IF(AND($D74<9,$D74>=1),INDEX(ПодгДТ24!$S$25:$S$32,$D74),\"Х\")))","v":""},{"$f":"IF(ПодгДТ24!$AC$7,ПодгДТ24!AD32,IF($D74=\"\",\"\",IF(AND($D74<9,$D74>=1),INDEX(ПодгДТ24!$O$25:$O$32,$D74),\"\")))","v":""}]
[]
[null,null,null,null,null,null,null,{"$f":"IF(H78=0,CONCATENATE(\"поб.\",F74,\"/\",F78 ),IF(H78=1,F74,IF(H78=2,F78,\"Х\")))","v":"поб./"}]
[]
[null,null,null,null,null,{"$f":"IF(ПодгДТ24!$AC$7,ПодгДТ24!AC36,IF($D78=\"\",\"\",IF(AND($D78<9,$D78>=1),INDEX(ПодгДТ24!$S$25:$S$32,$D78),\"Х\")))","v":""},{"$f":"IF(ПодгДТ24!$AC$7,ПодгДТ24!AD36,IF($D78=\"\",\"\",IF(AND($D78<9,$D78>=1),INDEX(ПодгДТ24!$O$25:$O$32,$D78),\"\")))","v":""}]
[]
[]
[]
[]
[null,null,{"$f":"CONCATENATE(\"Для проигравших в\",ПодгДТ24!F61,\" финала\")","v":"Для проигравших в 1/4 финала"}]
[]
[null,null,null,null,null,null,null,null,{"$f":"IF(ПодгДТ24!$AE$7,ПодгДТ24!AE8,IF($G85=\"\",\"\",IF(AND($G85<5,$G85>=1),INDEX(ПодгДТ24!$S$34:$S$37,$G85),\"Х\")))","v":""},{"$f":"IF(ПодгДТ24!$AE$7,ПодгДТ24!AF8,IF($G85=\"\",\"\",IF(AND($G85<5,$G85>=1),INDEX(ПодгДТ24!$O$34:$O$37,$G85),\"\")))","v":""}]
[]
[null,null,null,null,null,null,null,null,null,null,{"$f":"IF(K89=0,CONCATENATE(\"поб.\", I85,\"/\", I89),IF(K89=1,I85,IF(K89=2,I89,\"Х\")))","v":"поб./"}]
[]
[null,null,null,null,null,null,null,null,{"$f":"IF(ПодгДТ24!$AE$7,ПодгДТ24!AE12,IF($G89=\"\",\"\",IF(AND($G89<5,$G89>=1),INDEX(ПодгДТ24!$S$34:$S$37,$G89),\"Х\")))","v":""},{"$f":"IF(ПодгДТ24!$AE$7,ПодгДТ24!AF12,IF($G89=\"\",\"\",IF(AND($G89<5,$G89>=1),INDEX(ПодгДТ24!$O$34:$O$37,$G89),\"\")))","v":""}]
[]
[null,null,null,null,null,null,null,null,null,null,null,null,null,{"$f":"IF(N93=0,CONCATENATE(\"поб.\",K87,\"/\",K95 ),IF(N93=1,K87,IF(N93=2,K95,\"Х\")))","v":"поб.поб.//поб./"}]
[]
[null,null,null,null,null,null,null,null,{"$f":"IF(ПодгДТ24!$AE$7,ПодгДТ24!AE16,IF($G93=\"\",\"\",IF(AND($G93<5,$G93>=1),INDEX(ПодгДТ24!$S$34:$S$37,$G93),\"Х\")))","v":""},{"$f":"IF(ПодгДТ24!$AE$7,ПодгДТ24!AF16,IF($G93=\"\",\"\",IF(AND($G93<5,$G93>=1),INDEX(ПодгДТ24!$O$34:$O$37,$G93),\"\")))","v":""}]
[]
[null,null,null,null,null,null,null,null,null,null,{"$f":"IF(K97=0,CONCATENATE(\"поб.\", I93,\"/\", I97),IF(K97=1,I93,IF(K97=2,I97,\"Х\")))","v":"поб./"}]
[]
[null,null,null,null,null,null,null,null,{"$f":"IF(ПодгДТ24!$AE$7,ПодгДТ24!AE20,IF($G97=\"\",\"\",IF(AND($G97<5,$G97>=1),INDEX(ПодгДТ24!$S$34:$S$37,$G97),\"Х\")))","v":""},{"$f":"IF(ПодгДТ24!$AE$7,ПодгДТ24!AF20,IF($G97=\"\",\"\",IF(AND($G97<5,$G97>=1),INDEX(ПодгДТ24!$O$34:$O$37,$G97),\"\")))","v":""}]
[]
[]
[]
[]
[]
[null,null,null,null,null,null,null,null,"Главный судья"]
[null,null,null,null,null,null,null,null,null,null,null,null,null,{"$f":"UPPER(Установка!C11)","v":"СИТНИКОВ Д.В."}]
[]
[null,null,null,null,null,null,null,null,"Подпись",null,null,null,null,"Фамилия И.О."]
[]
[]
[]
[]
[]
[]
[]
[]
[]
[]
[]
[]
[]
[]
[false]

{"sheet":"ПодгДТ16","index":15,"n_rows":67,"n_cols":32,"rows_kept":67,"cut":false,"hidden":false,"merged":[[35,30,36,30],[35,26,36,26],[35,27,36,27],[31,30,32,30],[33,26,34,26],[33,27,34,27],[33,28,34,28],[33,29,34,29],[35,28,36,28],[35,29,36,29],[33,30,34,30],[31,26,32,26],[31,28,32,28],[31,29,32,29],[27,30,28,30],[29,26,30,26],[29,27,30,27],[29,28,30,28],[29,29,30,29],[29,30,30,30],[27,26,28,26],[27,27,28,27],[27,28,28,28],[27,29,28,29],[21,30,22,30],[23,30,24,30],[25,30,26,30],[23,26,24,26],[23,27,24,27],[25,26,26,26],[25,27,26,27],[25,28,26,28],[17,30,18,30],[7,28,8,28],[7,29,8,29],[7,30,8,30],[19,31,20,31],[19,30,20,30],[19,28,20,28],[19,29,20,29],[7,31,8,31],[15,30,16,30],[11,30,12,30],[11,31,12,31],[11,28,12,28],[11,29,12,29],[15,31,16,31],[15,28,16,28],[15,29,16,29],[6,0,6,6],[23,0,23,6],[32,0,32,6],[0,0,0,6],[1,0,1,6],[2,0,2,6],[3,0,3,1],[4,0,4,1],[25,29,26,29],[23,28,24,28],[23,29,24,29],[31,27,32,27],[37,28,38,28],[37,29,38,29],[37,30,38,30],[40,0,40,1],[40,3,40,4],[40,5,40,6],[37,26,38,26],[37,27,38,27],[38,0,39,1],[38,2,39,2],[38,3,39,4],[38,5,39,6],[37,0,37,2],[37,3,37,6]]}
["ЛИСТ ЗАПИСИ ИГРОКОВ НА УЧАСТИЕ В ДОПОЛНИТЕЛЬНЫХ ТУРНИРАХ\nЛИЧНОГО ТУРНИРА РТТ В ОДИНОЧНОМ РАЗРЯДЕ"]
["Название турнира"]
[{"$f":"UPPER(Установка!C3)","v":"ПЕРВЕНСТВО РЕСПУБЛИКИ ТАТАРСТАН"}]
["Место проведения",null,"Сроки проведения","Возрастная группа","Пол игроков","Категория","Класс"]
[{"$f":"UPPER(Установка!C6)","v":"КАЗАНЬ"},null,{"$f":"IF(Установка!C7=\"\",\"\",TEXT(Установка!C7,\"ДД,ММ,ГГГГ\"))","v":"18-24.11.2017."},{"$f":"UPPER(Установка!C4)","v":"9-10 ЛЕТ"},{"$f":"IF(Установка!$C$5=\"\",\"\",UPPER(Установка!$C$5))","v":"ДЕВУШКИ"},{"$f":"UPPER(Установка!D8)","v":"IV"},{"$f":"UPPER(Установка!E8)","v":"Б"}]
["№","Очки РТТ","Фамилия Имя Отчество игрока","РНИ","Дата\nрождения","Город","Подпись",null,null,null,null,null,null,null,null,1,null,null,null,null,null,null,null,null,null,null,"проигравшие в 1/16 - без жеребьевки",null,"проигравшие в 1/8 - без жеребьевки",null,"проигравшие в 1/4 - без жеребьевки"]
["ПРОИГРАВШИЕ В 1/16 ФИНАЛА",null,null,null,null,null,null,null,null,null,null,null,null,null,null,null,null,null,null,null,null,null,null,null,null,{"$f":"OR(AC7,AE7)","v":false},"ИСТИНАЛОЖЬ",null,false,null,false]
[{"$f":"ROW()-7","v":1},null,null,null,null,null,null,null,null,null,null,null,null,null,null,null,null,null,null,null,null,null,null,null,null,null,null,null,{"$f":"IF(ОТ16!G14=0,CONCATENATE(\"пр.\",ОТ16!D11,\"/\",ОТ16!D13),IF(ОТ16!G14=1,ОТ16!D13,IF(ОТ16!G14=2,ОТ16!D11,\"Х\")))","v":"пр.КРАТЮК/"},{"$f":"IF(ОТ16!G14=0,\"\",IF(ОТ16!G14=1,ОТ16!E13,IF(ОТ16!G14=2,ОТ16!E11,\"\")))","v":""},{"$f":"IF(ОТ16!K16=0,CONCATENATE(\"пр.\",ОТ16!G12,\"/\",ОТ16!G16),IF(ОТ16!K16=1,ОТ16!G16,IF(ОТ16!K16=2,ОТ16!G12,\"Х\")))","v":"пр.поб.КРАТЮК//поб./"},{"$f":"IF(ОТ16!K16=0,\"\",IF(ОТ16!K16=1,ОТ16!J16,IF(ОТ16!K16=2,ОТ16!J12,\"\")))","v":""}]
[2]
[3]
[4]
[5,null,null,null,null,null,null,null,null,null,null,null,null,null,null,null,null,null,null,null,null,null,null,null,null,null,null,null,{"$f":"IF(ОТ16!G18=0,CONCATENATE(\"пр.\",ОТ16!D15,\"/\",ОТ16!D17),IF(ОТ16!G18=1,ОТ16!D17,IF(ОТ16!G18=2,ОТ16!D15,\"Х\")))","v":"пр./"},{"$f":"IF(ОТ16!G18=0,\"\",IF(ОТ16!G18=1,ОТ16!E17,IF(ОТ16!G18=2,ОТ16!E15,\"\")))","v":""},{"$f":"IF(ОТ16!K24=0,CONCATENATE(\"пр.\",ОТ16!G20,\"/\",ОТ16!G24),IF(ОТ16!K24=1,ОТ16!G24,IF(ОТ16!K24=2,ОТ16!G20,\"Х\")))","v":"пр.поб.//поб./"},{"$f":"IF(ОТ16!K24=0,\"\",IF(ОТ16!K24=1,ОТ16!J24,IF(ОТ16!K24=2,ОТ16!J20,\"\")))","v":""}]
[6]
[7]
[8]
[9,null,null,null,null,null,null,null,null,null,null,null,null,null,null,null,null,null,null,null,null,null,null,null,null,null,null,null,{"$f":"IF(ОТ16!G22=0,CONCATENATE(\"пр.\",ОТ16!D19,\"/\",ОТ16!D21),IF(ОТ16!G22=1,ОТ16!D21,IF(ОТ16!G22=2,ОТ16!D19,\"Х\")))","v":"пр./"},{"$f":"IF(ОТ16!G22=0,\"\",IF(ОТ16!G22=1,ОТ16!E21,IF(ОТ16!G22=2,ОТ16!E19,\"\")))","v":""},{"$f":"IF(ОТ16!K32=0,CONCATENATE(\"пр.\",ОТ16!G28,\"/\",ОТ16!G32),IF(ОТ16!K32=1,ОТ16!G32,IF(ОТ16!K32=2,ОТ16!G28,\"Х\")))","v":"пр.поб.//поб./"},{"$f":"IF(ОТ16!K32=0,\"\",IF(ОТ16!K32=1,ОТ16!J32,IF(ОТ16!K32=2,ОТ16!J28,\"\")))","v":""}]
[10]
[11]
[12]
[13,null,null,null,null,null,null,null,null,null,null,null,null,null,null,null,null,null,null,null,null,null,null,null,null,null,null,null,{"$f":"IF(ОТ16!G26=0,CONCATENATE(\"пр.\",ОТ16!D23,\"/\",ОТ16!D25),IF(ОТ16!G26=1,ОТ16!D25,IF(ОТ16!G26=2,ОТ16!D23,\"Х\")))","v":"пр./"},{"$f":"IF(ОТ16!G26=0,\"\",IF(ОТ16!G26=1,ОТ16!E25,IF(ОТ16!G26=2,ОТ16!E23,\"\")))","v":""},{"$f":"IF(ОТ16!K40=0,CONCATENATE(\"пр.\",ОТ16!G36,\"/\",ОТ16!G40),IF(ОТ16!K40=1,ОТ16!G40,IF(ОТ16!K40=2,ОТ16!G36,\"Х\")))","v":"пр.поб.//поб./СМИРНОВА"},{"$f":"IF(ОТ16!K40=0,\"\",IF(ОТ16!K40=1,ОТ16!J40,IF(ОТ16!K40=2,ОТ16!J36,\"\")))","v":""}]
[14]
[15]
[16]
["ПРОИГРАВШИЕ В 1/8 ФИНАЛА",null,null,null,null,null,null,null,null,null,null,null,null,null,null,null,null,null,null,null,null,null,null,null,null,null,null,null,{"$f":"IF(ОТ16!G30=0,CONCATENATE(\"пр.\",ОТ16!D27,\"/\",ОТ16!D29),IF(ОТ16!G30=1,ОТ16!D29,IF(ОТ16!G30=2,ОТ16!D27,\"Х\")))","v":"пр./"},{"$f":"IF(ОТ16!G30=0,\"\",IF(ОТ16!G30=1,ОТ16!E29,IF(ОТ16!G30=2,ОТ16!E27,\"\")))","v":""}]
[{"$f":"ROW()-24","v":1},null,null,null,null,null,null,null,{"$f":"LEN(C25)","v":0},{"$f":"IF((I25)=0,0,FIND(\" \",C25))","v":0},{"$f":"IF(OR(ISERR(J25),I25=0),\"\",CONCATENATE(UPPER(MID(C25,J25+1,1)),\".\"))","v":""},{"$f":"IF(LEN(C25)=0,0,FIND(\" \",C25,J25+1))","v":0},{"$f":"IF(OR(I25=0,ISERR(L25)),\"\",CONCATENATE(MID(C25,L25+1,1),\".\"))","v":""},{"$f":"IF(C25=\"\",\"\",IF(ISERR(J25),UPPER(C25),UPPER(MID(C25,1,J25-1))))","v":""},{"$f":"CONCATENATE(K25,M25)","v":""},{"$f":"IF(N25=\"\",\"\",N25)","v":""},{"$f":"IF(LEN(C25)<2,\"\",IF(ISERR(J25),\"\",IF(ISERR(L25),UPPER(MID(C25,J25,I25-J25+1)),UPPER(MID(C25,J25,L25-J25)))))","v":""},{"$f":"IF(N25=\"\",0,COUNTIF(ПодгОТ!$N$8:$N$39,N25))","v":0},{"$f":"IF(R25>1,CONCATENATE(N25,Q25),N25)","v":""}]
[2,null,null,null,null,null,null,null,0,0,"",0,"","","","","",{"$f":"IF(N26=\"\",0,COUNTIF(ПодгОТ!$N$8:$N$39,N26))","v":0},""]
[3,null,null,null,null,null,null,null,0,0,"",0,"","","","","",{"$f":"IF(N27=\"\",0,COUNTIF(ПодгОТ!$N$8:$N$39,N27))","v":0},""]
[4,null,null,null,null,null,null,null,0,0,"",0,"","","","","",{"$f":"IF(N28=\"\",0,COUNTIF(ПодгОТ!$N$8:$N$39,N28))","v":0},"",null,null,null,null,null,null,null,null,null,{"$f":"IF(ОТ16!G34=0,CONCATENATE(\"пр.\",ОТ16!D31,\"/\",ОТ16!D33),IF(ОТ16!G34=1,ОТ16!D33,IF(ОТ16!G34=2,ОТ16!D31,\"Х\")))","v":"пр./"},{"$f":"IF(ОТ16!G34=0,\"\",IF(ОТ16!G34=1,ОТ16!E33,IF(ОТ16!G34=2,ОТ16!E31,\"\")))","v":""}]
[5,null,null,null,null,null,null,null,0,0,"",0,"","","","","",{"$f":"IF(N29=\"\",0,COUNTIF(ПодгОТ!$N$8:$N$39,N29))","v":0},""]
[6,null,null,null,null,null,null,null,0,0,"",0,"","","","","",{"$f":"IF(N30=\"\",0,COUNTIF(ПодгОТ!$N$8:$N$39,N30))","v":0},""]
[7,null,null,null,null,null,null,null,0,0,"",0,"","","","","",{"$f":"IF(N31=\"\",0,COUNTIF(ПодгОТ!$N$8:$N$39,N31))","v":0},""]
[8,null,null,null,null,null,null,null,0,0,"",0,"","","","","",{"$f":"IF(N32=\"\",0,COUNTIF(ПодгОТ!$N$8:$N$39,N32))","v":0},"",null,null,null,null,null,null,null,null,null,{"$f":"IF(ОТ16!G38=0,CONCATENATE(\"пр.\",ОТ16!D35,\"/\",ОТ16!D37),IF(ОТ16!G38=1,ОТ16!D37,IF(ОТ16!G38=2,ОТ16!D35,\"Х\")))","v":"пр./"},{"$f":"IF(ОТ16!G38=0,\"\",IF(ОТ16!G38=1,ОТ16!E37,IF(ОТ16!G38=2,ОТ16!E35,\"\")))","v":""}]
["ПРОИГРАВШИЕ В 1/4 ФИНАЛА"]
[{"$f":"ROW()-33","v":1},null,null,null,null,null,null,null,{"$f":"LEN(C34)","v":0},{"$f":"IF((I34)=0,0,FIND(\" \",C34))","v":0},{"$f":"IF(OR(ISERR(J34),I34=0),\"\",CONCATENATE(UPPER(MID(C34,J34+1,1)),\".\"))","v":""},{"$f":"IF(LEN(C34)=0,0,FIND(\" \",C34,J34+1))","v":0},{"$f":"IF(OR(I34=0,ISERR(L34)),\"\",CONCATENATE(MID(C34,L34+1,1),\".\"))","v":""},{"$f":"IF(C34=\"\",\"\",IF(ISERR(J34),UPPER(C34),UPPER(MID(C34,1,J34-1))))","v":""},{"$f":"CONCATENATE(K34,M34)","v":""},{"$f":"IF(N34=\"\",\"\",N34)","v":""},{"$f":"IF(LEN(C34)<2,\"\",IF(ISERR(J34),\"\",IF(ISERR(L34),UPPER(MID(C34,J34,I34-J34+1)),UPPER(MID(C34,J34,L34-J34)))))","v":""},{"$f":"IF(N34=\"\",0,COUNTIF(ПодгОТ!$N$8:$N$39,N34))","v":0},{"$f":"IF(R34>1,CONCATENATE(N34,Q34),N34)","v":""}]
[{"$f":"ROW()-33","v":2},null,null,null,null,null,null,null,{"$f":"LEN(C35)","v":0},{"$f":"IF((I35)=0,0,FIND(\" \",C35))","v":0},{"$f":"IF(OR(ISERR(J35),I35=0),\"\",CONCATENATE(UPPER(MID(C35,J35+1,1)),\".\"))","v":""},{"$f":"IF(LEN(C35)=0,0,FIND(\" \",C35,J35+1))","v":0},{"$f":"IF(OR(I35=0,ISERR(L35)),\"\",CONCATENATE(MID(C35,L35+1,1),\".\"))","v":""},{"$f":"IF(C35=\"\",\"\",IF(ISERR(J35),UPPER(C35),UPPER(MID(C35,1,J35-1))))","v":""},{"$f":"CONCATENATE(K35,M35)","v":""},{"$f":"IF(N35=\"\",\"\",N35)","v":""},{"$f":"IF(LEN(C35)<2,\"\",IF(ISERR(J35),\"\",IF(ISERR(L35),UPPER(MID(C35,J35,I35-J35+1)),UPPER(MID(C35,J35,L35-J35)))))","v":""},{"$f":"IF(N35=\"\",0,COUNTIF(ПодгОТ!$N$8:$N$39,N35))","v":0},{"$f":"IF(R35>1,CONCATENATE(N35,Q35),N35)","v":""}]
[{"$f":"ROW()-33","v":3},null,null,null,null,null,null,null,{"$f":"LEN(C36)","v":0},{"$f":"IF((I36)=0,0,FIND(\" \",C36))","v":0},{"$f":"IF(OR(ISERR(J36),I36=0),\"\",CONCATENATE(UPPER(MID(C36,J36+1,1)),\".\"))","v":""},{"$f":"IF(LEN(C36)=0,0,FIND(\" \",C36,J36+1))","v":0},{"$f":"IF(OR(I36=0,ISERR(L36)),\"\",CONCATENATE(MID(C36,L36+1,1),\".\"))","v":""},{"$f":"IF(C36=\"\",\"\",IF(ISERR(J36),UPPER(C36),UPPER(MID(C36,1,J36-1))))","v":""},{"$f":"CONCATENATE(K36,M36)","v":""},{"$f":"IF(N36=\"\",\"\",N36)","v":""},{"$f":"IF(LEN(C36)<2,\"\",IF(ISERR(J36),\"\",IF(ISERR(L36),UPPER(MID(C36,J36,I36-J36+1)),UPPER(MID(C36,J36,L36-J36)))))","v":""},{"$f":"IF(N36=\"\",0,COUNTIF(ПодгОТ!$N$8:$N$39,N36))","v":0},{"$f":"IF(R36>1,CONCATENATE(N36,Q36),N36)","v":""},null,null,null,null,null,null,null,null,null,{"$f":"IF(ОТ16!G42=0,CONCATENATE(\"пр.\",ОТ16!D39,\"/\",ОТ16!D41),IF(ОТ16!G42=1,ОТ16!D41,IF(ОТ16!G42=2,ОТ16!D39,\"Х\")))","v":"пр./СМИРНОВА"},{"$f":"IF(ОТ16!G42=0,\"\",IF(ОТ16!G42=1,ОТ16!E41,IF(ОТ16!G42=2,ОТ16!E39,\"\")))","v":""}]
[{"$f":"ROW()-33","v":4},null,null,null,null,null,null,null,{"$f":"LEN(C37)","v":0},{"$f":"IF((I37)=0,0,FIND(\" \",C37))","v":0},{"$f":"IF(OR(ISERR(J37),I37=0),\"\",CONCATENATE(UPPER(MID(C37,J37+1,1)),\".\"))","v":""},{"$f":"IF(LEN(C37)=0,0,FIND(\" \",C37,J37+1))","v":0},{"$f":"IF(OR(I37=0,ISERR(L37)),\"\",CONCATENATE(MID(C37,L37+1,1),\".\"))","v":""},{"$f":"IF(C37=\"\",\"\",IF(ISERR(J37),UPPER(C37),UPPER(MID(C37,1,J37-1))))","v":""},{"$f":"CONCATENATE(K37,M37)","v":""},{"$f":"IF(N37=\"\",\"\",N37)","v":""},{"$f":"IF(LEN(C37)<2,\"\",IF(ISERR(J37),\"\",IF(ISERR(L37),UPPER(MID(C37,J37,I37-J37+1)),UPPER(MID(C37,J37,L37-J37)))))","v":""},{"$f":"IF(N37=\"\",0,COUNTIF(ПодгОТ!$N$8:$N$39,N37))","v":0},{"$f":"IF(R37>1,CONCATENATE(N37,Q37),N37)","v":""}]
["Запись закрыта",null,null,"Главный судья"]
[null,null,null,null,null,{"$f":"UPPER(Установка!C11)","v":"СИТНИКОВ Д.В."}]
[]
["Дата",null,"Время","Подпись",null,"Фамилия И.О."]
[]
[]
[]
[]
[]
[]
[]
[]
[null,{"$f":"COUNTA(C8:C23)","v":0}]
[null,{"$f":"COUNTA(C25:C32)","v":0}]
[null,{"$f":"COUNTA(C34:C37)","v":0}]
[null,{"$f":"SUM(B50:B52)","v":0}]
[]
[]
[]
[]
[]
[null,"1-я секция",null,{"$f":"IF(E59,0,1)","v":0},true,{"$f":"IF(E59,\"\",\" 1/16\")","v":""},null,{"$f":"IF(OR(F59=\"\",$D$62=D59,D60+D61=0),\"\",\",\")","v":""}]
[null,"2-я секция",null,{"$f":"IF(E60,0,1)","v":1},false,{"$f":"IF(OR(E60),\"\",\" 1/8\")","v":" 1/8"},0,{"$f":"IF(OR(F60=\"\",$D$62=D60,D61=0),\"\",\",\")","v":","}]
[null,"3-я секция",null,{"$f":"IF(E61,0,1)","v":1},false,{"$f":"IF(E61,\"\",\" 1/4\")","v":" 1/4"},1]
[null,null,null,{"$f":"SUM(D59:D61)","v":2}]
[null,null,{"$f":"CONCATENATE(F59,H59,F60,H60,F61,D63)","v":" 1/8, 1/4 финала"}," финала"]
[]
[null,null,"ВЫСОТА ЯЧЕЕК",684]
[null,null,"КОЛИЧЕСТВО ЯЧЕЕК",{"$f":"32*D59+30*D60+14*D61","v":44}]
[null,null,"ВЫСОТА ОДНОЙ ЯЧЕЙКИ",{"$f":"IF(D66=0,0,D65/D66)","v":15.545454545454545}]

{"sheet":"ДТ16","index":16,"n_rows":121,"n_cols":18,"rows_kept":121,"cut":false,"hidden":false,"merged":[[92,14,93,15],[90,13,91,15],[77,3,78,3],[84,6,85,6],[82,2,83,17],[79,3,80,3],[84,9,85,9],[55,10,56,12],[71,10,72,12],[71,3,72,3],[69,6,70,6],[55,3,56,3],[57,3,58,3],[59,3,60,3],[61,3,62,3],[73,3,74,3],[75,3,76,3],[61,5,62,5],[67,5,68,6],[61,8,62,9],[69,8,70,9],[59,5,60,6],[57,11,58,12],[73,11,74,12],[14,0,15,0],[16,0,17,0],[18,0,19,0],[20,0,21,0],[22,0,23,0],[24,0,25,0],[26,0,27,0],[28,0,29,0],[38,0,39,0],[40,0,41,0],[42,0,43,0],[44,0,45,0],[30,0,31,0],[32,0,33,0],[34,0,35,0],[36,0,37,0],[43,8,44,9],[49,6,50,6],[41,5,42,6],[35,4,36,6],[33,5,34,6],[35,8,36,9],[32,3,33,3],[34,3,35,3],[42,2,43,2],[37,5,38,6],[45,5,46,6],[39,4,40,6],[43,4,44,6],[47,2,48,17],[29,5,30,6],[38,3,39,3],[40,3,41,3],[98,8,99,9],[75,5,76,6],[77,5,78,5],[79,5,80,6],[77,8,78,9],[84,8,85,8],[75,7,76,9],[94,6,95,6],[96,6,97,6],[86,6,87,6],[90,6,91,6],[92,6,93,6],[88,6,89,6],[77,6,78,6],[96,11,97,12],[88,8,89,8],[86,8,87,9],[96,9,97,9],[88,9,89,9],[92,9,93,9],[90,8,91,9],[92,8,93,8],[94,8,95,9],[96,8,97,8],[88,11,89,12],[86,10,87,12],[94,10,95,12],[28,3,29,3],[40,2,41,2],[32,2,33,2],[29,13,30,15],[53,6,54,6],[71,5,72,6],[73,5,74,5],[65,6,66,6],[69,5,70,5],[73,6,74,6],[59,7,60,9],[67,7,68,9],[55,5,56,6],[57,5,58,5],[63,3,64,3],[51,7,52,9],[53,8,54,9],[65,14,66,15],[63,13,64,15],[69,3,70,3],[34,2,35,2],[36,2,37,2],[33,7,34,9],[41,7,42,9],[19,4,20,6],[25,5,26,6],[22,2,23,2],[18,2,19,2],[21,5,22,6],[24,2,25,2],[14,3,15,3],[16,3,17,3],[18,3,19,3],[20,3,21,3],[22,3,23,3],[24,3,25,3],[26,3,27,3],[0,0,0,18],[1,0,1,18],[2,0,2,18],[3,0,3,18],[9,15,9,16],[9,17,9,18],[8,0,8,3],[8,4,8,6],[9,0,9,3],[9,4,9,6],[8,15,8,16],[8,17,8,18],[9,7,9,9],[9,10,9,14],[8,7,8,9],[8,10,8,14],[105,8,105,12],[105,13,105,18],[101,2,101,4],[101,6,101,8],[101,9,101,12],[102,8,102,18],[103,8,104,12],[103,13,104,18],[26,2,27,2],[25,7,26,9],[65,3,66,3],[67,3,68,3],[49,5,50,5],[49,3,50,3],[61,6,62,6],[63,5,64,6],[65,5,66,5],[57,6,58,6],[51,3,52,3],[53,3,54,3],[51,5,52,6],[53,5,54,5],[42,3,43,3],[44,3,45,3],[12,2,13,17],[44,2,45,2],[38,2,39,2],[28,2,29,2],[30,2,31,2],[30,16,31,16],[19,8,20,9],[27,8,28,9],[17,7,18,9],[21,10,22,12],[23,4,24,6],[20,2,21,2],[16,2,17,2],[17,5,18,6],[31,14,32,15],[39,11,40,12],[37,10,38,12],[31,4,32,6],[36,3,37,3],[30,3,31,3],[27,4,28,6],[23,11,24,12],[14,2,15,2],[15,4,16,6]]}
["ДОПОЛНИТЕЛЬНЫЙ ТУРНИР ЛИЧНОГО ТУРНИРА РТТ В ОДИНОЧНОМ РАЗРЯДЕ"]
["Название турнира"]
[{"$f":"UPPER(Установка!C3)","v":"ПЕРВЕНСТВО РЕСПУБЛИКИ ТАТАРСТАН"}]
[]
[]
[]
[]
[]
["Место проведения",null,null,null,"Сроки проведения",null,null,"Возрастная группа",null,null,"Пол игроков",null,null,null,null,"Категория",null,"Класс"]
[{"$f":"UPPER(Установка!C6)","v":"КАЗАНЬ"},null,null,null,{"$f":"IF(Установка!C7=\"\",\"\",TEXT(Установка!C7,\"ДД,ММ,ГГГГ\"))","v":"18-24.11.2017."},null,null,{"$f":"UPPER(Установка!C4)","v":"9-10 ЛЕТ"},null,null,{"$f":"IF(Установка!$C$5=\"\",\"\",UPPER(Установка!$C$5))","v":"ДЕВУШКИ"},null,null,null,null,{"$f":"UPPER(Установка!D8)","v":"IV"},null,{"$f":"UPPER(Установка!E8)","v":"Б"}]
[]
[]
[null,null,"Для проигравших в 1/16 финала"]
[]
[]
[]
[]
[]
[]
[]
[]
[]
[]
[]
[]
[]
[]
[]
[]
[]
[]
[]
[]
[]
[]
[]
[]
[]
[]
[]
[]
[]
[]
[]
[]
[]
[]
[null,null,{"$f":"CONCATENATE(\"Для проигравших в\",ПодгДТ16!F60,\" финала\")","v":"Для проигравших в 1/8 финала"}]
[]
[null,null,null,null,null,{"$f":"IF(ПодгДТ16!$AC$7,ПодгДТ16!AC8,IF($D50=\"\",\"\",IF(AND($D50<9,$D50>=1),INDEX(ПодгДТ16!$S$25:$S$32,$D50),\"Х\")))","v":""},{"$f":"IF(ПодгДТ16!$AC$7,ПодгДТ16!AD8,IF($D50=\"\",\"\",IF(AND($D50<9,$D50>=1),INDEX(ПодгДТ16!$O$25:$O$32,$D50),\"\")))","v":""}]
[]
[null,null,null,null,null,null,null,{"$f":"IF(H54=0,CONCATENATE(\"поб.\",F50,\"/\",F54 ),IF(H54=1,F50,IF(H54=2,F54,\"Х\")))","v":"поб./"}]
[]
[null,null,null,null,null,{"$f":"IF(ПодгДТ16!$AC$7,ПодгДТ16!AC12,IF($D54=\"\",\"\",IF(AND($D54<9,$D54>=1),INDEX(ПодгДТ16!$S$25:$S$32,$D54),\"Х\")))","v":""},{"$f":"IF(ПодгДТ16!$AC$7,ПодгДТ16!AD12,IF($D54=\"\",\"\",IF(AND($D54<9,$D54>=1),INDEX(ПодгДТ16!$O$25:$O$32,$D54),\"\")))","v":""}]
[]
[null,null,null,null,null,null,null,null,null,null,{"$f":"IF(K58=0,CONCATENATE(\"поб.\",H52,\"/\",H60 ),IF(K58=1,H52,IF(K58=2,H60,\"Х\")))","v":"поб.поб.//поб./"}]
[]
[null,null,null,null,null,{"$f":"IF(ПодгДТ16!$AC$7,ПодгДТ16!AC16,IF($D58=\"\",\"\",IF(AND($D58<9,$D58>=1),INDEX(ПодгДТ16!$S$25:$S$32,$D58),\"Х\")))","v":""},{"$f":"IF(ПодгДТ16!$AC$7,ПодгДТ16!AD16,IF($D58=\"\",\"\",IF(AND($D58<9,$D58>=1),INDEX(ПодгДТ16!$O$25:$O$32,$D58),\"\")))","v":""}]
[]
[null,null,null,null,null,null,null,{"$f":"IF(H62=0,CONCATENATE(\"поб.\",F58,\"/\",F62 ),IF(H62=1,F58,IF(H62=2,F62,\"Х\")))","v":"поб./"}]
[]
[null,null,null,null,null,{"$f":"IF(ПодгДТ16!$AC$7,ПодгДТ16!AC20,IF($D62=\"\",\"\",IF(AND($D62<9,$D62>=1),INDEX(ПодгДТ16!$S$25:$S$32,$D62),\"Х\")))","v":""},{"$f":"IF(ПодгДТ16!$AC$7,ПодгДТ16!AD20,IF($D62=\"\",\"\",IF(AND($D62<9,$D62>=1),INDEX(ПодгДТ16!$O$25:$O$32,$D62),\"\")))","v":""}]
[]
[null,null,null,null,null,null,null,null,null,null,null,null,null,{"$f":"IF(N66=0,CONCATENATE(\"поб.\",K56,\"/\",K72 ),IF(N66=1,K56,IF(N66=2,K72,\"Х\")))","v":"поб.поб.поб.//поб.//поб.поб.//поб./"}]
[]
[null,null,null,null,null,{"$f":"IF(ПодгДТ16!$AC$7,ПодгДТ16!AC24,IF($D66=\"\",\"\",IF(AND($D66<9,$D66>=1),INDEX(ПодгДТ16!$S$25:$S$32,$D66),\"Х\")))","v":""},{"$f":"IF(ПодгДТ16!$AC$7,ПодгДТ16!AD24,IF($D66=\"\",\"\",IF(AND($D66<9,$D66>=1),INDEX(ПодгДТ16!$O$25:$O$32,$D66),\"\")))","v":""}]
[]
[null,null,null,null,null,null,null,{"$f":"IF(H70=0,CONCATENATE(\"поб.\",F66,\"/\",F70 ),IF(H70=1,F66,IF(H70=2,F70,\"Х\")))","v":"поб./"}]
[]
[null,null,null,null,null,{"$f":"IF(ПодгДТ16!$AC$7,ПодгДТ16!AC28,IF($D70=\"\",\"\",IF(AND($D70<9,$D70>=1),INDEX(ПодгДТ16!$S$25:$S$32,$D70),\"Х\")))","v":""},{"$f":"IF(ПодгДТ16!$AC$7,ПодгДТ16!AD28,IF($D70=\"\",\"\",IF(AND($D70<9,$D70>=1),INDEX(ПодгДТ16!$O$25:$O$32,$D70),\"\")))","v":""}]
[]
[null,null,null,null,null,null,null,null,null,null,{"$f":"IF(K74=0,CONCATENATE(\"поб.\",H68,\"/\",H76 ),IF(K74=1,H68,IF(K74=2,H76,\"Х\")))","v":"поб.поб.//поб./"}]
[]
[null,null,null,null,null,{"$f":"IF(ПодгДТ16!$AC$7,ПодгДТ16!AC32,IF($D74=\"\",\"\",IF(AND($D74<9,$D74>=1),INDEX(ПодгДТ16!$S$25:$S$32,$D74),\"Х\")))","v":""},{"$f":"IF(ПодгДТ16!$AC$7,ПодгДТ16!AD32,IF($D74=\"\",\"\",IF(AND($D74<9,$D74>=1),INDEX(ПодгДТ16!$O$25:$O$32,$D74),\"\")))","v":""}]
[]
[null,null,null,null,null,null,null,{"$f":"IF(H78=0,CONCATENATE(\"поб.\",F74,\"/\",F78 ),IF(H78=1,F74,IF(H78=2,F78,\"Х\")))","v":"поб./"}]
[]
[null,null,null,null,null,{"$f":"IF(ПодгДТ16!$AC$7,ПодгДТ16!AC36,IF($D78=\"\",\"\",IF(AND($D78<9,$D78>=1),INDEX(ПодгДТ16!$S$25:$S$32,$D78),\"Х\")))","v":""},{"$f":"IF(ПодгДТ16!$AC$7,ПодгДТ16!AD36,IF($D78=\"\",\"\",IF(AND($D78<9,$D78>=1),INDEX(ПодгДТ16!$O$25:$O$32,$D78),\"\")))","v":""}]
[]
[]
[]
[]
[null,null,{"$f":"CONCATENATE(\"Для проигравших в\",ПодгДТ16!F61,\" финала\")","v":"Для проигравших в 1/4 финала"}]
[]
[null,null,null,null,null,null,null,null,{"$f":"IF(ПодгДТ16!$AE$7,ПодгДТ16!AE8,IF($G85=\"\",\"\",IF(AND($G85<5,$G85>=1),INDEX(ПодгДТ16!$S$34:$S$37,$G85),\"Х\")))","v":""},{"$f":"IF(ПодгДТ16!$AE$7,ПодгДТ16!AF8,IF($G85=\"\",\"\",IF(AND($G85<5,$G85>=1),INDEX(ПодгДТ16!$O$34:$O$37,$G85),\"\")))","v":""}]
[]
[null,null,null,null,null,null,null,null,null,null,{"$f":"IF(K89=0,CONCATENATE(\"поб.\", I85,\"/\", I89),IF(K89=1,I85,IF(K89=2,I89,\"Х\")))","v":"поб./"}]
[]
[null,null,null,null,null,null,null,null,{"$f":"IF(ПодгДТ16!$AE$7,ПодгДТ16!AE12,IF($G89=\"\",\"\",IF(AND($G89<5,$G89>=1),INDEX(ПодгДТ16!$S$34:$S$37,$G89),\"Х\")))","v":""},{"$f":"IF(ПодгДТ16!$AE$7,ПодгДТ16!AF12,IF($G89=\"\",\"\",IF(AND($G89<5,$G89>=1),INDEX(ПодгДТ16!$O$34:$O$37,$G89),\"\")))","v":""}]
[]
[null,null,null,null,null,null,null,null,null,null,null,null,null,{"$f":"IF(N93=0,CONCATENATE(\"поб.\",K87,\"/\",K95 ),IF(N93=1,K87,IF(N93=2,K95,\"Х\")))","v":"поб.поб.//поб./"}]
[]
[null,null,null,null,null,null,null,null,{"$f":"IF(ПодгДТ16!$AE$7,ПодгДТ16!AE16,IF($G93=\"\",\"\",IF(AND($G93<5,$G93>=1),INDEX(ПодгДТ16!$S$34:$S$37,$G93),\"Х\")))","v":""},{"$f":"IF(ПодгДТ16!$AE$7,ПодгДТ16!AF16,IF($G93=\"\",\"\",IF(AND($G93<5,$G93>=1),INDEX(ПодгДТ16!$O$34:$O$37,$G93),\"\")))","v":""}]
[]
[null,null,null,null,null,null,null,null,null,null,{"$f":"IF(K97=0,CONCATENATE(\"поб.\", I93,\"/\", I97),IF(K97=1,I93,IF(K97=2,I97,\"Х\")))","v":"поб./"}]
[]
[null,null,null,null,null,null,null,null,{"$f":"IF(ПодгДТ16!$AE$7,ПодгДТ16!AE20,IF($G97=\"\",\"\",IF(AND($G97<5,$G97>=1),INDEX(ПодгДТ16!$S$34:$S$37,$G97),\"Х\")))","v":""},{"$f":"IF(ПодгДТ16!$AE$7,ПодгДТ16!AF20,IF($G97=\"\",\"\",IF(AND($G97<5,$G97>=1),INDEX(ПодгДТ16!$O$34:$O$37,$G97),\"\")))","v":""}]
[]
[]
[]
[]
[]
[null,null,null,null,null,null,null,null,"Главный судья"]
[null,null,null,null,null,null,null,null,null,null,null,null,null,{"$f":"UPPER(Установка!C11)","v":"СИТНИКОВ Д.В."}]
[]
[null,null,null,null,null,null,null,null,"Подпись",null,null,null,null,"Фамилия И.О."]
[]
[]
[]
[]
[]
[]
[]
[]
[]
[]
[]
[]
[]
[]
[false]

{"sheet":"Алфавитный список","index":17,"n_rows":210,"n_cols":9,"rows_kept":210,"cut":false,"hidden":false,"merged":[[82,0,82,8],[81,0,81,8],[77,7,78,8],[79,7,79,8],[5,4,5,5],[6,4,7,5],[77,6,78,6],[76,6,76,8],[9,4,10,4],[5,2,5,3],[6,0,7,1],[5,0,5,1],[9,1,10,3],[9,5,10,5],[6,6,7,6],[9,6,10,6],[1,0,1,8],[9,8,10,8],[3,0,3,8],[4,5,4,6],[9,0,10,0],[6,7,7,7],[6,8,7,8],[2,0,2,8]]}
[]
["АЛФАВИТНЫЙ СПИСОК ИГРОКОВ ЛИЧНОГО ТУРНИРА РТТ В ОДИНОЧНОМ РАЗРЯДЕ"]
["Название турнира"]
[{"$f":"UPPER(Установка!C3)","v":"ПЕРВЕНСТВО РЕСПУБЛИКИ ТАТАРСТАН"}]
[]
["Место проведения",null,"Сроки проведения",null,"Возрастная группа",null,"Пол игроков","Категория","Класс"]
[{"$f":"UPPER(Установка!C6)","v":"КАЗАНЬ"},null,"ОТ:",{"$f":"IF(Установка!C7=\"\",\"\",TEXT(Установка!C7,\"ДД,ММ,ГГГГ\"))","v":"18-24.11.2017."},{"$f":"UPPER(Установка!C4)","v":"9-10 ЛЕТ"},null,{"$f":"IF(Установка!$C$5=\"\",\"Ю/Д/М/Ж\",UPPER(Установка!$C$5))","v":"ДЕВУШКИ"},{"$f":"UPPER(Установка!D8)","v":"IV"},{"$f":"UPPER(Установка!E8)","v":"Б"}]
[null,null,"ОЭ:","-"]
[]
["№\nп/п                ","Фамилия, имя, отчество игрока",null,null,"РНИ","Дата рождения\n(день, месяц, год)","Город, страна\nпостоянного места\nжительства","Классифи-\nкационные\nочки РТТ на","Участие в ОТ\nили ОЭ"]
[null,null,null,null,null,null,null,{"$f":"IF(Установка!C10=\"\",\"\",Установка!C10)","v":"06.11.2017."}]
[1,"Агеева Тея Артуровна",null,null,35866,"2007-08-31","Казань",47,"ОТ"]
[{"$f":"A12+1","v":2},"Ахметова Лейла Ильдаровна",null,null,35481,"2007-11-15","Казань",74,"ОТ"]
[{"$f":"A13+1","v":3},"Баранова Ксения Викторовна",null,null,35679,"2007-07-01","Казань",30,"ОТ"]
[4,"Варданян Ванесса Аркадьевна",null,null,38200,"2008-04-28","Киров",11,"ОТ"]
[5,"Гаврилова Мария Андреевна",null,null,36120,"2007-02-07","Саратов",96,"ОТ"]
[6,"Гатина Анжелина Айратовна",null,null,35699,"2007-04-18","Казань",53,"ОТ"]
[7,"Гафурова Камелия Марсельевна",null,null,35478,"2007-12-06","Казань",42,"ОТ"]
[8,"Гурылева Влада Владиславовна",null,null,37974,"2008-06-27","Казань",33,"ОТ"]
[9,"Давлеева Элина Оскаровна",null,null,36341,"2007-10-04","Казань",20,"ОТ"]
[10,"Егорова Алина Андреевна",null,null,35477,"2007-01-26","Казань",96,"ОТ"]
[11,"Егорова Таисия Андреевна",null,null,36167,"2007-10-25","Казань",40,"ОТ"]
[12,"Ермолаева Лейла Владимировна",null,null,37817,"2008-08-31","Тольятти",37,"ОТ"]
[13,"Закирова Аделя Нуриевна",null,null,35639,"2007-06-24","Казань",19,"ОТ"]
[14,"Зверева София Михайловна",null,null,39463,"2007-03-13","Киров",3,"ОТ"]
[15,"Кац Эмилия Вадимовна",null,null,38531,"2008-12-07","Нижний Новгород",64,"ОТ"]
[16,"Кратюк Полина Антоновна",null,null,35254,"2007-06-09","Казань",228,"ОТ"]
[17,"Леонова Элина Константиновна",null,null,38589,"2007-04-03","Елабуга",0,"ОТ"]
[18,"Лизунова Анастасия Алексеевна",null,null,37861,"2008-11-18","Казань",79,"ОТ"]
[19,"Макарова Марта-Мария Львовна",null,null,38201,"2008-01-25","Киров",66,"ОТ"]
[20,"Мутрюкова Агния Игоревна",null,null,35479,"2007-01-03","Казань",47,"ОТ"]
[21,"Нигмедзянова Камилла Ильдаровна",null,null,38291,"2008-08-04","Казань",38,"ОТ"]
[22,"Раевская Анастасия Артемовна",null,null,35448,"2007-12-07","Казань",75,"ОТ"]
[23,"Седова Виктория Денисовна",null,null,37788,"2008-03-15","Высокая Гора",107,"ОТ"]
[24,"Смирнова Стефания Алексеевна",null,null,35475,"2007-03-27","Казань",112,"ОТ"]
[25,"Тарасова Софья Сергеевна",null,null,39542,"2008-09-16","Самара",0,"ОТ"]
[26,"Харламова Софья Алексеевна",null,null,39019,"2007-07-27","Казань",40,"ОТ"]
[27,"Шафигуллина Камиля Айдаровна",null,null,35474,"2007-04-17","Казань",109,"ОТ"]
[28]
[29]
[30]
[31]
[32]
[33]
[34]
[35]
[36]
[37]
[38]
[39]
[40]
[41]
[42]
[43]
[44]
[45]
[46]
[47]
[48]
[49]
[50]
[51]
[52]
[53]
[54]
[55]
[56]
[57]
[58]
[59]
[60]
[61]
[62]
[63]
[64]
[]
[null,null,null,null,null,null,"Главный судья"]
[null,null,null,null,null,null,null,{"$f":"UPPER(Установка!C11)","v":"СИТНИКОВ Д.В."}]
[]
[null,null,null,null,null,null,"Подпись","Фамилия И.О."]
[]
[]
[]
[]
[]
[]
[]
[]
[]
[]
[null,{"$f":"COUNTA(B12:B75)","v":27}]
[]
[]
[]
[]
[]
[]
[]
[]
[]
[]
[]
[]
[]
[]
[]
[]
[]
[]
[]
[]
[]
[]
[]
[]
[]
[]
[]
[]
[]
[]
[]
[]
[]
[]
[]
[]
[]
[]
[]
[]
[]
[]
[]
[]
[]
[]
[]
[]
[]
[]
[]
[]
[]
[]
[]
[]
[]
[]
[]
[]
[]
[]
[]
[]
[]
[]
[]
[]
[]
[]
[]
[]
[]
[]
[]
[]
[]
[]
[]
[]
[]
[]
[]
[]
[]
[]
[]
[]
[]
[]
[]
[]
[]
[]
[]
[]
[]
[]
[]
[]
[]
[]
[]
[]
[]
[]
[]
[]
[]
[]
[]
[]
["ВЗРОСЛЫЕ",{"$f":"IF($E$7=\"ВЗРОСЛЫЕ\",\"МУЖЧИНЫ\",IF($E$7=\"ДО 19 ЛЕТ\",\"ЮНИОРЫ\",\"ЮНОШИ\"))","v":"ЮНОШИ"},"ФТ","-"]
["ДО 19 ЛЕТ",{"$f":"IF($E$7=\"ВЗРОСЛЫЕ\",\"ЖЕНЩИНЫ\",IF($E$7=\"ДО 19 ЛЕТ\",\"ЮНИОРКИ\",\"ДЕВУШКИ\"))","v":"ДЕВУШКИ"},"I","А"]
["ДО 17 ЛЕТ",null,"II","Б"]
["ДО 15 ЛЕТ",null,"III","В"]
["ДО 13 ЛЕТ",null,"IV","Г"]
["9-10 ЛЕТ",null,"V"]
[null,null,"VI"]

{"sheet":"Неявки","index":18,"n_rows":57,"n_cols":6,"rows_kept":57,"cut":false,"hidden":false,"merged":[[0,0,0,5],[1,0,1,5],[2,0,2,5],[3,0,3,5]]}
["НЕЯВКА ИГРОКА НА ТУРНИР РТТ. "]
[]
[{"$f":"UPPER(Установка!C3)","v":"ПЕРВЕНСТВО РЕСПУБЛИКИ ТАТАРСТАН"}]
["название турнира"]
["№","РНИ","Фамилия И.О. игрока","Город","Дата отказа от турнира или неявки на турнир","Нарушение"]
[{"$f":"ROW()-5","v":1},36614,"ШАПАЕВА О.И.","Казань","2017-11-19","Неявка игрока в день регистрации ОТ"]
[{"$f":"ROW()-5","v":2},37916,"СЕНЦОВА К.М.","Самара","2017-11-19","Неявка игрока в день регистрации ОТ"]
[3]
[4]
[5]
[6]
[7]
[8]
[9]
[10]
[11]
[{"$f":"ROW()-5","v":12}]
[13]
[14]
[15]
[16]
[17]
[18]
[19]
[20]
[21]
[{"$f":"ROW()-5","v":22}]
[23]
[24]
[25]
[26]
[27]
[28]
[29]
[30]
[31]
[{"$f":"ROW()-5","v":32}]
[33]
[34]
[35]
[36]
[37]
[38]
[39]
[40]
[41]
[42]
[43]
[44]
[45]
[46]
[47]
[48]
[49]
[50]
[]
[null,null,{"$f":"50-COUNTIF(C6:C55,\"\")","v":2},null,{"$f":"TODAY()","v":"2017-11-24"}]